Workbook
Name _VV3512: #REF!
Name _VV3512: #REF!
Name Listenname: [1]A!$L$1:$L$4
Name Listenname: Krankheitskosten!$B$9
Name Werte_löschen: [2]!Werte_löschen

Sheet Info 
A1: Krankheitskostenabrechnung | S1: Nachrichtlich:
A2: Rechnen Sie Beihilfe und Krankenkassenerstattungen in Excel ab. Ermitteln Sie Ihren jährlichen Eigenanteil und behalten Sie Arzt- und Arznei-
A3: mittelkosten im Griff. Die Anwendung ist um beliebige Personen erweiterbar. | S3: Versicherungsbilanz
A5: Excel-Anwendung von
A6: WERNER LUCK | S6: Datum | U6: Monat
A8: Tabellenblätter | G8: Jahr: | L8: xxxx | M8: Anstehende Abrechnung; Summe € | P8: =Krankheitskosten!C2 -> 0 | S8: =TODAY() -> 46239 | U8: =MONTH(S8) -> 8
A10: INHALT | G10: Beschreibung | M10: Eigenanteil im Kalenderjahr: | P10: Übersichten
M11: =Krankheitskosten!Q101 -> 210 | P11: (Aufgelaufene Kosten, Erstattungen und | S11: Übersicht über die gezahlten
A12: Info | G12: Dieses Blatt | P12: Eigenanteile im Kalenderjahr) | S12: Beiträge
A13: E | G13: Eingaben (Anweisung zum Gebrauch der Arbeitsmappe) | S13: Differenz zu den Erstattungen
A14: A | G14: Angaben zu den Abrechnungsgrundlagen
A15: Vermerke | G15: Aufzeichnungen zu Besonderheiten/Amerkungen bei der Abrechnung mit der Beihilfe und/oder Krankenkasse
A16: Fahrten | G16: Zusammenstellung von krankheitsbedingten Fahrstrecken im Kalenderjahr | P16: ='Fahrten '!D43 -> 221 | Q16: Summe/km/Jahr
A17: Krankheitskosten lfd. Jahr | G17: Zusammenstellung der Kosten und Abrechnung für alle Personen im Haushalt | P17: =Krankheitskosten!E99 -> 0 | Q17: Summe/€/Jahr
S18: Beiträge | U18: Erstattg. ./. Beiträge
A19: PKV-Abrechnung | G19: Erstattungsantrag an die Krankenkasse | N19: Erstattungen PKV | P19: =Krankheitskosten!P99 -> 0 | Q19: Summe/€/Jahr | U19: =P19-S19 -> 0
A20: Beihilfeabrechnung | G20: Beihilfeantrag | N20: Beihilfeerstattungen | P20: =Krankheitskosten!K99 -> -210 | Q20: Summe/€/Jahr
N22: Summe der Erstattungen | P22: =SUM(P19:P20) -> -210 | Q22: Summe/€/Jahr | U22: =SUM(U19:U20) -> 0
A24: Unfallanzeige | G24: Unfallanzeige für die Abrechnungsstelle | N24: Kontrolle Eigenanteil: | P24: =P17-P22 -> 210 | Q24: Summe/€/Jahr
A29: Excel-Anwendung speziell für den öffentlichen Dienst
A30: Entwickelt von Werner Luck
A31: Hauptstraße 2
A32: 54413 Beuren/Hochwald
A33: Tel.: 06586/986025
A34: E-Mail: wernerluck@web.de

Sheet E
A1: Grundlegende Anweisung und Erläuterungenzum Gebrauch der Arbeitsmappe
A3: Vorbemerkung | C3: Die Arbeitsmappe und erforderliche Rücksprachen mit mir sind kostenlos.
C4: Hilfestellungen gebe ich auf Anforderung im erforderlichen Umfang und nach meinen Möglichkeiten. Bitte beachten Sie, dass ich
C5: Hilfen für Anfänger nur in geringem Ausmaß zu leisten bereit bin. Gewisse Grundkenntnisse in Excel sollten Sie schon mitbringen.
C6: Im übrigen freue ich mich auf ihre Rückmeldungen.
A8: Allgemeines | C8: Die Arbeitsmappe kann in beliebig viele Tabellenblätter aufgeteilt werden.
C9: Die im folgenden beschriebenen Tabellenblätter sollten jedoch immer vorhanden sein.
C10: Alle Formeln, die einen Namensbezug haben, müssen Sie auf Ihre Verhältnisse (die Namen von Ihnen, Ihrem Ehegatten und
C11: Ihren Kindern) umstellen. Wie Sie dabei vorgehen und weitere Anweisungen und Erläuterungen finden Sie in den einzelnen
C12: Tabellenblättern beschrieben.
C13: Im Übrigen können Sie die Mappe nach Ihren Bedürfnissen verändern. Veränderungen von Formeln sollten Sie jedoch vorsichtig
C14: angehen. Die Arbeitsmappe ist nicht geschützt, das können Sie bei Bedarf anders gestalten. Dazu sind jedoch weitergehende
C15: Excel-Kenntnisse nötig.
C16: Hinweise und Verfahrensanweisungen finden Sie auch in den Kommentaren (roter Punkt in der rechten oberen Ecke eines Feldes,
C17: mit dem Mauszeiger daraufzeigen!). | F17: \
C19: Aktion: | D19: Maßnahme, Handlung die durchgeführt werden soll
C20: Prozedur: | D20: Verfahren, wie ein angestrebtes Ergebnis umgesetzt werden soll (größerer Umfang als bei einer Aktion)
C21: Tipp: | D21: Hinweis (z. B. auf mögliche andere Verfahrensweisen, Abkürzungen, Tastenkürzel usw.)
A23: Tipp: | C23: Legen Sie direkt eine Kopie der heruntergeladenen Programmdatei (die sie von meiner Homepage bezogen haben) an.
C24: Sie haben dann direkt Zugriff zu den Urdaten, falls Sie versehentlich Daten gelöscht oder die Mappe unbeabsichtigt verändert haben.
C25: Dies solllten Sie bei allen wichtigen Dateien so handhaben.
A27: Tabellenblätter
A28: Info | C28: Übersicht über Inhalte, Kosten, Erstattungen und Eigenanteile im laufenden Kalenderjahr.
C29: Informationen über den Autor und Kontaktdaten.
A31: E | C31: Dieses Blatt (Anweisung)
A33: A | C33: Tabellenblatt Angaben. Aufstellung über Versicherte, Versicherungen und Beihilfestelle.
C34: Die Angaben, die hier germacht werden, werden tlw. in die nachfolgenden Tabellenblätter übernommen.
C35: Es können beliebig viele Versicherte aufgenommen werden.
C36: In die Zellen B5 bis B12 tragen Sie die Vornamen der Versicherten ein. Diese werden in Spalte B des Tabellenblattes "Krankheitskosten"
C37: automatisch übernommen. Dazu setzen Sie den Mauszeiger in die anzusteuernde Zelle und klicken auf den rechts erscheinenden Pfeil. Ein
C38: Auswahlmenü öffnet sich über das Sie den zutreffenden Namen auswählen können.
A40: Prozedur: | C40: Um diese Datenüberprüfung im Tabellenblatt "Krankheitskosten" einzurichten gehen Sie folgendermaßen vor: Setzen Sie den Mauszeiger in
C41: Zelle B9. Wählen Sie das Menü "Daten" und dort "Datenüberprüfung". Unter "Gültigkeitsprüfung" und "zulassen" wählen Sie "Liste".
C42: Im aufklappenden Menü geben Sie unter "Quelle" 'A'!;B5:B12 ein.
C43: Dann fassen Sie in der Zelle B9 den unteren rechten Punkt und ziehen die Formel bis zur letzten Zelle (B98). Fertig.
A45: Vermerke | C45: Hier können Sie Besonderheiten, Abweichungen oder Unvorhergesehenes erfassen.
C46: Dies können z. B. sein: nachträgliche Verminderung von Rechnungen, Streite mit Beteiligten u.a.
A48: Fahrten | C48: Tragen Sie hier die krankheitsbedingten Fahrten (Krankenhaus, Arzt, Apotheke u.a.) ein.
C49: Unter Bemerkungen können die näheren Gründe aufgeführt werden.
A51: Krankheitskosten | C51: Jährliche Aufstellung über Krankheitskosten und deren Abrechnung.
C52: Die Kostendämpfungspauschale der Beihilfe ist bei der ersten Abrechnung im laufenden Kalenderjahr zu berücksichtigen.
C53: Die für Sie zutreffenden Berechnungsgrundlagen sind in Talle "A"anzugeben (siehe oben).
C54: Die Berechnungsformeln beziehen sich hierauf.
C55: Die Spalten H, I, M und N sind mit Formeln hinterlegt die für die Berechnung der Erstattungshöhe benötigt werden.
C56: Alle weißen und grauen Zellen im Bereich der Zeilen 9 bis 98 füllen Sie aus.
C57: Sollten einmal die vorgesehenen Zeilen (90, 9 bis 98) nicht ausreichen, können Sie das Tabellenblatt ohne Weiteres erweitern. Hierzu gehen Sie
C58: folgendermaßen vor:
A59: Prozedur: | C59: Setzen Sie den Mauszeiger in Zeile 99 (auf die Zahl!), damit ist die Zeile 99 markiert. Drücken Sie nun die Tasten strg und + so oft, wie Sie
C60: zusätzliche Zeilen benötigen.
C61: Die Gültigkeitsprüfung in Spalte B, sowie die Formeln in den Spalten H, I, M und N müssen Sie natürlich erweitern (bis zur letzten neuen Zeile).
C62: Ebenso müssen die Formeln in der Teilsummenzeile (2 und 3) und der Summenzeile (vorher 98, dann xx) erweitert werden.
A64: Aktion: | C64: In der Spalte F geben Sie die "Abrechnungs-Nr." je von Ihnen vorgenommene Abrechnung ein. Über diese Nr. können Sie bei Bedarf die Tabelle
C65: nach Abrechnungen filtern.
A67: Tipp: | C67: In Zelle C2 steht der jeweils noch abzurechnende Betrag.
A69: Zusatz ab August 2026 | C69: Aus gegebenem Anlaß (Doppelabrechnung einer Arztrechnung durch einen Abrechnungsdienst) füge ich in Spalte E eine benutzerdefinierte Formatierung
C70: ein. Die Regel heißt "Doppelte Werte". Folgendermaßen wird sie eingefügt: Markieren Sie die Spalte E bis zum Ende der vorliegenden Tabelle.
C71: Im Menü "Start" den Menüpunkt "Bedingte Formatierung" aufrufen. Dort auf "Regeln zum Hervorheben von Zellen" klicken, im Aufklappmenü
C72: "Doppelte Werte" auswählen. Im aufpoppenden Fenster mit OK bestätigen.
C73: Dieser Vorgang ist in der vorliegenden Arbeitsmappe bereits eingerichtet. Bei Bedarf ist der Umfang der Prüfung (hier E9:E98) zu erweitern.
A75: …abrechnung | C75: Abrechnung mit Ihrer Krankenkasse bzw. Beihilfestelle. Weitere Anweisungen stehen im jeweiligen Tabellenblatt.
A78: Unfallanzeige | C78: Unfallanzeige zur Vorlage bei der Beihilfestelle/Dienststelle, Kranken- oder Unfallversicherung. Diese Tabelle können Sie bei
C79: Bedarf verwenden.
C82: Sollten Fragen bei der Anwendung der Arbeitsmappe auftauchen, oder sollten Sie Fehler entdecken, ist der Autor gerne bereit, diese zu
C83: beantworten bzw. zu klären. Wenden Sie sich dann bitte an mich mit der in der INFOTabelle angegebenen E-Mail-Adresse.
C84: Auch Verbesserungsvorschläge werden gerne entgegengenommen.
C86: Viel Spaß bei der Arbeit mit der Anwendung!

Sheet A 
A1: Angaben, die Sie auf diesem Blatt machen,
A2: werden in die folgenden Blätter übernommen.
A3: Familienname | B3: Luck
A4: Familienverhältnisse | B4: Familienangehörige | D4: Entschädigungssatz % Beihilfe PKV | G4: Geburtsdatum | J4: Kalenderjahr
A5: Versicherter/Antragsteller | B5: Werner | D5: 70 | E5: 30 | H5: Beihilfe: | J5: xxxx
A6: Ehegatte | B6: Beate | D6: 70 | E6: 30 | H6: Erstattungsbegrenzung auf 100% der beihilfefähigen
A7: Kind 1 | H7: Aufwendungen.
A8: Kind 2 | H8: Aufwendungsgrenze Beihilfe: | J8: 200
A9: Kind 3 | H9: Vordrucke Abrechnung Beihilfe:
A10: Kind 4 | H10: Die Vordrucke finden Sie auf der Homepage des
A11: Kind 5 | H11: Landesamtes für Finanzen
A12: Kind 6 | H12: https://www.lff-rlp.de/service/vordrucke/?no_cache=1
A13: Leistungsträger | B13: Beihilfestelle / Versicherungen | D13: Kostendämpf- ungspauschale | E13: Selbstbehalt | J13: Versichert ist/sind:
A14: Beihilfe | B14: Landesamt für Finanzen Postfach 10 04 32 56034 Koblenz | D14: 210 | G14: Pers. Nr. | H14: 06276090 | J14: beide Ehepartner
A15: Krankenkasse (PKV) | B15: Continentale Kundendienst-Centrum Köln Postfach 100744 50447 Köln | E15: 0 €/Jahr | G15: Vers. Nr.: | H15: 280.002978428 | J15: beide Ehepartner
A16: Krankenhaustagegeld | B16: Signal Iduna | E16: 0 €/Jahr | G16: Vers. Nr.: | H16: 46.807.912/1/1 | J16: Beate
A17: Krankenhaustagegeld | G17: Vers. Nr.:
A18: Pflege Bahr | B18: Signal Iduna | G18: Vers. Nr.: | H18: 46807912/1/2 | J18: Beate
A19: Zusatzversicherung | G19: Vers. Nr.:
A20: Unfallversicherung | B20: Signal Iduna (PVAG) | G20: Vers. Nr.: | H20: 46.920.853/3/01 | J20: Beate
A21: Unfallversicherung | B21: Generali (ehem. Achen Münchener) | G21: Vers. Nr.: | H21: 560-FKBU-010028196837 | J21: Werner
A23: Fakultative Angaben: | D23: Krankenhaus- Tagegeld/mtl. | E23: Kurtagegeld | G23: Pflegever- sicherung /mtl | H23: Versicherung
B24: Versicherter/Antragsteller | G24: 29.98 | H24: Continentale
B25: Ehegatte | D25: 6.42 | G25: 18.41 | H25: Continentale
B26: Kind 1 | G26: 25.03 | H26: Pflege Bahr
B27: Kind 2
B28: Kind 3
B29: Kind 4
B30: Kind 5
B31: Kind 6

Sheet Vermerke 
A1: Vermerke zu den Krankheitskostenabrechnungen des laufenden Jahres
A2: Vermerk Nr. | B2: betroffene lfd. Nrn. der Tabelle Krank= heitskosten | C2: Anmerkungen / Besonderheiten | D2: Grund | E2: Bemerkungen Abhilfe

Sheet Fahrten 
A1: Zusammenstellung der Fahrten zu Ärzten, Apotheken, Krankenanstalten u.ä.
A2: Datum | B2: Behandlung bei..., Apotheke…; KrkH…. | C2: Ort | D2: Km | E2: Parkgebühren | F2: Wer? | G2: Bermerkungen, Anlaß | J2: km
B3: Dres. Kautz | C3: Konz | D3: 75 | F3: Werner | G3: Untersuchung
B4: Zahnarzt Dr. Kirch | C4: Reinsfeld | D4: 8 | F4: Werner | G4: Einsetzen Zahnprothese Oberkiefer | I4: Konz | J4: 75
B5: Zahnarzt Dr. Kirch | C5: Reinsfeld | D5: 8 | F5: Werner | G5: Abdruck Ober-, Unterkiefer | I5: Reinsfeld | J5: 8
B6: Brüderkrankenhaus, Prof. Dr. Weiner | C6: Trier | D6: 70 | E6: 4.5 | F6: Beate | G6: Untersuchung | I6: Trier | J6: 70
B7: Zahnarzt Dr. Kirch | C7: Reinsfeld | D7: 8 | F7: Werner | G7: Erhalten Backenzahn (Keramikfüllung) | I7: Hermeskeil | J7: 20
B8: Dr. Nothardt | C8: Hermeskeil | D8: 20 | F8: Werner | G8: Urologische Untersuchung
B9: Zahnarzt Dr. Kirch | C9: Reinsfeld | D9: 8 | F9: Werner | G9: Oberkieferabdruck
B10: Zahnarzt Dr. Kirch | C10: Reinsfeld | D10: 8 | F10: Werner | G10: Anpassen Prothese
B11: Zahnarzt Dr. Kirch | C11: Reinsfeld | D11: 8 | F11: Werner | G11: Einpassen Prothese
B12: Zahnarzt Dr. Kirch | C12: Reinsfeld | D12: 8 | F12: Werner | G12: Überprüfen Prothese und Einschleifen
G16: Daten aus 2020! 2024er Daten einfügen!
A43: Anzahl Fahrten | C43: Summe: | D43: =SUM(D3:D42) -> 221 | E43: =SUM(E3:E42) -> 4.5
A44: =COUNTA(B3:B42) -> 10

Sheet Krankheitskosten
A1: Krankheitskostenabrechnung
A2: ='A '!J5 -> xxxx | C2: =SUMIF($H$9:$H$98,"",$E$9:$E$98) -> 0 | D2: noch abzurechnen | E2: Teilbetrag bei Filterung: | J2: Teilbetrag bei Filterung: | O2: Teilbetrag bei Filterung: | T2: Teilbetrag bei Filterung:
E3: =SUBTOTAL(9,E9:E98) -> 0 | J3: =SUBTOTAL(9,J9:J98) -> 0 | K3: =SUBTOTAL(9,K9:K98) -> 0 | O3: =SUBTOTAL(9,O9:O98) -> 0 | P3: =SUBTOTAL(9,P9:P98) -> 0 | T3: =SUBTOTAL(9,T9:T98) -> 0
A4: Lfd. | B4: Kostenentstehung | F4: Zahlung | H4: Kostenerstattung | R4: Wichtig! | S4: Leistungen Zusatzversicherung
A5: Nr. | B5: Verur= | C5: Rech= | D5: Aussteller | E5: Rechngs. | F5: Abrchng-Nr. | G5: Datum der Zahlung Abbuchung | H5: Beihilfe | M5: PKV | R5: Behandlungszeit- | S5: XYZ
A6: im | B6: sacher | C6: nung | D6: der Rechnung | E6: Betrag | H6: Antrag | K6: Betrag | L6: Eingang | M6: Antrag | P6: Betrag | Q6: Eingang | R6: raum | U6: Bemerkungen
A7: KJ | C7: Rezept | I7: Fak- | K7: erstattet | L7: am | N7: Fak- | P7: erstattet | Q7: am | R7: von - bis | S7: Antrag | T7: Betrag
C8: Datum | E8: € | H8: Datum | I8: tor | J8: € | K8: € | M8: Datum | N8: tor | O8: € | P8: € | R8: (relevant bei PKV) | T8: €
A9: 1 | I9: =IF(E9>0,VLOOKUP(B9,'A '!$B$5:$E$12,3,0))/100 -> 0 | J9: =IF(ISNUMBER(E9),E9*I9,0) -> 0 | N9: =IF(ISBLANK(E9),"",VLOOKUP(B9,'A '!$B$5:$E$12,4,0)/100) | O9: =IF(ISNUMBER(E9),E9*N9,0) -> 0
A10: 2 | I10: =IF(E10>0,VLOOKUP(B10,'A '!$B$5:$E$12,3,0))/100 -> 0 | J10: =IF(ISNUMBER(E10),E10*I10,0) -> 0 | N10: =IF(ISBLANK(E10),"",VLOOKUP(B10,'A '!$B$5:$E$12,4,0)/100) | O10: =IF(ISNUMBER(E10),E10*N10,0) -> 0
A11: 3 | I11: =IF(E11>0,VLOOKUP(B11,'A '!$B$5:$E$12,3,0))/100 -> 0 | J11: =IF(ISNUMBER(E11),E11*I11,0) -> 0 | N11: =IF(ISBLANK(E11),"",VLOOKUP(B11,'A '!$B$5:$E$12,4,0)/100) | O11: =IF(ISNUMBER(E11),E11*N11,0) -> 0
A12: 4 | I12: =IF(E12>0,VLOOKUP(B12,'A '!$B$5:$E$12,3,0))/100 -> 0 | J12: =IF(ISNUMBER(E12),E12*I12,0) -> 0 | N12: =IF(ISBLANK(E12),"",VLOOKUP(B12,'A '!$B$5:$E$12,4,0)/100) | O12: =IF(ISNUMBER(E12),E12*N12,0) -> 0
A13: 5 | I13: =IF(E13>0,VLOOKUP(B13,'A '!$B$5:$E$12,3,0))/100 -> 0 | J13: =IF(ISNUMBER(E13),E13*I13,0) -> 0 | N13: =IF(ISBLANK(E13),"",VLOOKUP(B13,'A '!$B$5:$E$12,4,0)/100) | O13: =IF(ISNUMBER(E13),E13*N13,0) -> 0
A14: 6 | I14: =IF(E14>0,VLOOKUP(B14,'A '!$B$5:$E$12,3,0))/100 -> 0 | J14: =IF(ISNUMBER(E14),E14*I14,0) -> 0 | N14: =IF(ISBLANK(E14),"",VLOOKUP(B14,'A '!$B$5:$E$12,4,0)/100) | O14: =IF(ISNUMBER(E14),E14*N14,0) -> 0
A15: 7 | I15: =IF(E15>0,VLOOKUP(B15,'A '!$B$5:$E$12,3,0))/100 -> 0 | J15: =IF(ISNUMBER(E15),E15*I15,0) -> 0 | N15: =IF(ISBLANK(E15),"",VLOOKUP(B15,'A '!$B$5:$E$12,4,0)/100) | O15: =IF(ISNUMBER(E15),E15*N15,0) -> 0
A16: 8 | I16: =IF(E16>0,VLOOKUP(B16,'A '!$B$5:$E$12,3,0))/100 -> 0 | J16: =IF(ISNUMBER(E16),E16*I16,0) -> 0 | N16: =IF(ISBLANK(E16),"",VLOOKUP(B16,'A '!$B$5:$E$12,4,0)/100) | O16: =IF(ISNUMBER(E16),E16*N16,0) -> 0
A17: 9 | I17: =IF(E17>0,VLOOKUP(B17,'A '!$B$5:$E$12,3,0))/100 -> 0 | J17: =IF(ISNUMBER(E17),E17*I17,0) -> 0 | N17: =IF(ISBLANK(E17),"",VLOOKUP(B17,'A '!$B$5:$E$12,4,0)/100) | O17: =IF(ISNUMBER(E17),E17*N17,0) -> 0
A18: 10 | I18: =IF(E18>0,VLOOKUP(B18,'A '!$B$5:$E$12,3,0))/100 -> 0 | J18: =IF(ISNUMBER(E18),E18*I18,0) -> 0 | N18: =IF(ISBLANK(E18),"",VLOOKUP(B18,'A '!$B$5:$E$12,4,0)/100) | O18: =IF(ISNUMBER(E18),E18*N18,0) -> 0
A19: 11 | I19: =IF(E19>0,VLOOKUP(B19,'A '!$B$5:$E$12,3,0))/100 -> 0 | J19: =IF(ISNUMBER(E19),E19*I19,0) -> 0 | N19: =IF(ISBLANK(E19),"",VLOOKUP(B19,'A '!$B$5:$E$12,4,0)/100) | O19: =IF(ISNUMBER(E19),E19*N19,0) -> 0
A20: 12 | I20: =IF(E20>0,VLOOKUP(B20,'A '!$B$5:$E$12,3,0))/100 -> 0 | J20: =IF(ISNUMBER(E20),E20*I20,0) -> 0 | N20: =IF(ISBLANK(E20),"",VLOOKUP(B20,'A '!$B$5:$E$12,4,0)/100) | O20: =IF(ISNUMBER(E20),E20*N20,0) -> 0
... A98: 90 | I98: =IF(E98>0,VLOOKUP(B98,'A '!$B$5:$E$12,3,0))/100 -> 0 | J98: =IF(ISNUMBER(E98),E98*I98,0) -> 0 | N98: =IF(ISBLANK(E98),"",VLOOKUP(B98,'A '!$B$5:$E$12,4,0)/100) | O98: =IF(ISNUMBER(E98),E98*N98,0) -> 0
B99: Summen: | E99: =SUM(E9:E98) -> 0 | J99: =SUM(J9:J98) -> 0 | K99: =SUM(K9:K98)-O103 -> -210 | O99: =SUM(O9:O98) -> 0 | P99: =SUM(,P9:P98) -> 0 | T99: =SUM(T9:T98) -> 0
J100: Differenz | K100: =J99-K99 -> 210 | O100: Differenz | P100: =O99-P99 -> 0 | Q100: =K99+P99 -> -210 | S100: Gesamtbetrag Beihilfe/PKV:
Q101: =K100+P100 -> 210 | S101: Aufsummierung Eigenanteil im KJ :
D102: Aufgelaufene Rechnungen aktueller Stand: | E102: €/Jahr | H102: Beihilfe:
D103: Antragsteller/in | E103: =SUMIF($B$9:$B$98,"Werner",$E$9:$E$98) -> 0 | H103: Kostendämpfungspauschale xxx €/Jahr | O103: 210
D104: Ehegatte | E104: =SUMIF($B$9:$B$98,"Beate",$E$9:$E$98) -> 0 | H104: Nachrichtlich: Versicherungsbeitrag PKV | O104: 0
D105: Kind | E105: =SUMIF($B$9:$B$98,"Kind",$E$9:$E$98) -> 0 | H105: Nachrichtlich: Beitragsrückerstattungen PKV | O105: 0
D106: Kind | E106: =SUMIF($B$9:$B$98,"Kind",$E$9:$E$98) -> 0
D107: Summe: | E107: =SUM(E103:E104) -> 0

Sheet PKV-Abrechnung
B1: Werner Luck | F1: Forsthaus | I1: In der Spalte A30 bis A45 müssen immer | O1: Prozedur zur Abspeicherung der einzelnen Abrechnung:
F2: Hauptstraße 2 | I2: die Zahlen der nächsten abzurechnenden | O2: Je Abrechnung bitte das Tabellenblatt separieren (rechter Mausklick
F3: 54413 Beuren/Hochwald | I3: Positionen aus der Tabelle "Krankheitskosten" | O3: auf den Namen), im aufkalppenden Menü "Verschieben oder Kopieren"
F4: Tel.: 06586 986025 | I4: stehen (fortlaufend bis A 45!) da nur dann | O4: wählen, in das Kästchen Kopie unbedingt einen Haken sezten (!) und
I5: die Summenspalten korrekt ausgefüllt werden! | O5: im Bereich "Zur Mappe" "neue Arbeitsmappe" wählen, dann mit OK bestätigen.
I6: Nach Ausdruck der laufenden Abrechnung
I7: ist die Spalte komplett mit der folgenden | O7: Es öffnet sich eine neue Arbeitsmappe die Sie beliebig abspeichern und
F8: =TODAY() -> 46239 | I8: Nummernfolge auszufüllen. | O8: weiter bearbeiten können. Unbedingt die Anmerkung (fett, rot)
B9: Werner Luck Hauptstraße 2 54413 Beuren | O9: links beachten!
B11: An die | I11: Bei Separierung und Abspeicherung des Tabellenblattes
B12: PKV | I12: sind die offenen (nicht belegten) Bezüge zu löschen!
B13: Krankenversicherung a.G.
B14: Postfach | I14: Der Druckbereich der Seite ist auf den Bereich | O14: Erfolgen Eintragungen im Tabellenblatt "Krankheitskosten" werden die Zellen im
A15: abzurechnende Nr. der Tabelle "Krankheitskosten" | F15: Abrechnung-Nr.: | I15: A1 bis G54 festgelegt! | O15: Bereich F30 bis F45 mit den entsprechenden Beträgen ausgefüllt.
B16: PLZ Ort | F16: 7 | G16: / 2020 | O16: Teilen Sie den Abrechnungsbetrag bitte auf die Spalten C, D und E auf.
I19: Summe der Aufwendungen dieser Abrechung:
I20: NN | J20: NN | K20: NN | L20: NN
B21: Kostenabrechnung für Versicherung Nr. | E21: 280.002978428 | I21: =SUMIF(G30:G45,"Willi",F30:F45) -> 0 | J21: =SUMIF(G30:G45,"Gitte",F30:F45) -> 0 | K21: =SUMIF(G30:G45,"NN",F30:F45) -> 0 | L21: =SUMIF(G30:G45,"NN",F30:F45) -> 0
I22: Summe der Aufwendungen (Kontrolle):
B23: Sehr geehrte Damen und Herren, | I23: =SUM(I21:L21) -> 0
B25: anliegend lege ich Ihnen Rechnungen und Rezepte über Aufwendungen in Höhe von
B26: =F46 -> 0 | C26: mit der Bitte um Festsetzung des Erstattungsbetrages vor.
B27: Aufstellung:
B28: Datum | C28: Ambulant | D28: Stationär | E28: Rezept, Labor Hilfsmittel | F28: Gesamt | G28: Aufwendungen für: | I28: Werner | J28: Beate | K28: NN | L28: NN
C29: € | D29: € | E29: € | F29: €
A30: 23 | B30: =VLOOKUP(A30,Krankheitskosten!$A$9:$E$98,3) -> 0 | C30: 270 | F30: =VLOOKUP(A30,Krankheitskosten!$A$9:$E$98,5) -> 0 | G30: =VLOOKUP(A30,Krankheitskosten!$A$9:$E$98,2) -> 0 | I30: =IF(G30="Werner",F30*30%,0) -> 0 | J30: =IF(G30="Beate",F30*30%,0) -> 0 | K30: =IF(G30="Kerstin",F30*20%,0) -> 0 | L30: =IF(G30="Susanne",F30*20%,0) -> 0 | M30: F | N30: Namen in den Formeln ( in Anführungsstrichen!) nach Ihren Verhältnissen anpassen!
A31: 24 | B31: =VLOOKUP(A31,Krankheitskosten!$A$9:$E$98,3) -> 0 | F31: =VLOOKUP(A31,Krankheitskosten!$A$9:$E$98,5) -> 0 | G31: =VLOOKUP(A31,Krankheitskosten!$A$9:$E$98,2) -> 0 | I31: =IF(G31="Werner",F31*30%,0) -> 0 | J31: =IF(G31="Beate",F31*30%,0) -> 0 | K31: =IF(G31="Kerstin",F31*20%,0) -> 0 | L31: =IF(G31="Susanne",F31*20%,0) -> 0 | N31: Zuerst den Namen der obersten Formel berichtigen (Werner in Ihren Namen) und die
A32: 25 | B32: =VLOOKUP(A32,Krankheitskosten!$A$9:$E$98,3) -> 0 | F32: =VLOOKUP(A32,Krankheitskosten!$A$9:$E$98,5) -> 0 | G32: =VLOOKUP(A32,Krankheitskosten!$A$9:$E$98,2) -> 0 | I32: =IF(G32="Werner",F32*30%,0) -> 0 | J32: =IF(G32="Beate",F32*30%,0) -> 0 | K32: =IF(G32="Kerstin",F32*20%,0) -> 0 | L32: =IF(G32="Susanne",F32*20%,0) -> 0 | N32: Zeile wie unten beschrieben bis zur letzten zeile der Tabelle ziehen. Verfahren Sie so
A33: 26 | B33: =VLOOKUP(A33,Krankheitskosten!$A$9:$E$98,3) -> 0 | F33: =VLOOKUP(A33,Krankheitskosten!$A$9:$E$98,5) -> 0 | G33: =VLOOKUP(A33,Krankheitskosten!$A$9:$E$98,2) -> 0 | I33: =IF(G33="Werner",F33*30%,0) -> 0 | J33: =IF(G33="Beate",F33*30%,0) -> 0 | K33: =IF(G33="Kerstin",F33*20%,0) -> 0 | L33: =IF(G33="Susanne",F33*20%,0) -> 0 | N33: mit den weiteren Spalten.
A34: 27 | B34: =VLOOKUP(A34,Krankheitskosten!$A$9:$E$98,3) -> 0 | F34: =VLOOKUP(A34,Krankheitskosten!$A$9:$E$98,5) -> 0 | G34: =VLOOKUP(A34,Krankheitskosten!$A$9:$E$98,2) -> 0 | I34: =IF(G34="Werner",F34*30%,0) -> 0 | J34: =IF(G34="Beate",F34*30%,0) -> 0 | K34: =IF(G34="Kerstin",F34*20%,0) -> 0 | L34: =IF(G34="Susanne",F34*20%,0) -> 0
A35: 28 | B35: =VLOOKUP(A35,Krankheitskosten!$A$9:$E$98,3) -> 0 | F35: =VLOOKUP(A35,Krankheitskosten!$A$9:$E$98,5) -> 0 | G35: =VLOOKUP(A35,Krankheitskosten!$A$9:$E$98,2) -> 0 | I35: =IF(G35="Werner",F35*30%,0) -> 0 | J35: =IF(G35="Beate",F35*30%,0) -> 0 | K35: =IF(G35="Kerstin",F35*20%,0) -> 0 | L35: =IF(G35="Susanne",F35*20%,0) -> 0 | M35: p | N35: Ist eine Abrechnung erfolgt, sind die Daten in den Spalten C, D und E der Tabelle zu löschen
A36: 29 | B36: =VLOOKUP(A36,Krankheitskosten!$A$9:$E$98,3) -> 0 | F36: =VLOOKUP(A36,Krankheitskosten!$A$9:$E$98,5) -> 0 | G36: =VLOOKUP(A36,Krankheitskosten!$A$9:$E$98,2) -> 0 | I36: =IF(G36="Werner",F36*30%,0) -> 0 | J36: =IF(G36="Beate",F36*30%,0) -> 0 | K36: =IF(G36="Kerstin",F36*20%,0) -> 0 | L36: =IF(G36="Susanne",F36*20%,0) -> 0 | N36: und die oberste Zahl in Spalte A, Zeile 30 durch die folgende Nr. aus der Tabelle
A37: 30 | B37: =VLOOKUP(A37,Krankheitskosten!$A$9:$E$98,3) -> 0 | F37: =VLOOKUP(A37,Krankheitskosten!$A$9:$E$98,5) -> 0 | G37: =VLOOKUP(A37,Krankheitskosten!$A$9:$E$98,2) -> 0 | I37: =IF(G37="Werner",F37*30%,0) -> 0 | J37: =IF(G37="Beate",F37*30%,0) -> 0 | K37: =IF(G37="Kerstin",F37*20%,0) -> 0 | L37: =IF(G37="Susanne",F37*20%,0) -> 0 | N37: "Krankheitskosten" zu ersetzen! Fassen Sie die ersten beiden oberen Zahlen mit der Maus an
A38: 31 | B38: =VLOOKUP(A38,Krankheitskosten!$A$9:$E$98,3) -> 0 | F38: =VLOOKUP(A38,Krankheitskosten!$A$9:$E$98,5) -> 0 | G38: =VLOOKUP(A38,Krankheitskosten!$A$9:$E$98,2) -> 0 | I38: =IF(G38="Werner",F38*30%,0) -> 0 | J38: =IF(G38="Beate",F38*30%,0) -> 0 | K38: =IF(G38="Kerstin",F38*20%,0) -> 0 | L38: =IF(G38="Susanne",F38*20%,0) -> 0 | N38: ( + in der rechten unteren Ecke) und ziehen Sie die Zeilen bis zur letzten Zeile der Tabelle (45).
A39: 32 | B39: =VLOOKUP(A39,Krankheitskosten!$A$9:$E$98,3) -> 0 | F39: =VLOOKUP(A39,Krankheitskosten!$A$9:$E$98,5) -> 0 | G39: =VLOOKUP(A39,Krankheitskosten!$A$9:$E$98,2) -> 0 | I39: =IF(G39="Werner",F39*30%,0) -> 0 | J39: =IF(G39="Beate",F39*30%,0) -> 0 | K39: =IF(G39="Kerstin",F39*20%,0) -> 0 | L39: =IF(G39="Susanne",F39*20%,0) -> 0 | N39: Löschen Sie bei diesem Vorgehen nicht die Formeln in den Spalten B, F und G!
A40: 33 | B40: =VLOOKUP(A40,Krankheitskosten!$A$9:$E$98,3) -> 0 | F40: =VLOOKUP(A40,Krankheitskosten!$A$9:$E$98,5) -> 0 | G40: =VLOOKUP(A40,Krankheitskosten!$A$9:$E$98,2) -> 0 | I40: =IF(G40="Werner",F40*30%,0) -> 0 | J40: =IF(G40="Beate",F40*30%,0) -> 0 | K40: =IF(G40="Kerstin",F40*20%,0) -> 0 | L40: =IF(G40="Susanne",F40*20%,0) -> 0
A41: 34 | B41: =VLOOKUP(A41,Krankheitskosten!$A$9:$E$98,3) -> 0 | F41: =VLOOKUP(A41,Krankheitskosten!$A$9:$E$98,5) -> 0 | G41: =VLOOKUP(A41,Krankheitskosten!$A$9:$E$98,2) -> 0 | I41: =IF(G41="Werner",F41*30%,0) -> 0 | J41: =IF(G41="Beate",F41*30%,0) -> 0 | K41: =IF(G41="Kerstin",F41*20%,0) -> 0 | L41: =IF(G41="Susanne",F41*20%,0) -> 0
A42: 35 | B42: =VLOOKUP(A42,Krankheitskosten!$A$9:$E$98,3) -> 0 | F42: =VLOOKUP(A42,Krankheitskosten!$A$9:$E$98,5) -> 0 | G42: =VLOOKUP(A42,Krankheitskosten!$A$9:$E$98,2) -> 0 | I42: =IF(G42="Werner",F42*30%,0) -> 0 | J42: =IF(G42="Beate",F42*30%,0) -> 0 | K42: =IF(G42="Kerstin",F42*20%,0) -> 0 | L42: =IF(G42="Susanne",F42*20%,0) -> 0
A43: 36 | B43: =VLOOKUP(A43,Krankheitskosten!$A$9:$E$98,3) -> 0 | F43: =VLOOKUP(A43,Krankheitskosten!$A$9:$E$98,5) -> 0 | G43: =VLOOKUP(A43,Krankheitskosten!$A$9:$E$98,2) -> 0 | I43: =IF(G43="Werner",F43*30%,0) -> 0 | J43: =IF(G43="Beate",F43*30%,0) -> 0 | K43: =IF(G43="Kerstin",F43*20%,0) -> 0 | L43: =IF(G43="Susanne",F43*20%,0) -> 0
A44: 37 | B44: =VLOOKUP(A44,Krankheitskosten!$A$9:$E$98,3) -> 0 | F44: =VLOOKUP(A44,Krankheitskosten!$A$9:$E$98,5) -> 0 | G44: =VLOOKUP(A44,Krankheitskosten!$A$9:$E$98,2) -> 0 | I44: =IF(G44="Werner",F44*30%,0) -> 0 | J44: =IF(G44="Beate",F44*30%,0) -> 0 | K44: =IF(G44="Kerstin",F44*20%,0) -> 0 | L44: =IF(G44="Susanne",F44*20%,0) -> 0
A45: 38 | B45: =VLOOKUP(A45,Krankheitskosten!$A$9:$E$98,3) -> 0 | F45: =VLOOKUP(A45,Krankheitskosten!$A$9:$E$98,5) -> 0 | G45: =VLOOKUP(A45,Krankheitskosten!$A$9:$E$98,2) -> 0 | I45: =IF(G45="Werner",F45*30%,0) -> 0 | J45: =IF(G45="Beate",F45*30%,0) -> 0 | K45: =IF(G45="Kerstin",F45*20%,0) -> 0 | L45: =IF(G45="Susanne",F45*20%,0) -> 0
B46: Summen: | C46: =SUM(C30:C45) -> 270 | D46: =SUM(D30:D45) -> 0 | E46: =SUM(E30:E45) -> 0 | F46: =SUM(F30:F45) -> 0 | I46: =SUM(I30:I45) -> 0 | J46: =SUM(J30:J45) -> 0 | K46: =SUM(K30:K45) -> 0 | L46: =SUM(L30:L45) -> 0
E47: Kontrolle: | F47: =SUM(C46:E46) -> 270 | H47: ./.
B48: Die Überweisung wollen Sie bitte auf das Konto Nr. xxxxxxx, SPK XXXXXXXX, | I48: =I46-I47 -> 0 | J48: =J46-J47 -> 0 | K48: =K46-K47 -> 0 | L48: =L46-L47 -> 0
B49: BLZ xxxxxx, IBAN xxxx xxxx xxxx xxxx xx, vornehmen. | I49: Summe der Auszahlung:
B50: - Anlagen | I50: =SUM(I48:L48) -> 0
B52: Mit freundlichen Grüßen

Sheet Beihilfeabrechnung
B1: Werner Luck | F1: Forsthaus | J1: In der Spalte A30 bis A45 müssen immer | P1: Prozedur zur Abspeicherung der einzelnen Abrechnung:
F2: Hauptstraße 2 | J2: die Zahlen der nächsten abzurechnenden | P2: Je Abrechnung bitte das Tabellenblatt separieren (rechter Mausklick
F3: 54413 Beuren/Hochwald | J3: Positionen aus der Tabelle "Krankheitskosten" | P3: auf den Namen), im aufkalppenden Menü "Verschieben oder Kopieren"
F4: Tel.: 06586 986025 | J4: stehen (fortlaufend bis A 45!) da nur dann | P4: wählen, in das Kästchen Kopie unbedingt einen Haken sezten (!) und
J5: die Summenspalten korrekt ausgefüllt werden! | P5: im Bereich "Zur Mappe" "neue Arbeitsmappe" wählen, dann mit OK bestätigen.
J6: Nach Ausdruck der laufenden Abrechnung
F7: =TODAY() -> 46239 | J7: ist die Spalte komplett mit der folgenden | P7: Es öffnet sich eine neue Arbeitsmappe die Sie beliebig abspeichern und
B8: Werner Luck Hauptstraße 2 54413 Beuren | J8: Nummernfolge auszufüllen. | P8: weiter bearbeiten können. Unbedingt die Anmerkung (fett, rot)
P9: links beachten!
B11: Landesamt für Finanzen
B12: Postfach 10 04 32 | J12: Bei Separierung und Abspeicherung des Tabellenblattes
B13: - Beihilfestelle - | J13: sind die offenen (nicht belegten) Bezüge zu löschen! | P13: In der ausgeblendeten Spalte H werden die Vornamen der Familienangehörigen
A14: abzurechnende Nr. der Tabelle "Krankheitskosten" | B14: 56034 Koblenz | P14: gemäß den Eintragungen in der Tabelle "Krankheitskosten" Spalte B aufgeführt.
F15: Abrechnung-Nr.: | J15: Der Druckbereich der Seite ist auf den Bereich | P15: Diese Angaben werden benötigt, um die automatische Eintragung des
F16: 7 | G16: / 2020 | J16: A1 bis G54 festgelegt! | P16: Verursachers der Kosten in Spalte G "Aufwendungen für:" zu generieren.
P17: Dies ist nötig, um die Beihilfeabrechnung "beihilfeadäquat" zu gestalten.
P19: Die Formel hierfür lautet:
P20: WENN(H32="Gitte";"Ehegatte";WENN(H32="Kerstin";"Kind";WENN(H32="Susanne";"Kind";WENN(H32="Willi";"Antragsteller";""))))
B21: Kostenabrechnung für Personal-Nr. | E21: ='A '!H14 -> 06276090 | P21: Die eingetragenen Namen sind nach Ihren Familienverhältnissen zu korrigieren.
J22: Summe der Aufwendungen dieser Abrechung: | P22: Die Formel wird erst mit dem vorangesetzten Gleichheitszeichen wirksam!
B23: Sehr geehrte Damen und Herren, | J23: Werner | K23: Beate | L23: NN | M23: NN
B24: anliegend lege ich Ihnen Rechnungen und Rezepte über Aufwendungen in Höhe von | J24: =SUMIF(G30:G45,"Antragsteller",F30:F45) -> 0 | K24: =SUMIF(G30:G45,"Ehegatte",F30:F45) -> 0 | L24: =SUMIF(G30:G45,"Kind",F30:F45) -> 0 | M24: =SUMIF(H30:H45,"Kind",G30:G45) -> 0
B25: =F46 -> 0 | C25: mit der Bitte um Festsetzung des Erstattungsbetrages vor. | J25: Summe der Aufwendungen (Kontrolle):
J26: =SUM(J24:L24) -> 0
B27: Aufstellung:
B28: Datum des | C28: Ambulant | D28: Stationär | E28: Rezept, Labor Hilfsmittel | F28: Gesamt | G28: Aufwendungen für: | J28: Werner | K28: Beate | L28: NN | M28: NN
B29: Beleges | C29: € | D29: € | E29: € | F29: € | J29: "Antragsteller" | K29: "Ehegatte" | L29: "Kind" | M29: "Kind" | P29: Vorgehensweise bei Anpassungen:
A30: 23 | B30: =VLOOKUP(A30,Krankheitskosten!$A$9:$E$98,3) -> 0 | C30: 270 | F30: =VLOOKUP(A30,Krankheitskosten!$A$9:$E$98,5) -> 0 | G30: {=IF(H30="Beate","Ehegatte",IF(H30="Marion","Kind",IF(H30="Kitty","Kind",IF(H30="Werner","Antragsteller",""))))} | H30: =VLOOKUP(A30,Krankheitskosten!$A$9:$E$98,2) -> 0 | J30: =IF(G30="Antragsteller",F30*70%,0) -> 0 | K30: =IF(G30="Ehegatte",F30*70%,0) -> 0 | L30: =IF(G30="Kind",F30*80%,0) -> 0 | M30: =IF(H30="Kind",F30*80%,0) -> 0 | P30: Markieren Sie die oberste Zeile in der Spalte "Aufwendungen für:" (G).
A31: 24 | B31: =VLOOKUP(A31,Krankheitskosten!$A$9:$E$98,3) -> 0 | F31: =VLOOKUP(A31,Krankheitskosten!$A$9:$E$98,5) -> 0 | G31: {=IF(H31="Beate","Ehegatte",IF(H31="Marion","Kind",IF(H31="Kitty","Kind",IF(H31="Werner","Antragsteller",""))))} | H31: =VLOOKUP(A31,Krankheitskosten!$A$9:$E$98,2) -> 0 | J31: =IF(G31="Antragsteller",F31*70%,0) -> 0 | K31: =IF(G31="Ehegatte",F31*70%,0) -> 0 | L31: =IF(G31="Kind",F31*80%,0) -> 0 | M31: =IF(H31="Kind",F31*80%,0) -> 0 | P31: Sie sehen die Formel in der Bearbeitungsleiste.
A32: 25 | B32: =VLOOKUP(A32,Krankheitskosten!$A$9:$E$98,3) -> 0 | F32: =VLOOKUP(A32,Krankheitskosten!$A$9:$E$98,5) -> 0 | G32: {=IF(H32="Beate","Ehegatte",IF(H32="Marion","Kind",IF(H32="Kitty","Kind",IF(H32="Werner","Antragsteller",""))))} | H32: =VLOOKUP(A32,Krankheitskosten!$A$9:$E$98,2) -> 0 | J32: =IF(G32="Antragsteller",F32*70%,0) -> 0 | K32: =IF(G32="Ehegatte",F32*70%,0) -> 0 | L32: =IF(G32="Kind",F32*80%,0) -> 0 | M32: =IF(H32="Kind",F32*80%,0) -> 0 | P32: Geben Sie anstelle der in Anführungsstrichen stehenden Vornamen diejenigen Ihrer abzurechnenden Familienangehörigen
A33: 26 | B33: =VLOOKUP(A33,Krankheitskosten!$A$9:$E$98,3) -> 0 | F33: =VLOOKUP(A33,Krankheitskosten!$A$9:$E$98,5) -> 0 | G33: {=IF(H33="Beate","Ehegatte",IF(H33="Marion","Kind",IF(H33="Kitty","Kind",IF(H33="Werner","Antragsteller",""))))} | H33: =VLOOKUP(A33,Krankheitskosten!$A$9:$E$98,2) -> 0 | J33: =IF(G33="Antragsteller",F33*70%,0) -> 0 | K33: =IF(G33="Ehegatte",F33*70%,0) -> 0 | L33: =IF(G33="Kind",F33*80%,0) -> 0 | M33: =IF(H33="Kind",F33*80%,0) -> 0 | P33: oder Ihren Vornamen ein. Bestätigen sie Ihre Eingabe, nichtbenötigte Namensbezeichnungen können Sie löschen,
A34: 27 | B34: =VLOOKUP(A34,Krankheitskosten!$A$9:$E$98,3) -> 0 | F34: =VLOOKUP(A34,Krankheitskosten!$A$9:$E$98,5) -> 0 | G34: {=IF(H34="Beate","Ehegatte",IF(H34="Marion","Kind",IF(H34="Kitty","Kind",IF(H34="Werner","Antragsteller",""))))} | H34: =VLOOKUP(A34,Krankheitskosten!$A$9:$E$98,2) -> 0 | J34: =IF(G34="Antragsteller",F34*70%,0) -> 0 | K34: =IF(G34="Ehegatte",F34*70%,0) -> 0 | L34: =IF(G34="Kind",F34*80%,0) -> 0 | M34: =IF(H34="Kind",F34*80%,0) -> 0 | P34: benötigte hinzufügen.
A35: 28 | B35: =VLOOKUP(A35,Krankheitskosten!$A$9:$E$98,3) -> 0 | F35: =VLOOKUP(A35,Krankheitskosten!$A$9:$E$98,5) -> 0 | G35: {=IF(H35="Beate","Ehegatte",IF(H35="Marion","Kind",IF(H35="Kitty","Kind",IF(H35="Werner","Antragsteller",""))))} | H35: =VLOOKUP(A35,Krankheitskosten!$A$9:$E$98,2) -> 0 | J35: =IF(G35="Antragsteller",F35*70%,0) -> 0 | K35: =IF(G35="Ehegatte",F35*70%,0) -> 0 | L35: =IF(G35="Kind",F35*80%,0) -> 0 | M35: =IF(H35="Kind",F35*80%,0) -> 0 | P35: Fassen Sie das Feld mit der Maus am rechten unteren Punkt ( + ) an, halten Sie die Maustaste gedrückt und ziehen Sie
A36: 29 | B36: =VLOOKUP(A36,Krankheitskosten!$A$9:$E$98,3) -> 0 | F36: =VLOOKUP(A36,Krankheitskosten!$A$9:$E$98,5) -> 0 | G36: {=IF(H36="Beate","Ehegatte",IF(H36="Marion","Kind",IF(H36="Kitty","Kind",IF(H36="Werner","Antragsteller",""))))} | H36: =VLOOKUP(A36,Krankheitskosten!$A$9:$E$98,2) -> 0 | J36: =IF(G36="Antragsteller",F36*70%,0) -> 0 | K36: =IF(G36="Ehegatte",F36*70%,0) -> 0 | L36: =IF(G36="Kind",F36*80%,0) -> 0 | M36: =IF(H36="Kind",F36*80%,0) -> 0 | P36: das Feld bis zur letzten Zeile der Tabelle. Fertig.
A37: 30 | B37: =VLOOKUP(A37,Krankheitskosten!$A$9:$E$98,3) -> 0 | F37: =VLOOKUP(A37,Krankheitskosten!$A$9:$E$98,5) -> 0 | G37: {=IF(H37="Beate","Ehegatte",IF(H37="Marion","Kind",IF(H37="Kitty","Kind",IF(H37="Werner","Antragsteller",""))))} | H37: =VLOOKUP(A37,Krankheitskosten!$A$9:$E$98,2) -> 0 | J37: =IF(G37="Antragsteller",F37*70%,0) -> 0 | K37: =IF(G37="Ehegatte",F37*70%,0) -> 0 | L37: =IF(G37="Kind",F37*80%,0) -> 0 | M37: =IF(H37="Kind",F37*80%,0) -> 0
A38: 31 | B38: =VLOOKUP(A38,Krankheitskosten!$A$9:$E$98,3) -> 0 | F38: =VLOOKUP(A38,Krankheitskosten!$A$9:$E$98,5) -> 0 | G38: {=IF(H38="Beate","Ehegatte",IF(H38="Marion","Kind",IF(H38="Kitty","Kind",IF(H38="Werner","Antragsteller",""))))} | H38: =VLOOKUP(A38,Krankheitskosten!$A$9:$E$98,2) -> 0 | J38: =IF(G38="Antragsteller",F38*70%,0) -> 0 | K38: =IF(G38="Ehegatte",F38*70%,0) -> 0 | L38: =IF(G38="Kind",F38*80%,0) -> 0 | M38: =IF(H38="Kind",F38*80%,0) -> 0
A39: 32 | B39: =VLOOKUP(A39,Krankheitskosten!$A$9:$E$98,3) -> 0 | F39: =VLOOKUP(A39,Krankheitskosten!$A$9:$E$98,5) -> 0 | G39: {=IF(H39="Beate","Ehegatte",IF(H39="Marion","Kind",IF(H39="Kitty","Kind",IF(H39="Werner","Antragsteller",""))))} | H39: =VLOOKUP(A39,Krankheitskosten!$A$9:$E$98,2) -> 0 | J39: =IF(G39="Antragsteller",F39*70%,0) -> 0 | K39: =IF(G39="Ehegatte",F39*70%,0) -> 0 | L39: =IF(G39="Kind",F39*80%,0) -> 0 | M39: =IF(H39="Kind",F39*80%,0) -> 0 | O39: p | P39: Ist eine Abrechnung erfolgt, sind die Daten in den Spalten C, D und E der Tabelle zu löschen
A40: 33 | B40: =VLOOKUP(A40,Krankheitskosten!$A$9:$E$98,3) -> 0 | F40: =VLOOKUP(A40,Krankheitskosten!$A$9:$E$98,5) -> 0 | G40: {=IF(H40="Beate","Ehegatte",IF(H40="Marion","Kind",IF(H40="Kitty","Kind",IF(H40="Werner","Antragsteller",""))))} | H40: =VLOOKUP(A40,Krankheitskosten!$A$9:$E$98,2) -> 0 | J40: =IF(G40="Antragsteller",F40*70%,0) -> 0 | K40: =IF(G40="Ehegatte",F40*70%,0) -> 0 | L40: =IF(G40="Kind",F40*80%,0) -> 0 | M40: =IF(H40="Kind",F40*80%,0) -> 0 | P40: und die oberste Zahl in Spalte A, Zeile 30 durch die folgende Nr. aus der Tabelle
A41: 34 | B41: =VLOOKUP(A41,Krankheitskosten!$A$9:$E$98,3) -> 0 | F41: =VLOOKUP(A41,Krankheitskosten!$A$9:$E$98,5) -> 0 | G41: {=IF(H41="Beate","Ehegatte",IF(H41="Marion","Kind",IF(H41="Kitty","Kind",IF(H41="Werner","Antragsteller",""))))} | H41: =VLOOKUP(A41,Krankheitskosten!$A$9:$E$98,2) -> 0 | J41: =IF(G41="Antragsteller",F41*70%,0) -> 0 | K41: =IF(G41="Ehegatte",F41*70%,0) -> 0 | L41: =IF(G41="Kind",F41*80%,0) -> 0 | M41: =IF(H41="Kind",F41*80%,0) -> 0 | P41: "Krankheitskosten" zu ersetzen! Fassen Sie die ersten beiden oberen Zahlen mit der Maus an
A42: 35 | B42: =VLOOKUP(A42,Krankheitskosten!$A$9:$E$98,3) -> 0 | F42: =VLOOKUP(A42,Krankheitskosten!$A$9:$E$98,5) -> 0 | G42: {=IF(H42="Beate","Ehegatte",IF(H42="Marion","Kind",IF(H42="Kitty","Kind",IF(H42="Werner","Antragsteller",""))))} | H42: =VLOOKUP(A42,Krankheitskosten!$A$9:$E$98,2) -> 0 | J42: =IF(G42="Antragsteller",F42*70%,0) -> 0 | K42: =IF(G42="Ehegatte",F42*70%,0) -> 0 | L42: =IF(G42="Kind",F42*80%,0) -> 0 | M42: =IF(H42="Kind",F42*80%,0) -> 0 | P42: ( + in der rechten unteren Ecke) und ziehen Sie die Zeilen bis zur letzten Zeile der Tabelle (45).
A43: 36 | B43: =VLOOKUP(A43,Krankheitskosten!$A$9:$E$98,3) -> 0 | F43: =VLOOKUP(A43,Krankheitskosten!$A$9:$E$98,5) -> 0 | G43: {=IF(H43="Beate","Ehegatte",IF(H43="Marion","Kind",IF(H43="Kitty","Kind",IF(H43="Werner","Antragsteller",""))))} | H43: =VLOOKUP(A43,Krankheitskosten!$A$9:$E$98,2) -> 0 | J43: =IF(G43="Antragsteller",F43*70%,0) -> 0 | K43: =IF(G43="Ehegatte",F43*70%,0) -> 0 | L43: =IF(G43="Kind",F43*80%,0) -> 0 | M43: =IF(H43="Kind",F43*80%,0) -> 0 | P43: Löschen Sie bei diesem Vorgehen nicht die Formeln in den Spalten B, F und G!
A44: 37 | B44: =VLOOKUP(A44,Krankheitskosten!$A$9:$E$98,3) -> 0 | F44: =VLOOKUP(A44,Krankheitskosten!$A$9:$E$98,5) -> 0 | G44: {=IF(H44="Beate","Ehegatte",IF(H44="Marion","Kind",IF(H44="Kitty","Kind",IF(H44="Werner","Antragsteller",""))))} | H44: =VLOOKUP(A44,Krankheitskosten!$A$9:$E$98,2) -> 0 | J44: =IF(G44="Antragsteller",F44*70%,0) -> 0 | K44: =IF(G44="Ehegatte",F44*70%,0) -> 0 | L44: =IF(G44="Kind",F44*80%,0) -> 0 | M44: =IF(H44="Kind",F44*80%,0) -> 0
A45: 38 | B45: =VLOOKUP(A45,Krankheitskosten!$A$9:$E$98,3) -> 0 | F45: =VLOOKUP(A45,Krankheitskosten!$A$9:$E$98,5) -> 0 | G45: {=IF(H45="Beate","Ehegatte",IF(H45="Marion","Kind",IF(H45="Kitty","Kind",IF(H45="Werner","Antragsteller",""))))} | H45: =VLOOKUP(A45,Krankheitskosten!$A$9:$E$98,2) -> 0 | J45: =IF(G45="Antragsteller",F45*70%,0) -> 0 | K45: =IF(G45="Ehegatte",F45*70%,0) -> 0 | L45: =IF(G45="Kind",F45*80%,0) -> 0 | M45: =IF(H45="Kind",F45*80%,0) -> 0
B46: Summen: | C46: =SUM(C30:C45) -> 270 | D46: =SUM(D30:D45) -> 0 | E46: =SUM(E30:E45) -> 0 | F46: =SUM(F30:F45) -> 0 | J46: =SUM(J30:J45) -> 0 | K46: =SUM(K30:K45) -> 0 | L46: =SUM(L30:L45) -> 0 | M46: =SUM(M30:M45) -> 0 | P46: Erfolgen Eintragungen im Tabellenblatt "Krankheitskosten" verschwindet die
E47: Kontrolle: | F47: =SUM(C46:E46) -> 270 | I47: ./. | P47: Bezeichnung #BEZUG! Im Bereich F 30 bis bis F45.
B48: Die Überweisung wollen Sie bitte auf das Ihnen bekannte Konto vornehmen. | J48: =J46-J47 -> 0 | K48: =K46-K47 -> 0 | L48: =L46-L47 -> 0 | M48: =M46-M47 -> 0 | P48: Es erscheint dann der Abrechnungsbetrag, den Sie bitte auf die zeilen D, D und E
J49: Summe der Auszahlung: | P49: aufteilen.
B50: - Anlagen | J50: =SUM(J48:L48) -> 0
B52: Mit freundlichen Grüßen

Sheet Unfallanzeige
A1: Unfallanzeige
A2: ( zur Vorlage bei der Beihilfestelle )
A3: Werner Luck
A4: Hauptstr. 2, 54413 Beuren
A5: Pers.Nr. 06276090 | E5: 54413 Beuren, den | G5: =TODAY() -> 46239
A8: Zusätzliche Angaben zum Beihilfeantrag vom:
A12: (Verletzte / Verletzter ) | E12: ( Geburtsdatum )
A16: (Wohnort)
A17: Krankenversichert bei:
A19: Unfallschilderung: (u.a. ausführliche Schilderung des Schadenshergangs, mit Datum und Zeitpunkt)
A32: Art der Verletzung:
A33: 1. Beruht der Unfall
B34: a) auf eigenem Verschulden? | F34: Ja / Nein
B35: b) auf einem Mitverschulden? | F35: Ja / Nein
B36: c) ausschließlich auf dem Verschulden
B37: eines Dritten? | F37: Ja / Nein
A39: 2. Wenn ein Dritter den Unfall (mit-) verschuldet hat:
B40: a) Um wen handelt es sich?
B41: (Name, Vorname, Wohnort)
B42: b) Welche Schritte haben Sie gegen
B43: ihn bereits vorgenommen?
B44: (z.B. Rechtsanwalt, Klage)
B45: c) Kann er oder ggf. seine Haftpflicht= | F45: Ja / Nein
B46: versicherung schadensersatzpflichtig | F46: Wenn ja: Name der Versicherung
B47: gemacht werden? | F47: und Schadensnummer:
B48: Wenn nicht, aus welchen Gründen?
B52: d) Liegt bereits ein Schuldanerkenntnis | F52: Ja / Nein
B53: oder ein Urteil vor? ( Vorlage desselben erbeten)
B55: e) Ist ggf. eine Erstattung von dem Schadensersatz=
B56: pflichtigen nicht zu erlangen und aus welchen
B57: Gründen? (Vorlage des Schriftwechsels erbeten)
A59: 3. Welche Polizeidienststelle hat den Unfall aufgenommen?
A62: 4. Waren Sie infolge dieses Unfalles dienstunfähig? | F62: Ja / Nein
B64: Wenn "Ja" | E64: von | F64: bis
A66: 5. Handelt es sich um einen Dienstunfall? | F66: Ja / Nein
A69: =TODAY() -> 46239
A70: Datum | C70: Unterschrift des Beihilfeberechtigten
