Workbook

Sheet Info
A1: Massen-, Sorten- und Kostenplanung
A2: Detailplanung im Forstrevier. Kalkulieren Sie den voraussichtlichen Massenanfall, die Sortenverteilung, die Kosten
A3: und Erlöse je Hiebsort oder Maßnahme.
A6: Excel-Anwendung von
A7: WERNER LUCK
A9: INHALT
A11: Info | E11: Dieses Blatt
A12: E | E12: Eingaben (Anweisung zum Gebrauch der Arbeitsmappe)
A13: A | E13: Angaben allgemeiner Art
A14: Vordruck | E14: Vordruck für BHD-Feldaufnahmen
A15: Masse sw | E15: Massenermittlung schwach
A16: Masse st | E16: Massenermittlung stark
A17: Sorten-Kosten sw mm | E17: Sorten-, Kosten-, Erlös-, DB-Kalkulation sw mm
A18: Sorten-Kosten sw HV | E18: Sorten-, Kosten-, Erlös-, DB-Kalkulation sw Harvester
A19: Sorten-Kosten st mm | E19: Sorten-, Kosten-, Erlös-, DB-Kalkulation st mm
A20: Aufarbeitungskosten sw mm | E20: Ermittlung der Aufarbeitungskosten anhand StanProko
A21: Aufarbeitungskosten HV | E21: Ermittlung der Aufarbeitungskosten anhand StanProko
A22: Aufarbeitungskosten st mm | E22: Ermittlung der Aufarbeitungskosten anhand StanProko
... A24: Soll-Ist-Vergleich | E24: Überprüfung ausgesuchter Kalkulationen
G25: StanProko (Standardproduktionskosten)
A27: Excel-Anwendung für das Forstrevier und den Privatwaldbesitzer
A28: Entwickelt von Werner Luck
A29: Hauptstraße 2
A30: 54413 Beuren
A31: Tel.: 06586/986025
A32: E-Mail: wernerluck@web.de

Sheet E
A1: Erläuterungen und Anweisungen zum Gebrauch der Arbeitsmappe
A3: Tabellenblatt:
A5: A | C5: Angaben zum Waldbesitz
A7: Vordruck | C7: Waldaufnahmebogen BHD-Kluppung (Stichprobe, repräsentative Kluppung)
A9: Vordruck Vollkluppung | C9: Waldaufnahmebogen BHD-Vollkluppung
A11: Masse sw | B11: (schwach) | C11: Berechnungsbogen Massen schwach, BHD 20 bis 49
A13: Masse st | B13: (stark) | C13: Berechnungsbogen Massenstark, BHD 45 bis 82
A15: Sorten sw mm | C15: Berechnungsbogen Sorten schwach, motormanuelle Aufarbeitung
A17: Sorten sw HV | C17: Berechnungsbogen Sorten schwach, Harvesteraufarbeitung
A19: Aufarbeitungskosten sw | C19: Berechnung der Aufarbeitungskosten motormanuell mittels Standardproduktionskosten
A20: mm | B20: (schwach)
A21: Aufarbeitungskosten HV | C21: Berechnung der Aufarbeitungskosten durch Harvester mittels Standardproduktionskosten
A23: Aufarbeitungskosten st | C23: Berechnung der Aufarbeitungskosten motormanuell mittels Standardproduktionskosten
A24: mm | B24: (stark)
A26: Holzpreise | C26: Übersicht über die derzeit erzielbaren Holzpreise
A28: Soll-Ist-Vergleich | C28: Überprüfung ausgesuchter Kalkulationen
A30: Sorten_Ist sw | C30: Zusammenstellung der ist-Ergebnisse einer Maßnahme Stärkeklassen 1a bis 3b
B31: (schwach)
A32: Sorten_Ist st | C32: Zusammenstellung der ist-Ergebnisse einer Maßnahme Stärkeklassen 2b bis =>6
B33: (stark)

Sheet A
A1: Angaben, die Sie auf diesem Blatt machen,
A2: werden tlw. in die folgenden Blätter
A3: übernommen.
G4: Nr.:
A5: Waldbesitzer
A7: Forstamt
A9: Forstrevier
A11: Betrieb
A13: HHJ/WJ

Sheet Vordruck
A1: Waldaufnahmebogen
A2: Abt.: | C2: Flächengröße:
A3: Baumart (en):
A4: Durchforstungsart:
A5: Durchschnittliche Baumhöhe:
A6: BHD | B6: Strichliste | C6: Stückzahl
A7: cm
A8: 7
A9: 8
A10: 9
A11: 10
A12: 11
A13: 12
A14: 13
A15: 14
A16: 15
A17: 16
A18: 17
A19: 18
... A91: 90

Sheet Vordruck Vollkluppung
A1: Waldaufnahmebogen Vollkluppung
A2: Abt.: | D2: Flächengröße:
A3: Baumart (en):
A4: Durchforstungsart:
A5: Durchschnittliche Baumhöhe:
A6: Baum | B6: BHD | C6: Baum- | D6: Bemerkg.
A7: Nr. | B7: cm | C7: höhe m
A8: 1
A9: 2
A10: 3
A11: 4
A12: 5
A13: 6
A14: 7
A15: 8
A16: 9
A17: 10
A18: 11
A19: 12
... A57: 50
A59: Datum: | C59: Unterschrift:

Sheet Masse sw
A1: Berechnungsbogen-Massen | E1: sw
A2: Abt.: | C2: Flächengröße: | E2: 0.5 | F2: Entnahme- | J2: Nur die weißen Felder ausfüllen, die ausgegrauten werden automatisch berechnet!
A3: Baumart: | C3: Durchforstungsart: | F3: stückzahl
A4: Durchschnittliche Baumhöhe: | E4: 14 | F4: 34
A5: BHD | B5: Kreis- | C5: Stück- | D5: Kreisflächen- | F5: Arithmetischer
A6: cm | B6: fläche | C6: zahl | D6: summe | F6: BHD
A7: 7 | B7: =(A7/200*A7/200*3.1415927) -> 0.0038484511 | D7: =B7*C7 -> 0 | F7: =A7*C7 -> 0
A8: 8 | B8: =(A8/200*A8/200*3.1415927) -> 0.0050265483 | D8: =B8*C8 -> 0 | F8: =A8*C8 -> 0
A9: 9 | B9: =(A9/200*A9/200*3.1415927) -> 0.0063617252 | D9: =B9*C9 -> 0 | F9: =A9*C9 -> 0
A10: 10 | B10: =(A10/200*A10/200*3.1415927) -> 0.0078539818 | D10: =B10*C10 -> 0 | F10: =A10*C10 -> 0
A11: 11 | B11: =(A11/200*A11/200*3.1415927) -> 0.0095033179 | D11: =B11*C11 -> 0 | F11: =A11*C11 -> 0
A12: 12 | B12: =(A12/200*A12/200*3.1415927) -> 0.011309734 | D12: =B12*C12 -> 0 | F12: =A12*C12 -> 0
A13: 13 | B13: =(A13/200*A13/200*3.1415927) -> 0.013273229 | D13: =B13*C13 -> 0 | F13: =A13*C13 -> 0
A14: 14 | B14: =(A14/200*A14/200*3.1415927) -> 0.015393804 | D14: =B14*C14 -> 0 | F14: =A14*C14 -> 0
A15: 15 | B15: =(A15/200*A15/200*3.1415927) -> 0.017671459 | D15: =B15*C15 -> 0 | F15: =A15*C15 -> 0
A16: 16 | B16: =(A16/200*A16/200*3.1415927) -> 0.020106193 | D16: =B16*C16 -> 0 | F16: =A16*C16 -> 0
A17: 17 | B17: =(A17/200*A17/200*3.1415927) -> 0.022698007 | D17: =B17*C17 -> 0 | F17: =A17*C17 -> 0
A18: 18 | B18: =(A18/200*A18/200*3.1415927) -> 0.025446901 | D18: =B18*C18 -> 0 | F18: =A18*C18 -> 0
A19: 19 | B19: =(A19/200*A19/200*3.1415927) -> 0.028352874 | D19: =B19*C19 -> 0 | F19: =A19*C19 -> 0
A20: 20 | B20: =(A20/200*A20/200*3.1415927) -> 0.031415927 | C20: 3 | D20: =B20*C20 -> 0.0942 | F20: =A20*C20 -> 60 | J20: Beispiel! Bitte löschen, wenn Sie eigene Kalkulationen tätigen wollen.
A21: 21 | B21: =(A21/200*A21/200*3.1415927) -> 0.03463606 | C21: 2 | D21: =B21*C21 -> 0.0693 | F21: =A21*C21 -> 42
A22: 22 | B22: =(A22/200*A22/200*3.1415927) -> 0.038013272 | C22: 8 | D22: =B22*C22 -> 0.3041 | F22: =A22*C22 -> 176
A23: 23 | B23: =(A23/200*A23/200*3.1415927) -> 0.041547563 | C23: 4 | D23: =B23*C23 -> 0.1662 | F23: =A23*C23 -> 92
A24: 24 | B24: =(A24/200*A24/200*3.1415927) -> 0.045238935 | C24: 12 | D24: =B24*C24 -> 0.5429 | F24: =A24*C24 -> 288
A25: 25 | B25: =(A25/200*A25/200*3.1415927) -> 0.049087386 | D25: =B25*C25 -> 0 | F25: =A25*C25 -> 0
A26: 26 | B26: =(A26/200*A26/200*3.1415927) -> 0.053092917 | C26: 2 | D26: =B26*C26 -> 0.1062 | F26: =A26*C26 -> 52
A27: 27 | B27: =(A27/200*A27/200*3.1415927) -> 0.057255527 | D27: =B27*C27 -> 0 | F27: =A27*C27 -> 0
A28: 28 | B28: =(A28/200*A28/200*3.1415927) -> 0.061575217 | C28: 3 | D28: =B28*C28 -> 0.1847 | F28: =A28*C28 -> 84
A29: 29 | B29: =(A29/200*A29/200*3.1415927) -> 0.066051987 | D29: =B29*C29 -> 0 | F29: =A29*C29 -> 0
A30: 30 | B30: =(A30/200*A30/200*3.1415927) -> 0.070685836 | D30: =B30*C30 -> 0 | F30: =A30*C30 -> 0
A31: 31 | B31: =(A31/200*A31/200*3.1415927) -> 0.075476765 | D31: =B31*C31 -> 0 | F31: =A31*C31 -> 0
A32: 32 | B32: =(A32/200*A32/200*3.1415927) -> 0.080424773 | D32: =B32*C32 -> 0 | F32: =A32*C32 -> 0
A33: 33 | B33: =(A33/200*A33/200*3.1415927) -> 0.085529861 | D33: =B33*C33 -> 0 | F33: =A33*C33 -> 0
A34: 34 | B34: =(A34/200*A34/200*3.1415927) -> 0.090792029 | D34: =B34*C34 -> 0 | F34: =A34*C34 -> 0
A35: 35 | B35: =(A35/200*A35/200*3.1415927) -> 0.096211276 | D35: =B35*C35 -> 0 | F35: =A35*C35 -> 0
A36: 36 | B36: =(A36/200*A36/200*3.1415927) -> 0.1017876 | D36: =B36*C36 -> 0 | F36: =A36*C36 -> 0
A37: 37 | B37: =(A37/200*A37/200*3.1415927) -> 0.10752101 | D37: =B37*C37 -> 0 | F37: =A37*C37 -> 0
A38: 38 | B38: =(A38/200*A38/200*3.1415927) -> 0.1134115 | D38: =B38*C38 -> 0 | F38: =A38*C38 -> 0
A39: 39 | B39: =(A39/200*A39/200*3.1415927) -> 0.11945906 | D39: =B39*C39 -> 0 | F39: =A39*C39 -> 0
A40: 40 | B40: =(A40/200*A40/200*3.1415927) -> 0.12566371 | D40: =B40*C40 -> 0 | F40: =A40*C40 -> 0
...

Sheet Masse st
A1: Berechnungsbogen-Massen | E1: st
A2: Abt.: | C2: Flächengröße: | F2: Entnahme-
A3: Baumart: | C3: Durchforstungsart: | E3: mm | F3: stückzahl
A4: Durchschnittliche Baumhöhe:
A5: BHD | B5: Kreis- | C5: Stück- | D5: Kreisflächen- | F5: Arithmetischer
A6: cm | B6: fläche | C6: zahl | D6: summe | F6: BHD
A7: 45 | B7: =(A7/200*A7/200*3.1415927) -> 0.15904313 | D7: =B7*C7 -> 0 | F7: =A7*C7 -> 0
A8: 46 | B8: =(A8/200*A8/200*3.1415927) -> 0.16619025 | D8: =B8*C8 -> 0 | F8: =A8*C8 -> 0
A9: 47 | B9: =(A9/200*A9/200*3.1415927) -> 0.17349446 | D9: =B9*C9 -> 0 | F9: =A9*C9 -> 0
A10: 48 | B10: =(A10/200*A10/200*3.1415927) -> 0.18095574 | D10: =B10*C10 -> 0 | F10: =A10*C10 -> 0
A11: 49 | B11: =(A11/200*A11/200*3.1415927) -> 0.1885741 | D11: =B11*C11 -> 0 | F11: =A11*C11 -> 0
A12: 50 | B12: =(A12/200*A12/200*3.1415927) -> 0.19634954 | D12: =B12*C12 -> 0 | F12: =A12*C12 -> 0
A13: 51 | B13: =(A13/200*A13/200*3.1415927) -> 0.20428207 | D13: =B13*C13 -> 0 | F13: =A13*C13 -> 0
A14: 52 | B14: =(A14/200*A14/200*3.1415927) -> 0.21237167 | D14: =B14*C14 -> 0 | F14: =A14*C14 -> 0
A15: 53 | B15: =(A15/200*A15/200*3.1415927) -> 0.22061835 | D15: =B15*C15 -> 0 | F15: =A15*C15 -> 0
A16: 54 | B16: =(A16/200*A16/200*3.1415927) -> 0.22902211 | D16: =B16*C16 -> 0 | F16: =A16*C16 -> 0
A17: 55 | B17: =(A17/200*A17/200*3.1415927) -> 0.23758295 | D17: =B17*C17 -> 0 | F17: =A17*C17 -> 0
A18: 56 | B18: =(A18/200*A18/200*3.1415927) -> 0.24630087 | D18: =B18*C18 -> 0 | F18: =A18*C18 -> 0
... A44: 82 | B44: =(A44/200*A44/200*3.1415927) -> 0.52810173 | D44: =B44*C44 -> 0 | F44: =A44*C44 -> 0
A45: Summen: | C45: =SUM(C7:C44) -> 0 | D45: =SUM(D7:D44) -> 0 | F45: =SUM(F7:F44) -> 0
A47: Berechnung der durchschnittlichen Kreisfläche:
A48: Kreisflächensumme ( m2 ) | D48: N Kluppung | F48: Durchschnittliche Kreisfläche ( m2 )
B50: =D45 -> 0 | D50: =C45 -> 0 | G50: =B50/D50 -> #DIV/0! | H50: arith. BHD
A52: Herleitung des durchschnittlichen BHD | H52: =F45/D50 -> #DIV/0!
A53: Der durchschnittliche BHD kann an der Kreisfläche abgelesen werden.
A55: Berechnung der durchschnittlichen Stückmasse (Efm o.R.):
B56: Ø Kreisfläche | C56: x Ø Höhe | D56: x Formzahl | E56: . / . Ernteverlust | G56: Stückmasse
B58: =G50 -> #DIV/0! | C58: =E4 -> 0 | D58: 0.5 | E58: 0.19 | G58: =PRODUCT(B58*C58*D58)*0.81 -> #DIV/0!
A60: Herleitung des Durchforstungsansatzes je ha:
A61: Ø Stückmasse/Efm | C61: x | D61: Gesamtstückzahl je ha | F61: = | G61: Durchforstungsansatz je ha
B63: =G58 -> #DIV/0! | E63: =F4/E2 -> #DIV/0! | H63: =B63*E63 -> #DIV/0!

Sheet Sorten sw mm
A1: Berechnungsbogen-Sorten | E1: sw
A2: Abt.: | B2: ='Masse sw'!B2 -> 0 | D2: Tabelle Nr.: | F2: blau | G2: 3.3 | H2: Hiebsmasse: | J2: ='Masse sw'!H68*'Masse sw'!E2 -> 8.16 | L2: Die weißen Felder mit der erforderlichen Daten ausfüllen.
A3: Baumart: | B3: ='Masse sw'!B3 -> 0 | D3: BHD | F3: ='Masse sw'!G57 -> 23 | J3: Efm o.R. | L3: Die ausgegrauten Felder werden automatisch berechnet.
A4: MB-Nr.: | D4: WJ | H4: Aufarbeitung | J4: mm | L4: Für Ihre Berechnungen löschen Sie bitte die eingetragenen Beispielsdaten.
A6: Sortenverteilung
A7: Sortiment | B7: L | H7: I | I7: NH | J7: Gesamt
A8: Stärkeklasse | B8: 1a | C8: 1b | D8: 2a | E8: 2b | F8: 3a | G8: 3b
A9: Prozent | B9: 5 | C9: 15 | D9: 25 | E9: 25 | F9: 15 | G9: 5 | H9: 5 | I9: 5 | J9: =SUM(B9:I9) -> 100 | L9: Die geschätzte (oder ermittelte) Stärkeverteilung eintragen!
A11: Hiebsmassenverteilung
A12: Efm o.R. | B12: =$J$2*B9/100 -> 0.41 | C12: =$J$2*C9/100 -> 1.22 | D12: =$J$2*D9/100 -> 2.04 | E12: =$J$2*E9/100 -> 2.04 | F12: =$J$2*F9/100 -> 1.22 | G12: =$J$2*G9/100 -> 0.41 | H12: =$J$2*H9/100 -> 0.41 | I12: =$J$2*I9/100 -> 0.41 | J12: =SUM(B12:I12) -> 8.16
A14: Güteansprache
A15: A
A16: B | B16: 30 | D16: 10
A17: C | B17: 50 | D17: 35 | L17: Die Güteverteilung je Stärkeklasse eintragen!
A18: D | B18: 20 | D18: 55
A19: N
A20: F
A21: K
A22: Summe: | B22: =SUM(B15:B21) -> 100 | C22: =SUM(C15:C21) -> 0 | D22: =SUM(D15:D21) -> 100 | E22: =SUM(E15:E21) -> 0 | F22: =SUM(F15:F21) -> 0 | G22: =SUM(G15:G21) -> 0 | H22: =SUM(H15:H21) -> 0
A24: Verteilung nach Sorten und Güten
A25: A | B25: =$B$12*B15/100 -> 0 | C25: =$C$12*C15/100 -> 0 | D25: =$D$12*D15/100 -> 0 | E25: =$E$12*E15/100 -> 0 | F25: =$F$12*F15/100 -> 0 | G25: =$G$12*G15/100 -> 0 | H25: =$H$12*H15/100 -> 0
A26: B | B26: =$B$12*B16/100 -> 0.12 | C26: =$C$12*C16/100 -> 0 | D26: =$D$12*D16/100 -> 0.2 | E26: =$E$12*E16/100 -> 0 | F26: =$F$12*F16/100 -> 0 | G26: =$G$12*G16/100 -> 0 | H26: =$H$12*H16/100 -> 0
A27: C | B27: =$B$12*B17/100 -> 0.21 | C27: =$C$12*C17/100 -> 0 | D27: =$D$12*D17/100 -> 0.71 | E27: =$E$12*E17/100 -> 0 | F27: =$F$12*F17/100 -> 0 | G27: =$G$12*G17/100 -> 0 | H27: =$H$12*H17/100 -> 0
A28: D | B28: =$B$12*B18/100 -> 0.08 | C28: =$C$12*C18/100 -> 0 | D28: =$D$12*D18/100 -> 1.12 | E28: =$E$12*E18/100 -> 0 | F28: =$F$12*F18/100 -> 0 | G28: =$G$12*G18/100 -> 0 | H28: =$H$12*H18/100 -> 0
A29: N | B29: =$B$12*B19/100 -> 0 | C29: =$C$12*C19/100 -> 0 | D29: =$D$12*D19/100 -> 0 | E29: =$E$12*E19/100 -> 0 | F29: =$F$12*F19/100 -> 0 | G29: =$G$12*G19/100 -> 0 | H29: =$H$12*H19/100 -> 0
A30: F | B30: =$B$12*B20/100 -> 0 | C30: =$C$12*C20/100 -> 0 | D30: =$D$12*D20/100 -> 0 | E30: =$E$12*E20/100 -> 0 | F30: =$F$12*F20/100 -> 0 | G30: =$G$12*G20/100 -> 0 | H30: =$H$12*H20/100 -> 0
A31: K | B31: =$B$12*B21/100 -> 0 | C31: =$C$12*C21/100 -> 0 | D31: =$D$12*D21/100 -> 0 | E31: =$E$12*E21/100 -> 0 | F31: =$F$12*F21/100 -> 0 | G31: =$G$12*G21/100 -> 0 | H31: =$H$12*H21/100 -> 0
A32: Summe: | B32: =SUM(B25:B31) -> 0.41 | C32: =SUM(C25:C31) -> 0 | D32: =SUM(D25:D31) -> 2.03 | E32: =SUM(E25:E31) -> 0 | F32: =SUM(F25:F31) -> 0 | G32: =SUM(G25:G31) -> 0 | H32: =SUM(H25:H31) -> 0 | I32: =I12 -> 0.41 | J32: =SUM(B32:I32) -> 2.85
A34: Ermittlung des voraussichtlichen Erlößes
A35: Kalkulationspreis/€
A36: St/So | B36: 1a | C36: 1b | D36: 2a | E36: 2b | F36: 3a | G36: 3b | H36: I
A37: A
A38: B | B38: 25 | D38: 30
A39: C | B39: 20 | D39: 25
A40: D | B40: 10 | D40: 15 | L40: Den Verkaufspreis je Stärke- und Güteklasse eintragen!
A41: N
A42: F
A43: K
A44: Erlöß/€
A45: A | B45: =B25*B37 -> 0 | C45: =C25*C37 -> 0 | D45: =D25*D37 -> 0 | E45: =E25*E37 -> 0 | F45: =F25*F37 -> 0 | G45: =G25*G37 -> 0 | H45: =H25*H37 -> 0 | J45: =SUM(B45:I45) -> 0
...

Sheet Sorten sw HV
A1: Berechnungsbogen-Sorten | E1: sw
A2: Abt.: | B2: ='Masse sw'!B2 -> 0 | D2: Tabelle Nr.: | F2: orange | G2: 3.3 | H2: Hiebsmasse: | J2: ='Masse sw'!H68*'Masse sw'!E2 -> 8.16
A3: Baumart: | B3: ='Masse sw'!B3 -> 0 | D3: BHD | F3: ='Masse sw'!G57 -> 23 | J3: Efm o.R.
A4: MB-Nr.: | D4: WJ | H4: Aufarbeitung | J4: HV
A6: Sortenverteilung
A7: Sortiment | B7: L | H7: I | I7: NH | J7: Gesamt
A8: Stärkeklasse | B8: 1a | C8: 1b | D8: 2a | E8: 2b | F8: 3a | G8: 3b
A9: Prozent | J9: =SUM(B9:I9) -> 0
A11: Hiebsmassenverteilung
A12: Efm o.R. | B12: =$J$2*B9/100 -> 0 | C12: =$J$2*C9/100 -> 0 | D12: =$J$2*D9/100 -> 0 | E12: =$J$2*E9/100 -> 0 | F12: =$J$2*F9/100 -> 0 | G12: =$J$2*G9/100 -> 0 | H12: =$J$2*H9/100 -> 0 | I12: =$J$2*I9/100 -> 0 | J12: =SUM(B12:I12) -> 0
A14: Güteansprache
A15: A
A16: B
A17: C
A18: D
A19: N
A20: F
A21: K
A22: Summe: | B22: =SUM(B15:B21) -> 0 | C22: =SUM(C15:C21) -> 0 | D22: =SUM(D15:D21) -> 0 | E22: =SUM(E15:E21) -> 0 | F22: =SUM(F15:F21) -> 0 | G22: =SUM(G15:G21) -> 0 | H22: =SUM(H15:H21) -> 0
A24: Verteilung nach Sorten und Güten
A25: A | B25: =$B$12*B15/100 -> 0 | C25: =$C$12*C15/100 -> 0 | D25: =$D$12*D15/100 -> 0 | E25: =$E$12*E15/100 -> 0 | F25: =$F$12*F15/100 -> 0 | G25: =$G$12*G15/100 -> 0 | H25: =$H$12*H15/100 -> 0
A26: B | B26: =$B$12*B16/100 -> 0 | C26: =$C$12*C16/100 -> 0 | D26: =$D$12*D16/100 -> 0 | E26: =$E$12*E16/100 -> 0 | F26: =$F$12*F16/100 -> 0 | G26: =$G$12*G16/100 -> 0 | H26: =$H$12*H16/100 -> 0
A27: C | B27: =$B$12*B17/100 -> 0 | C27: =$C$12*C17/100 -> 0 | D27: =$D$12*D17/100 -> 0 | E27: =$E$12*E17/100 -> 0 | F27: =$F$12*F17/100 -> 0 | G27: =$G$12*G17/100 -> 0 | H27: =$H$12*H17/100 -> 0
A28: D | B28: =$B$12*B18/100 -> 0 | C28: =$C$12*C18/100 -> 0 | D28: =$D$12*D18/100 -> 0 | E28: =$E$12*E18/100 -> 0 | F28: =$F$12*F18/100 -> 0 | G28: =$G$12*G18/100 -> 0 | H28: =$H$12*H18/100 -> 0
A29: N | B29: =$B$12*B19/100 -> 0 | C29: =$C$12*C19/100 -> 0 | D29: =$D$12*D19/100 -> 0 | E29: =$E$12*E19/100 -> 0 | F29: =$F$12*F19/100 -> 0 | G29: =$G$12*G19/100 -> 0 | H29: =$H$12*H19/100 -> 0
A30: F | B30: =$B$12*B20/100 -> 0 | C30: =$C$12*C20/100 -> 0 | D30: =$D$12*D20/100 -> 0 | E30: =$E$12*E20/100 -> 0 | F30: =$F$12*F20/100 -> 0 | G30: =$G$12*G20/100 -> 0 | H30: =$H$12*H20/100 -> 0
A31: K | B31: =$B$12*B21/100 -> 0 | C31: =$C$12*C21/100 -> 0 | D31: =$D$12*D21/100 -> 0 | E31: =$E$12*E21/100 -> 0 | F31: =$F$12*F21/100 -> 0 | G31: =$G$12*G21/100 -> 0 | H31: =$H$12*H21/100 -> 0
A32: Summe: | B32: =SUM(B25:B31) -> 0 | C32: =SUM(C25:C31) -> 0 | D32: =SUM(D25:D31) -> 0 | E32: =SUM(E25:E31) -> 0 | F32: =SUM(F25:F31) -> 0 | G32: =SUM(G25:G31) -> 0 | H32: =SUM(H25:H31) -> 0 | I32: =I12 -> 0 | J32: =SUM(B32:I32) -> 0
A34: Ermittlung des voraussichtlichen Erlößes
A35: Kalkulationspreis/€
A36: St/So | B36: 1a | C36: 1b | D36: 2a | E36: 2b | F36: 3a | G36: 3b | H36: I
A37: A
A38: B
A39: C
A40: D
A41: N
A42: F
A43: K
A44: Erlöß/€
A45: A | B45: =B25*B37 -> 0 | C45: =C25*C37 -> 0 | D45: =D25*D37 -> 0 | E45: =E25*E37 -> 0 | F45: =F25*F37 -> 0 | G45: =G25*G37 -> 0 | H45: =H25*H37 -> 0 | J45: =SUM(B45:I45) -> 0
...

Sheet Sorten st
A1: Berechnungsbogen-Sorten | E1: st
A2: Abt.: | B2: ='Masse st'!B2 -> 0 | D2: Tabelle Nr.: | H2: Hiebsmasse: | J2: ='Masse st'!H63*'Masse st'!E2 -> #DIV/0!
A3: Baumart: | B3: ='Masse st'!B3 -> 0 | D3: BHD | F3: ='Masse st'!G52 -> 0 | J3: Efm o.R.
A4: MB-Nr.: | D4: WJ | H4: Aufarbeitung | J4: mm
A6: Sortenverteilung
A7: Sortiment | B7: L | I7: IL | J7: IS | K7: NH | L7: Gesamt
A8: Stärkeklasse | B8: 2b | C8: 3a | D8: 3b | E8: 4a | F8: 4b | G8: 5 | H8: = > 6
A9: Prozent | L9: =SUM(B9:K9) -> 0
A11: Hiebsmassenverteilung
A12: Efm o.R. | B12: =$J$2*B9/100 -> #DIV/0! | C12: =$J$2*C9/100 -> #DIV/0! | D12: =$J$2*D9/100 -> #DIV/0! | E12: =$J$2*E9/100 -> #DIV/0! | F12: =$J$2*F9/100 -> #DIV/0! | G12: =$J$2*G9/100 -> #DIV/0! | H12: =$J$2*H9/100 -> #DIV/0! | I12: =$J$2*I9/100 -> #DIV/0! | ... K12: =$J$2*K9/100 -> #DIV/0! | L12: =SUM(B12:K12) -> #DIV/0!
A14: Güteansprache
A15: F
A16: TF
A17: A
A18: B
A19: BR
A20: C
A21: D
A22: N
A23: F/K
A24: Summe: | B24: =SUM(B15:B23) -> 0 | C24: =SUM(C15:C23) -> 0 | D24: =SUM(D15:D23) -> 0 | E24: =SUM(E15:E23) -> 0 | F24: =SUM(F15:F23) -> 0 | G24: =SUM(G15:G23) -> 0 | H24: =SUM(H15:H23) -> 0 | I24: =SUM(I15:I23) -> 0 | J24: =SUM(J15:J23) -> 0
A26: Verteilung nach Sorten und Güten
A27: F | B27: =$B$12*B15/100 -> #DIV/0! | C27: =$C$12*C15/100 -> #DIV/0! | D27: =$D$12*D15/100 -> #DIV/0! | E27: =$E$12*E15/100 -> #DIV/0! | F27: =$F$12*F15/100 -> #DIV/0! | G27: =$G$12*G15/100 -> #DIV/0! | H27: =$H$12*H15/100 -> #DIV/0! | I27: =$I$12*I15/100 -> #DIV/0! | J27: =$J$12*J15/100 -> #DIV/0!
A28: TF | B28: =$B$12*B16/100 -> #DIV/0! | C28: =$C$12*C16/100 -> #DIV/0! | D28: =$D$12*D16/100 -> #DIV/0! | E28: =$E$12*E16/100 -> #DIV/0! | F28: =$F$12*F16/100 -> #DIV/0! | G28: =$G$12*G16/100 -> #DIV/0! | H28: =$H$12*H16/100 -> #DIV/0! | I28: =$I$12*I16/100 -> #DIV/0! | J28: =$J$12*J16/100 -> #DIV/0!
A29: A | B29: =$B$12*B17/100 -> #DIV/0! | C29: =$C$12*C17/100 -> #DIV/0! | D29: =$D$12*D17/100 -> #DIV/0! | E29: =$E$12*E17/100 -> #DIV/0! | F29: =$F$12*F17/100 -> #DIV/0! | G29: =$G$12*G17/100 -> #DIV/0! | H29: =$H$12*H17/100 -> #DIV/0! | I29: =$I$12*I17/100 -> #DIV/0! | J29: =$J$12*J17/100 -> #DIV/0!
A30: B | B30: =$B$12*B18/100 -> #DIV/0! | C30: =$C$12*C18/100 -> #DIV/0! | D30: =$D$12*D18/100 -> #DIV/0! | E30: =$E$12*E18/100 -> #DIV/0! | F30: =$F$12*F18/100 -> #DIV/0! | G30: =$G$12*G18/100 -> #DIV/0! | H30: =$H$12*H18/100 -> #DIV/0! | I30: =$I$12*I18/100 -> #DIV/0! | J30: =$J$12*J18/100 -> #DIV/0!
A31: BR | B31: =$B$12*B19/100 -> #DIV/0! | C31: =$C$12*C19/100 -> #DIV/0! | D31: =$D$12*D19/100 -> #DIV/0! | E31: =$E$12*E19/100 -> #DIV/0! | F31: =$F$12*F19/100 -> #DIV/0! | G31: =$G$12*G19/100 -> #DIV/0! | H31: =$H$12*H19/100 -> #DIV/0! | I31: =$I$12*I19/100 -> #DIV/0! | J31: =$J$12*J19/100 -> #DIV/0!
A32: C | B32: =$B$12*B20/100 -> #DIV/0! | C32: =$C$12*C20/100 -> #DIV/0! | D32: =$D$12*D20/100 -> #DIV/0! | E32: =$E$12*E20/100 -> #DIV/0! | F32: =$F$12*F20/100 -> #DIV/0! | G32: =$G$12*G20/100 -> #DIV/0! | H32: =$H$12*H20/100 -> #DIV/0! | I32: =$I$12*I20/100 -> #DIV/0! | J32: =$J$12*J20/100 -> #DIV/0!
A33: D | B33: =$B$12*B21/100 -> #DIV/0! | C33: =$C$12*C21/100 -> #DIV/0! | D33: =$D$12*D21/100 -> #DIV/0! | E33: =$E$12*E21/100 -> #DIV/0! | F33: =$F$12*F21/100 -> #DIV/0! | G33: =$G$12*G21/100 -> #DIV/0! | H33: =$H$12*H21/100 -> #DIV/0! | I33: =$I$12*I21/100 -> #DIV/0! | J33: =$J$12*J21/100 -> #DIV/0!
A34: N | B34: =$B$12*B22/100 -> #DIV/0! | C34: =$C$12*C22/100 -> #DIV/0! | D34: =$D$12*D22/100 -> #DIV/0! | E34: =$E$12*E22/100 -> #DIV/0! | F34: =$F$12*F22/100 -> #DIV/0! | G34: =$G$12*G22/100 -> #DIV/0! | H34: =$H$12*H22/100 -> #DIV/0! | I34: =$I$12*I22/100 -> #DIV/0! | J34: =$J$12*J22/100 -> #DIV/0!
A35: F/K | B35: =$B$12*B23/100 -> #DIV/0! | C35: =$C$12*C23/100 -> #DIV/0! | D35: =$D$12*D23/100 -> #DIV/0! | E35: =$E$12*E23/100 -> #DIV/0! | F35: =$F$12*F23/100 -> #DIV/0! | G35: =$G$12*G23/100 -> #DIV/0! | H35: =$H$12*H23/100 -> #DIV/0! | I35: =$I$12*I23/100 -> #DIV/0! | J35: =$J$12*J23/100 -> #DIV/0!
A36: Summe: | B36: =SUM(B27:B35) -> #DIV/0! | C36: =SUM(C27:C35) -> #DIV/0! | D36: =SUM(D27:D35) -> #DIV/0! | E36: =SUM(E27:E35) -> #DIV/0! | F36: =SUM(F27:F35) -> #DIV/0! | G36: =SUM(G27:G35) -> #DIV/0! | H36: =SUM(H27:H35) -> #DIV/0! | I36: =SUM(I27:I35) -> #DIV/0! | J36: =SUM(J27:J35) -> #DIV/0! | K36: =K12 -> #DIV/0! | L36: =SUM(B36:K36) -> #DIV/0!
A38: Ermittlung des voraussichtlichen Erlößes
A39: Kalkulationspreis/€
A40: St/So | B40: 2b | C40: 3a | D40: 3b | E40: 4a | F40: 4b | G40: 5 | H40: 6 | I40: IL | J40: IS
A41: F
A42: TF
A43: A
A44: B
A45: BR
...

Sheet Aufarbeitungskosten sw mm
A1: Aufarbeitungskosten | E1: sw | F1: mm
A2: Abt.: | B2: ='Sorten sw mm'!B2 -> 0
A3: Baumart: | B3: ='Sorten sw mm'!B3 -> 0 | E3: StanProko (Standardproduktionskosten)
A4: MB-Nr.: | B4: ='Sorten sw mm'!B4 -> 0
A5: Holzernte
A6: Sortimente | C6: Efm o.R. | D6: StanProko | E6: Gesamt | F6: Bemerkungen
D7: €/fm | E7: €
A8: L | C8: =SUM('Sorten sw mm'!B32:G32) -> 2.44 | D8: 31.44 | E8: =C8*D8 -> 76.71 | F8: Was ist in den StanProko
A9: I | C9: ='Sorten sw mm'!H32 -> 0 | D9: 40.58 | E9: =C9*D9 -> 0 | F9: enthalten?
A10: NH | C10: ='Sorten sw mm'!I32 -> 0.41 | D10: 21.34 | E10: =C10*D10 -> 8.75 | F10: mm Regie:
E11: =C11*D11 -> 0 | F11: Arbeiterkosten + LNK + Motor=
E12: =C12*D12 -> 0 | F12: sägenkosten + Werkzeuggeld +
E13: =C13*D13 -> 0 | F13: Rückekosten x MWST-Satz (16%)
E14: =C14*D14 -> 0 | F14: mm Unternehmer:
E15: =C15*D15 -> 0 | F15: Arbeiterkosten + UZ + Motorsä=
A16: Summe: | C16: =SUM(C8:C15) -> 2.85 | E16: =SUM(E8:E15) -> 85.46 | F16: genkosten + Werkzeuggeld +
A17: Sonstiges | F17: Rückekosten x MWST-Satz (16%)
A18: Sortimente | C18: Efm o.R. | D18: Kosten | E18: Gesamt | F18: HV:
D19: €/fm | E19: € | F19: Aufarbeitungskosten + Rücke=
A20: =A8 -> L | F20: kosten x MWST-Satz (16%)
A21: =A9 -> I
A22: =A10 -> NH
A23: =A11 -> 0
A24: =A12 -> 0
A25: =A13 -> 0
A26: =A14 -> 0
A27: =A15 -> 0
A28: Summe:

Sheet Aufarbeitungskosten HV
A1: Aufarbeitungskosten | E1: HV
A2: Abt.: | B2: ='Sorten sw HV'!B2 -> 0
A3: Baumart: | B3: ='Sorten sw HV'!B3 -> 0 | E3: StanProko (Standardproduktionskosten)
A4: MB-Nr.: | B4: ='Sorten sw HV'!B4 -> 0
A5: Holzernte
A6: Sortimente | C6: Efm o.R. | D6: StanProko | E6: Gesamt | F6: Bemerkungen
D7: €/fm | E7: €
A8: L | C8: =SUM('Sorten sw HV'!B32:G32) -> 0 | D8: 24.81 | E8: =C8*D8 -> 0 | F8: Was ist in den StanProko
A9: I | C9: ='Sorten sw HV'!H32 -> 0 | D9: 24.81 | E9: =C9*D9 -> 0 | F9: enthalten?
A10: NH | C10: ='Sorten sw HV'!I32 -> 0 | E10: =C10*D10 -> 0 | F10: mm Regie:
E11: =C11*D11 -> 0 | F11: Arbeiterkosten + LNK + Motor=
E12: =C12*D12 -> 0 | F12: sägenkosten + Werkzeuggeld +
E13: =C13*D13 -> 0 | F13: Rückekosten x MWST-Satz (16%)
E14: =C14*D14 -> 0 | F14: mm Unternehmer:
E15: =C15*D15 -> 0 | F15: Arbeiterkosten + UZ + Motorsä=
A16: Summe: | C16: =SUM(C8:C15) -> 0 | E16: =SUM(E8:E15) -> 0 | F16: genkosten + Werkzeuggeld +
A17: Sonstiges | F17: Rückekosten x MWST-Satz (16%)
A18: Sortimente | C18: Efm o.R. | D18: Kosten | E18: Gesamt | F18: HV:
D19: €/fm | E19: € | F19: Aufarbeitungskosten + Rücke=
A20: =A8 -> L | F20: kosten x MWST-Satz (16%)
A21: =A9 -> I
A22: =A10 -> NH
A23: =A11 -> 0
A24: =A12 -> 0
A25: =A13 -> 0
A26: =A14 -> 0
A27: =A15 -> 0
A28: Summe:

Sheet Aufarbeitungskosten st mm
A1: Aufarbeitungskosten | E1: st | F1: mm
A2: Abt.: | B2: ='Sorten st'!B2 -> 0
A3: Baumart: | B3: ='Sorten st'!B3 -> 0 | E3: StanProko (Standardproduktionskosten)
A4: MB-Nr.: | B4: ='Sorten st'!B4 -> 0
A5: Holzernte
A6: Sortimente | C6: Efm o.R. | D6: StanProko | E6: Gesamt | F6: Bemerkungen
D7: €/fm | E7: €
A8: L | C8: =SUM('Sorten st'!B36:H36) -> #DIV/0! | D8: 14.98 | E8: =C8*D8 -> #DIV/0! | F8: Was ist in den StanProko
A9: IL | C9: ='Sorten st'!I36 -> #DIV/0! | D9: 21.34 | E9: =C9*D9 -> #DIV/0! | F9: enthalten?
A10: IS | C10: ='Sorten st'!J36 -> #DIV/0! | D10: 49.81 | E10: =C10*D10 -> #DIV/0! | F10: mm Regie:
A11: NH | C11: ='Sorten st'!K36 -> #DIV/0! | D11: 27.38 | E11: =C11*D11 -> #DIV/0! | F11: Arbeiterkosten + LNK + Motor=
E12: =C12*D12 -> 0 | F12: sägenkosten + Werkzeuggeld +
E13: =C13*D13 -> 0 | F13: Rückekosten x MWST-Satz (16%)
E14: =C14*D14 -> 0 | F14: mm Unternehmer:
E15: =C15*D15 -> 0 | F15: Arbeiterkosten + UZ + Motorsä=
A16: Summe: | C16: =SUM(C8:C15) -> #DIV/0! | E16: =SUM(E8:E15) -> #DIV/0! | F16: genkosten + Werkzeuggeld +
A17: Sonstiges | F17: Rückekosten x MWST-Satz (16%)
A18: Sortimente | C18: Efm o.R. | D18: Kosten | E18: Gesamt | F18: HV:
D19: €/fm | E19: € | F19: Aufarbeitungskosten + Rücke=
A20: =A8 -> L | F20: kosten x MWST-Satz (16%)
A21: =A9 -> IL
A22: =A10 -> IS
A23: =A11 -> NH
A24: =A12 -> 0
A25: =A13 -> 0
A26: =A14 -> 0
A27: =A15 -> 0
A28: Summe:

Sheet Holzpreise
A1: Holzpreise
A2: Stand: | B2: 42644
A4: Holzart | B4: Sorte | C4: Güte | D4: Einheit | E4: Stärke
E5: 1a | F5: 1b1 | G5: 1b2 | H5: 2a | I5: 2b | J5: 3a | K5: 3b | L5: 4 | M5: 5 | N5: = > 6
E6: €/Einheit
A7: Fi | B7: L | C7: A | D7: fm
C8: B | D8: fm | G8: 71 | H8: 81 | I8: 90 | J8: 90 | K8: 90 | L8: 87 | M8: 80
C9: C | D9: fm | F9: 65 | G9: 69 | H9: 79 | I9: 88 | J9: 88 | K9: 88 | L9: 85 | M9: 78
C10: D | D10: fm
G14: €/Einheit | H14: Einheit | I14: €/Einheit | J14: Einheit | K14: €/Einheit
B15: IL | C15: N | D15: fm | E15: KU | H15: to/atro | J15: to/lutro
D16: fm | E16: BU | H16: to/atro | J16: to/lutro
C17: F/K | D17: fm | E17: KU | H17: to/atro | J17: to/lutro
D18: fm | E18: BU | H18: to/atro | J18: to/lutro
B20: IS | C20: N | D20: rm | E20: KU | H20: to/atro | J20: to/lutro
D21: rm | E21: BU | H21: to/atro | J21: to/lutro
C22: F/K | D22: rm | E22: KU | H22: to/atro | J22: to/lutro
D23: rm | E23: BU | H23: to/atro | J23: to/lutro
E25: Stärke
F26: 2b | G26: 3a | H26: 3b | I26: 4a | J26: 4b | K26: 5 | L26: = > 6
A27: Bu | B27: L | C27: F | D27: fm
C28: TF | D28: fm | J28: 165 | K28: 195 | L28: 205
C29: A | D29: fm
C30: B | D30: fm | J30: 110 | K30: 130 | L30: 140
C31: B/R | D31: fm
C32: C | D32: fm | I32: 50 | J32: 50 | K32: 55 | L32: 60
F34: €/Einheit | G34: Einheit | H34: €/Einheit | I34: Einheit | J34: €/Einheit
B35: IL | C35: N | D35: fm | E35: KU | G35: to/atro | I35: to/lutro
D36: fm | E36: BU | G36: to/atro | I36: to/lutro
C37: F/K | D37: fm | E37: KU | G37: to/atro | I37: to/lutro
D38: fm | E38: BU | G38: to/atro | I38: to/lutro
B40: IS | D40: rm | E40: 2 | F40: 30
E41: 2/3 | F41: 35

Sheet Soll-Ist-Vergleich
A1: Soll-Ist-Vergleich
A2: Überprüfung ausgesuchter Kalkulationen
A4: Grunddaten
A6: Abt.: | C6: BA | E6: MB-Nr.: | G6: BHD | I6: WJ
A8: Kalkulationsdaten
A10: Fläche: | B10: ='Masse sw'!E2 -> 0.5 | C10: Hiebsmasse: | E10: ='Sorten sw mm'!J2 -> 8.16 | F10: Aufarbeitungskosten | J10: ='Sorten sw mm'!J59 -> 85.46
A11: Aufarbeitung | C11: mm | F11: Verkaufserlös | J11: ='Sorten sw mm'!J52 -> 48.55
F12: Deckungsbeitrag (DB) | J12: ='Sorten sw mm'!J61 -> -36.91
A14: IST-Daten
A16: Fläche: | C16: Hiebsmasse: | F16: Aufarbeitungskosten
A17: Aufarbeitung | C17: mm | F17: Verkaufserlös | J17: ='Sorten_IST sw'!J43 -> 0
A18: Abweichungsprozent | D18: =(E16*100/E10)-100 -> -100 | E18: Masse | F18: Deckungsbeitrag (DB)
A19: Abweichungsprozent | E19: Deckungsbeitrag
A21: Erläuterungen (Begründung von Abweichungen, Fehlersuche)

Sheet Sorten_IST sw
A1: Zusammenstellung-IST | E1: sw
A2: Abt.: | B2: ='Masse sw'!B2 -> 0 | H2: Hiebsmasse:
A3: Baumart: | B3: ='Masse sw'!B3 -> 0 | J3: Efm o.R.
A4: MB-Nr.: | D4: WJ | H4: Aufarbeitung | J4: mm
A6: Sortenverteilung
A7: Sortiment | B7: L | H7: I | I7: NH | J7: Gesamt
A8: Stärkeklasse | B8: 1a | C8: 1b | D8: 2a | E8: 2b | F8: 3a | G8: 3b
A9: Prozent | J9: =SUM(B9:I9) -> 0
A11: Hiebsmassenverteilung
A12: Efm o.R. | J12: =SUM(B12:I12) -> 0
A15: Verteilung nach Sorten und Güten in fm o.R.
A16: A
A17: B
A18: C
A19: D
A20: N
A21: F
A22: K
A23: Summe: | B23: =SUM(B16:B22) -> 0 | C23: =SUM(C16:C22) -> 0 | D23: =SUM(D16:D22) -> 0 | E23: =SUM(E16:E22) -> 0 | F23: =SUM(F16:F22) -> 0 | G23: =SUM(G16:G22) -> 0 | H23: =SUM(H16:H22) -> 0 | I23: =I12 -> 0 | J23: =SUM(B23:I23) -> 0
A25: Verteilung nach Sorten und Güten in Prozent
A26: A | B26: =B16*100/$B$12 -> #DIV/0! | C26: =C16*100/$C$12 -> #DIV/0! | D26: =D16*100/$D$12 -> #DIV/0! | E26: =E16*100/$E$12 -> #DIV/0! | F26: =F16*100/$F$12 -> #DIV/0! | G26: =G16*100/$G$12 -> #DIV/0! | H26: =H16*100/$H$12 -> #DIV/0!
A27: B | B27: =B17*100/$B$12 -> #DIV/0! | C27: =C17*100/$C$12 -> #DIV/0! | D27: =D17*100/$D$12 -> #DIV/0! | E27: =E17*100/$E$12 -> #DIV/0! | F27: =F17*100/$F$12 -> #DIV/0! | G27: =G17*100/$G$12 -> #DIV/0! | H27: =H17*100/$H$12 -> #DIV/0!
A28: C | B28: =B18*100/$B$12 -> #DIV/0! | C28: =C18*100/$C$12 -> #DIV/0! | D28: =D18*100/$D$12 -> #DIV/0! | E28: =E18*100/$E$12 -> #DIV/0! | F28: =F18*100/$F$12 -> #DIV/0! | G28: =G18*100/$G$12 -> #DIV/0! | H28: =H18*100/$H$12 -> #DIV/0!
A29: D | B29: =B19*100/$B$12 -> #DIV/0! | C29: =C19*100/$C$12 -> #DIV/0! | D29: =D19*100/$D$12 -> #DIV/0! | E29: =E19*100/$E$12 -> #DIV/0! | F29: =F19*100/$F$12 -> #DIV/0! | G29: =G19*100/$G$12 -> #DIV/0! | H29: =H19*100/$H$12 -> #DIV/0!
A30: N | B30: =B20*100/$B$12 -> #DIV/0! | C30: =C20*100/$C$12 -> #DIV/0! | D30: =D20*100/$D$12 -> #DIV/0! | E30: =E20*100/$E$12 -> #DIV/0! | F30: =F20*100/$F$12 -> #DIV/0! | G30: =G20*100/$G$12 -> #DIV/0! | H30: =H20*100/$H$12 -> #DIV/0!
A31: F | B31: =B21*100/$B$12 -> #DIV/0! | C31: =C21*100/$C$12 -> #DIV/0! | D31: =D21*100/$D$12 -> #DIV/0! | E31: =E21*100/$E$12 -> #DIV/0! | F31: =F21*100/$F$12 -> #DIV/0! | G31: =G21*100/$G$12 -> #DIV/0! | H31: =H21*100/$H$12 -> #DIV/0!
A32: K | B32: =B22*100/$B$12 -> #DIV/0! | C32: =C22*100/$C$12 -> #DIV/0! | D32: =D22*100/$D$12 -> #DIV/0! | E32: =E22*100/$E$12 -> #DIV/0! | F32: =F22*100/$F$12 -> #DIV/0! | G32: =G22*100/$G$12 -> #DIV/0! | H32: =H22*100/$H$12 -> #DIV/0!
A33: Summe: | B33: =SUM(B26:B32) -> #DIV/0! | C33: =SUM(C26:C32) -> #DIV/0! | D33: =SUM(D26:D32) -> #DIV/0! | E33: =SUM(E26:E32) -> #DIV/0! | F33: =SUM(F26:F32) -> #DIV/0! | G33: =SUM(G26:G32) -> #DIV/0! | H33: =SUM(H26:H32) -> #DIV/0!
A35: Erlöß/€ (ohne MWST und Skonto)
A36: A | J36: =SUM(B36:I36) -> 0
A37: B | J37: =SUM(B37:I37) -> 0
A38: C | J38: =SUM(B38:I38) -> 0
A39: D | J39: =SUM(B39:I39) -> 0
A40: N | J40: =SUM(B40:I40) -> 0
A41: F | J41: =SUM(B41:I41) -> 0
A42: K | J42: =SUM(B42:I42) -> 0
A43: Summe: | B43: =SUM(B36:B42) -> 0 | C43: =SUM(C36:C42) -> 0 | D43: =SUM(D36:D42) -> 0 | E43: =SUM(E36:E42) -> 0 | F43: =SUM(F36:F42) -> 0 | G43: =SUM(G36:G42) -> 0 | H43: =SUM(H36:H42) -> 0 | J43: =SUM(J36:J42) -> 0
A44: Kontrolle | J44: =SUM(J36:J42) -> 0
A46: Aufarbeitungskosten
A47: HE
...

Sheet Sorten_IST  st
A1: Zusammenstellung-IST | E1: st
A2: Abt.: | B2: ='Masse st'!B2 -> 0 | H2: Hiebsmasse:
A3: Baumart: | B3: ='Masse st'!B3 -> 0 | J3: Efm o.R.
A4: MB-Nr.: | D4: WJ | H4: Aufarbeitung | J4: mm
A6: Sortenverteilung
A7: Sortiment | B7: L | I7: IL | J7: IS | K7: NH | L7: Gesamt
A8: Stärkeklasse | B8: 2b | C8: 3a | D8: 3b | E8: 4a | F8: 4b | G8: 5 | H8: = > 6
A9: Prozent | L9: =SUM(B9:K9) -> 0
A11: Hiebsmassenverteilung
A12: Efm o.R. | B12: =$J$2*B9/100 -> 0 | C12: =$J$2*C9/100 -> 0 | D12: =$J$2*D9/100 -> 0 | E12: =$J$2*E9/100 -> 0 | F12: =$J$2*F9/100 -> 0 | G12: =$J$2*G9/100 -> 0 | H12: =$J$2*H9/100 -> 0 | I12: =$J$2*I9/100 -> 0 | ... K12: =$J$2*K9/100 -> 0 | L12: =SUM(B12:K12) -> 0
A15: Verteilung nach Sorten und Güten in fm o.R.
A16: F
A17: TF
A18: A
A19: B
A20: BR
A21: C
A22: D
A23: N
A24: F/K
A25: Summe: | B25: =SUM(B16:B24) -> 0 | C25: =SUM(C16:C24) -> 0 | D25: =SUM(D16:D24) -> 0 | E25: =SUM(E16:E24) -> 0 | F25: =SUM(F16:F24) -> 0 | G25: =SUM(G16:G24) -> 0 | H25: =SUM(H16:H24) -> 0 | I25: =SUM(I16:I24) -> 0 | J25: =SUM(J16:J24) -> 0 | K25: =K12 -> 0 | L25: =SUM(B25:K25) -> 0
A26: Verteilung nach Sorten und Güten in Prozent
A27: F
A28: TF
A29: A
A30: B
A31: BR
A32: C
A33: D
A34: N
A35: F/K
A36: Summe: | B36: =SUM(B27:B35) -> 0 | C36: =SUM(C27:C35) -> 0 | D36: =SUM(D27:D35) -> 0 | E36: =SUM(E27:E35) -> 0 | F36: =SUM(F27:F35) -> 0 | G36: =SUM(G27:G35) -> 0 | H36: =SUM(H27:H35) -> 0 | I36: =SUM(I27:I35) -> 0 | J36: =SUM(J27:J35) -> 0 | K36: =K23 -> 0 | L36: =SUM(B36:K36) -> 0
A38: Erlöß/€
A39: F | L39: =SUM(B39:K39) -> 0
A40: TF | L40: =SUM(B40:K40) -> 0
A41: A | L41: =SUM(B41:K41) -> 0
A42: B | L42: =SUM(B42:K42) -> 0
A43: BR | L43: =SUM(B43:K43) -> 0
A44: C | L44: =SUM(B44:K44) -> 0
A45: D | L45: =SUM(B45:K45) -> 0
...
