Workbook

Sheet Info
A1: Holzaufnahme
A2: Führen Sie Ihre Holz- und Loslisten in Excel. Erstellen Sie Verkaufsabrechungen und Statistiken. Verwalten
A3: Sie komfortabel Ihre Kunden und Lieferanten.
A5: Excel-Anwendung von
A6: WERNER LUCK
A8: Titelblatt | E8: Nummerbuch | H8: Sa.Laubholz | J8: Sa. Nadelholz weiß | N8: Sa.Nadelholz rot
A9: BA-Schlüssel | E9: Sorte, Stärke | H9: Stichprobe | M9: Schichtholz L | N9: Schichtholz IS
A11: Zusammenstellung HV | H11: Zusammenstellung nach Abt. | M11: Losliste | N11: Lieferanten
B13: Holzrechnung | E13: Preise | H13: Kunden
A14: INHALT
A15: Info | H15: Dieses Blatt
A16: E | H16: Eingaben (Anweisung zum Gebrauch der Arbeitsmappe)
A17: A | H17: Angaben allgemeiner Art
A18: Titelblatt | H18: Nummerbuchtitel (Eintragungen werden in betroffene Folgeblätter übernommen)
A19: Nummerbuch | H19: Massenberechnung nach Mittendurchmesser
A20: Sa.LbH | H20: Zusammenstellung Laubholz
A21: Sa.NdHw | H21: Zusammenstellung Nadelholz weiß
A22: Sa.NdHr | H22: Zusammenstellung Nadelholz rot
A23: BA-Schlüssel | H23: Baumarten-Schlüssel
A24: Sorten-, Stärkeschlüssel | H24: Sorten- und Stärkenschlüssel
A25: Stichprobe | H25: Massenberechnung nach Stichprobenverfahren
A26: ABSCHNIT | H26: Massenberechnung nach Stichprobenverfahren
... A30: Zusammentsellung nach Abt. | H30: Zusammenstellung Aufarbeitungsmengen nach Abteilungen
A31: Losliste | H31: Losliste für den Holzverkauf | M31: dieses Tabellenblatt können Sie nach Ihrem Bedarf erstellen
A32: Holzrechnung | H32: Holzverkaufsrechnung | M32: dieses Tabellenblatt können Sie nach Ihrem Bedarf erstellen
A33: Preise | H33: Preistabellen | M33: dieses Tabellenblatt können Sie nach Ihrem Bedarf erstellen
A34: Kunden | H34: Kundenverzeichnis | M34: dieses Tabellenblatt können Sie nach Ihrem Bedarf erstellen
A35: Lieferanten | H35: Lieferantenverzeichnis | M35: dieses Tabellenblatt können Sie nach Ihrem Bedarf erstellen
A37: Excel-Anwendung speziell für den Kleinwaldbesitzer
A38: Entwickelt von Werner Luck
A39: Hauptstraße 2
A40: 54413 Beuren
A41: Tel.: 06586/986025
A42: E-Mail: wernerluck@web.de

Sheet E
A1: Erläuterungen und Anweisungen zum Gebrauch der Arbeitsmappe
A3: Die Tabellenblätter sind im Anhalt an rheinland-pfälzische Gepflogenheiten erstellt worden. Sie können sie nach Belieben verändern.
A6: Tabellenblatt
A7: Info | C7: Übersicht über die Arbeitsmappe und Informationen zum Autor.
A9: E | C9: Dieses Blatt.
A11: A | C11: Angaben zu ihrem Betrieb und zu den informellen Daten der Holzaufnahme. Die Angaben, die Sie hier machen,
C12: werden in die folgenden Tabellenblätter übernommen.
A14: Titelblatt | C14: Titelblatt des Nummerbuches mit Zusammenstellungen und allgemeinen Angaben.
A16: Nummerbuch | C16: Eigentliches Holzaufnahmebuch.
C17: Beim Ausfüllen der Spalten "Länge" und "Durchmesser" setzen Sie zuerst den Mauszeiger ind die Spalte
C18: "Länge", geben diese ein und betätigen dann die Tabulatortaste ↹ , damit ist gewährleistet, dass der Kursor ins
C19: nächste Längenfeld springt!
C20: Die eingefärbten Spalten werden automatisch (per Formel) ausgefüllt.
A22: Sa.LbH | C22: Summe Laubholz
A24: Sa.NdHw | C24: Summe Nadelholz weiß
A26: Sa.NdHr | C26: Summe Nadelholz rot
A28: BA-Schlüssel | C28: Baumartenschlüssel
A30: Sorten-, Stärkeschlüssel | D30: Verwendungssorten und Stärkeschlüssel
A32: Stichprobe IL | C32: Stichprobe nach Länge und Durchmesser
A34: Stichprobe | C34: Stichprobe (nach der Kreisfläche)
A36: Sektions_rm_Maß | C36: Sektions-Raummaßverfahren für maschinengesetztes Kurzholz
A38: Schichtholz L | C38: Vermessung von Schichtholz im Sektionsverfahren, die Rollenlänge wird bei der Mengenermittlung im unteren Bereich eingetragen.
A40: Schichtholz IS | C40: Vermessung von Schichtholz im Sektionsverfahren, die Rollenlänge wird bei der Mengenermittlung im unteren Bereich eingetragen.
A42: Zusammenstellung HV | D42: Zusammenstellung Harvester
A44: Abt. | C44: Zusammenstellung nach Abteilungen

Sheet A
A1: Deckblatt
A2: Angaben, die Sie auf diesem Blatt machen,
A3: werden in die folgenden Blätter
A4: übernommen.
G5: Nr.:
A6: Waldbesitzer | C6: NN | G6: 0
A8: Forstamt | C8: NN | G8: 0
A10: Forstrevier | C10: NN | G10: 0
A12: Betrieb | C12: NN | G12: 0
A14: HHJ/WJ | C14: 2019
A16: MB-Nr./Plan-Nr. | C16: 0
A18: Nummerbuch-Name
A20: Produktionszeitraum
A22: Nummerbuch-Art | C22: N | D22: -HAB
A24: Abnahme-Nr.
A26: Nutzungsart | C26: EDf
A30: Name des Ersteller | C30: NN
A31: Namenszeichen | C31: NN
A33: Loseinteilung | C33: Los 1
C34: Los 2
C35: Los 3
C36: Los 4
C37: Los 5
C38: Los 6
C39: Los 7
C40: Los 8
C41: Los 9
C42: Los 10

Sheet Titelblatt
A1: Nummerbuch-Titelblatt
A2: Waldbesitzer | B2: =A!C6 -> NN | F2: Nr.: | G2: =A!G6 -> 0
A3: Forstamt | B3: =A!C8 -> NN | F3: Nr.: | G3: =A!G8 -> 0
A4: Forstrevier | B4: =A!C10 -> NN | F4: Nr.: | G4: =A!G10 -> 0
A5: Betrieb | B5: =A!C12 -> NN | F5: Nr.:
A6: HHJ/WJ | B6: =A!C14 -> 2019 | C6: Plan-Nr./MB-Nr. | E6: =A!C16 -> 0 | F6: Abnahme-Nr.
A7: Nummerbuch-Name | B7: =A!C18 -> 0 | E7: Nummerbuch-Art | G7: =A!C22 -> N
A8: Produktionszeitraum | B8: =A!C20 -> 0 | E8: Nutzungsart | F8: =A!C26 -> EDf
A9: Schäden | D9: Holzartengruppe (%-Anteil)
A10: Art | D10: Eiche | E10: Buche | F10: Fichte | G10: Kiefer
A14: Erstellung | B14: Name | D14: Nz.: | E14: Datum
B15: =A!C30 -> NN | D15: =A!C31 -> NN | E15: =TODAY() -> 43635
A16: Kommentar
A19: Holzmengen
A20: Waldort (e) | B20: Fläche/ha | C20: Stück | D20: Baumart | E20: fm o.R. | F20: NH fm o.R. | G20: SA fm o.R.
C21: =Sa.LbH!F156 -> 10 | D21: Ei | E21: =SUMIF(Nummerbuch!$B$5:$B$1004,"Ei",Nummerbuch!$H$5:$H$1004) -> 5.68 | G21: =SUM(E21:F21) -> 5.68
C22: =Sa.LbH!F157 -> 6 | D22: Bu | E22: =SUMIF(Nummerbuch!$B$5:$B$1004,"Bu",Nummerbuch!$H$5:$H$1004) -> 3.35 | G22: =SUM(E22:F22) -> 3.35
C23: =Sa.LbH!$O144 -> 0 | D23: BAh | E23: =SUMIF(Nummerbuch!$B$5:$B$1004,"BAh",Nummerbuch!$H$5:$H$1004) -> 0 | G23: =SUM(E23:F23) -> 0
C24: =Sa.LbH!$O145 -> 0 | D24: Bir | E24: =SUMIF(Nummerbuch!$B$5:$B$1004,"Bir",Nummerbuch!$H$5:$H$1004) -> 0 | G24: =SUM(E24:F24) -> 0
C25: =Sa.LbH!$O146 -> 0 | D25: Erl | E25: =SUMIF(Nummerbuch!$B$5:$B$1004,"Erl",Nummerbuch!$H$5:$H$1004) -> 0 | G25: =SUM(E25:F25) -> 0
C26: =Sa.LbH!$O147 -> 1 | D26: ÜLbh | E26: =SUMIF(Nummerbuch!$B$5:$B$1004,"Ülbh",Nummerbuch!$H$5:$H$1004) -> 0 | G26: =SUM(E26:F26) -> 0
C27: =Sa.NdHw!F175 -> 5 | D27: Fi | E27: =SUMIF(Nummerbuch!$B$5:$B$1004,"Fi",Nummerbuch!$H$5:$H$1004) -> 5.24 | G27: =SUM(E27:F27) -> 5.24
C28: =Sa.NdHw!F176 -> 1 | D28: Ta | E28: =SUMIF(Nummerbuch!$B$5:$B$1004,"Ta",Nummerbuch!$H$5:$H$1004) -> 0.53 | G28: =SUM(E28:F28) -> 0.53
C29: =Sa.NdHr!F188 -> 4 | D29: Dou | E29: =SUMIF(Nummerbuch!$B$5:$B$1004,"Dou",Nummerbuch!$H$5:$H$1004) -> 5.92 | G29: =SUM(E29:F29) -> 5.92
C30: =Sa.NdHr!F191 -> 1 | D30: Ki | E30: =SUMIF(Nummerbuch!$B$5:$B$1004,"Ki",Nummerbuch!$H$5:$H$1004) -> 0.53 | G30: =SUM(E30:F30) -> 0.53
C31: =Sa.NdHr!F189 -> 0 | D31: ELä | E31: =SUMIF(Nummerbuch!$B$5:$B$1004,"Elä",Nummerbuch!$H$5:$H$1004) -> 0 | G31: =SUM(E31:F31) -> 0
C32: =Sa.NdHr!F190 -> 0 | D32: JLä | E32: =SUMIF(Nummerbuch!$B$5:$B$1004,"Jlä",Nummerbuch!$H$5:$H$1004) -> 0 | G32: =SUM(E32:F32) -> 0
C33: =Sa.NdHw!F177 -> 0 | D33: Pro | E33: =SUMIF(Nummerbuch!$B$5:$B$1004,"Pro",Nummerbuch!$H$5:$H$1004) -> 0 | G33: =SUM(E33:F33) -> 0
C34: =Sa.NdHw!F178 -> 1 | D34: Gra | E34: =SUMIF(Nummerbuch!$B$5:$B$1004,"Gra",Nummerbuch!$H$5:$H$1004) -> 0.57 | G34: =SUM(E34:F34) -> 0.57
G35: =SUM(E35:F35) -> 0
B36: =SUM(B21:B35) -> 0 | C36: =SUM(C21:C35) -> 29 | D36: Alle | E36: =SUM(E21:E35) -> 21.82 | F36: =SUM(F21:F35) -> 0 | G36: =SUM(G21:G35) -> 21.82
B37: Kontrolle: | C37: =Nummerbuch!A1005 -> 30 | D37: Kontrolle: | E37: =Sa.LbH!E160+Sa.LbH!N143+Sa.NdHw!E179+Sa.NdHr!E192 -> 22.38
A38: Summe Laubholz | B38: Zusammenstellung nach Losen | D38: Los 1 | E38: =SUMIF(Nummerbuch!$I$5:$I$1004,1,Nummerbuch!$H$5:$H$1004) -> 2.5 | F38: Los 6 | G38: =SUMIF(Nummerbuch!$I$5:$I$1004,6,Nummerbuch!$H$5:$H$1004) -> 0.86
A39: Efm o. R. | D39: Los 2 | E39: =SUMIF(Nummerbuch!$I$5:$I$1004,2,Nummerbuch!$H$5:$H$1004) -> 2.74 | F39: Los 7 | G39: =SUMIF(Nummerbuch!$I$5:$I$1004,7,Nummerbuch!$H$5:$H$1004) -> 0
A40: =SUM(G21:G26) -> 9.03 | D40: Los 3 | E40: =SUMIF(Nummerbuch!$I$5:$I$1004,3,Nummerbuch!$H$5:$H$1004) -> 0.44 | F40: Los 8 | G40: =SUMIF(Nummerbuch!$I$5:$I$1004,8,Nummerbuch!$H$5:$H$1004) -> 0
A41: Summe Nadelholz | D41: Los 4 | E41: =SUMIF(Nummerbuch!$I$5:$I$1004,4,Nummerbuch!$H$5:$H$1004) -> 5.24 | F41: Los 9 | G41: =SUMIF(Nummerbuch!$I$5:$I$1004,9,Nummerbuch!$H$5:$H$1004) -> 0
A42: Efm o. R. | D42: Los 5 | E42: =SUMIF(Nummerbuch!$I$5:$I$1004,5,Nummerbuch!$H$5:$H$1004) -> 7.02 | F42: Los 10 | G42: =SUMIF(Nummerbuch!$I$5:$I$1004,10,Nummerbuch!$H$5:$H$1004) -> 0
A43: =SUM(G27:G35) -> 12.79 | F43: Kontrollsume: | G43: =SUM(E38:E42,G38:G42) -> 18.8
F46: =TODAY() -> 43635
A47: Unterschrift | F47: Datum

Sheet Nummerbuch
A1: Forstrevier: | D1: =A!C10 -> NN | H1: Nummerbuch-Liste
A2: Waldbesitzer: | D2: =A!C6 -> NN | J2: Abt: | K2: 120 b
D3: Teilsumme bei Filterung | H3: =SUBTOTAL(9,H5:H1004) -> 22.38
A4: Holz- Nr.: | B4: BA | C4: So | D4: Gü | E4: ST | F4: Lä | G4: Ø cm | H4: Menge fm o.R. | I4: Los | J4: Code | K4: Verwendungs sorte | L4: Bemerkungen
A5: 1 | B5: Ei | C5: L | D5: A | E5: =VLOOKUP(G5,'Sorten-, Stärkeschlüssel'!$D$2:$E$87,2,FALSE) -> 3b | F5: 6 | G5: 37 | H5: =PRODUCT(G5/200*G5/200*3.1415*F5) -> 0.65 | I5: 1 | J5: 1 | K5: =VLOOKUP(J5,'Sorten-, Stärkeschlüssel'!$A$2:$B$22,2) -> Furnierholz
A6: 2 | B6: Ei | C6: L | D6: A | E6: =VLOOKUP(G6,'Sorten-, Stärkeschlüssel'!$D$2:$E$87,2,FALSE) -> 4 | F6: 4.5 | G6: 42 | H6: =PRODUCT(G6/200*G6/200*3.1415*F6) -> 0.62 | I6: 1 | J6: 1 | K6: =VLOOKUP(J6,'Sorten-, Stärkeschlüssel'!$A$2:$B$22,2) -> Furnierholz
A7: 3 | B7: Ei | C7: L | D7: C | E7: =VLOOKUP(G7,'Sorten-, Stärkeschlüssel'!$D$2:$E$87,2,FALSE) -> 2b | F7: 3.8 | G7: 29 | H7: =PRODUCT(G7/200*G7/200*3.1415*F7) -> 0.25 | I7: 1 | J7: 6 | K7: =VLOOKUP(J7,'Sorten-, Stärkeschlüssel'!$A$2:$B$22,2) -> Schneide-, Bauholz
A8: 4 | B8: Ei | C8: L | D8: B | E8: =VLOOKUP(G8,'Sorten-, Stärkeschlüssel'!$D$2:$E$87,2,FALSE) -> 4 | F8: 4.2 | G8: 41 | H8: =PRODUCT(G8/200*G8/200*3.1415*F8) -> 0.55 | I8: 1 | J8: 6 | K8: =VLOOKUP(J8,'Sorten-, Stärkeschlüssel'!$A$2:$B$22,2) -> Schneide-, Bauholz
A9: 5 | B9: Ei | C9: L | D9: B | E9: =VLOOKUP(G9,'Sorten-, Stärkeschlüssel'!$D$2:$E$87,2,FALSE) -> 3a | F9: 5 | G9: 33 | H9: =PRODUCT(G9/200*G9/200*3.1415*F9) -> 0.43 | I9: 1 | J9: 6 | K9: =VLOOKUP(J9,'Sorten-, Stärkeschlüssel'!$A$2:$B$22,2) -> Schneide-, Bauholz
A10: 6 | B10: Ei | C10: L | D10: B | E10: =VLOOKUP(G10,'Sorten-, Stärkeschlüssel'!$D$2:$E$87,2,FALSE) -> 5 | F10: 6 | G10: 51 | H10: =PRODUCT(G10/200*G10/200*3.1415*F10) -> 1.23 | I10: 2 | J10: 6 | K10: =VLOOKUP(J10,'Sorten-, Stärkeschlüssel'!$A$2:$B$22,2) -> Schneide-, Bauholz
A11: 7 | B11: Ei | C11: L | D11: B | E11: =VLOOKUP(G11,'Sorten-, Stärkeschlüssel'!$D$2:$E$87,2,FALSE) -> 4 | F11: 4.8 | G11: 45 | H11: =PRODUCT(G11/200*G11/200*3.1415*F11) -> 0.76 | I11: 2 | J11: 6 | K11: =VLOOKUP(J11,'Sorten-, Stärkeschlüssel'!$A$2:$B$22,2) -> Schneide-, Bauholz | M11: Dies ist ein Beispiel. Vor Gebrauch des Nummerbuches löschen Sie bitte diese Werte!
A12: 8 | B12: Ei | C12: L | D12: B | E12: =VLOOKUP(G12,'Sorten-, Stärkeschlüssel'!$D$2:$E$87,2,FALSE) -> 3a | F12: 5.2 | G12: 33 | H12: =PRODUCT(G12/200*G12/200*3.1415*F12) -> 0.44 | I12: 2 | J12: 6 | K12: =VLOOKUP(J12,'Sorten-, Stärkeschlüssel'!$A$2:$B$22,2) -> Schneide-, Bauholz
A13: 9 | B13: Ei | C13: L | D13: B | E13: =VLOOKUP(G13,'Sorten-, Stärkeschlüssel'!$D$2:$E$87,2,FALSE) -> 2b | F13: 5 | G13: 28 | H13: =PRODUCT(G13/200*G13/200*3.1415*F13) -> 0.31 | I13: 2 | J13: 6 | K13: =VLOOKUP(J13,'Sorten-, Stärkeschlüssel'!$A$2:$B$22,2) -> Schneide-, Bauholz
A14: 10 | B14: Ei | C14: L | D14: B | E14: =VLOOKUP(G14,'Sorten-, Stärkeschlüssel'!$D$2:$E$87,2,FALSE) -> 3a | F14: 5.2 | G14: 33 | H14: =PRODUCT(G14/200*G14/200*3.1415*F14) -> 0.44 | I14: 3 | J14: 7 | K14: =VLOOKUP(J14,'Sorten-, Stärkeschlüssel'!$A$2:$B$22,2) -> Schwellenholz
A15: 11 | B15: Fi | C15: L | D15: B | E15: =VLOOKUP(G15,'Sorten-, Stärkeschlüssel'!$D$2:$E$87,2,FALSE) -> 2b | F15: 20 | G15: 28 | H15: =PRODUCT(G15/200*G15/200*3.1415*F15) -> 1.23 | I15: 4 | J15: 6 | K15: =VLOOKUP(J15,'Sorten-, Stärkeschlüssel'!$A$2:$B$22,2) -> Schneide-, Bauholz
A16: 12 | B16: Fi | C16: L | D16: C | E16: =VLOOKUP(G16,'Sorten-, Stärkeschlüssel'!$D$2:$E$87,2,FALSE) -> 2b | F16: 18 | G16: 28 | H16: =PRODUCT(G16/200*G16/200*3.1415*F16) -> 1.11 | I16: 4 | J16: 6 | K16: =VLOOKUP(J16,'Sorten-, Stärkeschlüssel'!$A$2:$B$22,2) -> Schneide-, Bauholz
A17: 13 | B17: Fi | C17: L | D17: B | E17: =VLOOKUP(G17,'Sorten-, Stärkeschlüssel'!$D$2:$E$87,2,FALSE) -> 1b1 | F17: 17 | G17: 16 | H17: =PRODUCT(G17/200*G17/200*3.1415*F17) -> 0.34 | I17: 4 | J17: 6 | K17: =VLOOKUP(J17,'Sorten-, Stärkeschlüssel'!$A$2:$B$22,2) -> Schneide-, Bauholz
A18: 14 | B18: Fi | C18: L | D18: C | E18: =VLOOKUP(G18,'Sorten-, Stärkeschlüssel'!$D$2:$E$87,2,FALSE) -> 3a | F18: 22 | G18: 31 | H18: =PRODUCT(G18/200*G18/200*3.1415*F18) -> 1.66 | I18: 4 | J18: 6 | K18: =VLOOKUP(J18,'Sorten-, Stärkeschlüssel'!$A$2:$B$22,2) -> Schneide-, Bauholz
A19: 15 | B19: Fi | C19: L | D19: B | E19: =VLOOKUP(G19,'Sorten-, Stärkeschlüssel'!$D$2:$E$87,2,FALSE) -> 2a | F19: 20 | G19: 24 | H19: =PRODUCT(G19/200*G19/200*3.1415*F19) -> 0.9 | I19: 4 | J19: 6 | K19: =VLOOKUP(J19,'Sorten-, Stärkeschlüssel'!$A$2:$B$22,2) -> Schneide-, Bauholz
A20: 16 | B20: Ta | C20: L | D20: B | E20: =VLOOKUP(G20,'Sorten-, Stärkeschlüssel'!$D$2:$E$87,2,FALSE) -> 2a | F20: 14 | G20: 22 | H20: =PRODUCT(G20/200*G20/200*3.1415*F20) -> 0.53 | I20: 5 | J20: 6 | K20: =VLOOKUP(J20,'Sorten-, Stärkeschlüssel'!$A$2:$B$22,2) -> Schneide-, Bauholz
A21: 17 | B21: Gra | C21: L | D21: C | E21: =VLOOKUP(G21,'Sorten-, Stärkeschlüssel'!$D$2:$E$87,2,FALSE) -> 2a | F21: 18 | G21: 20 | H21: =PRODUCT(G21/200*G21/200*3.1415*F21) -> 0.57 | I21: 5 | J21: 6 | K21: =VLOOKUP(J21,'Sorten-, Stärkeschlüssel'!$A$2:$B$22,2) -> Schneide-, Bauholz
A22: 18 | B22: Dou | C22: L | D22: B | E22: =VLOOKUP(G22,'Sorten-, Stärkeschlüssel'!$D$2:$E$87,2,FALSE) -> 3a | F22: 18 | G22: 32 | H22: =PRODUCT(G22/200*G22/200*3.1415*F22) -> 1.45 | I22: 5 | J22: 6 | K22: =VLOOKUP(J22,'Sorten-, Stärkeschlüssel'!$A$2:$B$22,2) -> Schneide-, Bauholz
A23: 19 | B23: Dou | C23: L | D23: C | E23: =VLOOKUP(G23,'Sorten-, Stärkeschlüssel'!$D$2:$E$87,2,FALSE) -> 2b | F23: 14 | G23: 28 | H23: =PRODUCT(G23/200*G23/200*3.1415*F23) -> 0.86 | I23: 5 | J23: 6 | K23: =VLOOKUP(J23,'Sorten-, Stärkeschlüssel'!$A$2:$B$22,2) -> Schneide-, Bauholz
... A27: 23 | B27: Sei | C27: L | D27: B | E27: =VLOOKUP(G27,'Sorten-, Stärkeschlüssel'!$D$2:$E$87,2,FALSE) -> 2b | F27: 5 | G27: 29 | H27: =PRODUCT(G27/200*G27/200*3.1415*F27) -> 0.33 | I27: 6 | J27: 6 | K27: =VLOOKUP(J27,'Sorten-, Stärkeschlüssel'!$A$2:$B$22,2) -> Schneide-, Bauholz
A28: 24 | B28: Es | C28: L | D28: C | E28: =VLOOKUP(G28,'Sorten-, Stärkeschlüssel'!$D$2:$E$87,2,FALSE) -> 2a | F28: 6 | G28: 22 | H28: =PRODUCT(G28/200*G28/200*3.1415*F28) -> 0.23 | J28: 6 | K28: =VLOOKUP(J28,'Sorten-, Stärkeschlüssel'!$A$2:$B$22,2) -> Schneide-, Bauholz
A29: 25 | B29: Bu | C29: L | D29: B | E29: =VLOOKUP(G29,'Sorten-, Stärkeschlüssel'!$D$2:$E$87,2,FALSE) -> 3a | F29: 5.2 | G29: 33 | H29: =PRODUCT(G29/200*G29/200*3.1415*F29) -> 0.44 | J29: 6 | K29: =VLOOKUP(J29,'Sorten-, Stärkeschlüssel'!$A$2:$B$22,2) -> Schneide-, Bauholz
A30: 26 | B30: Bu | C30: L | D30: C | E30: =VLOOKUP(G30,'Sorten-, Stärkeschlüssel'!$D$2:$E$87,2,FALSE) -> 2b | F30: 7 | G30: 28 | H30: =PRODUCT(G30/200*G30/200*3.1415*F30) -> 0.43 | K30: =VLOOKUP(J30,'Sorten-, Stärkeschlüssel'!$A$2:$B$22,2) -> #N/A
A31: 27 | B31: Bu | C31: L | D31: BR | E31: =VLOOKUP(G31,'Sorten-, Stärkeschlüssel'!$D$2:$E$87,2,FALSE) -> 3a | F31: 5.2 | G31: 34 | H31: =PRODUCT(G31/200*G31/200*3.1415*F31) -> 0.47 | K31: =VLOOKUP(J31,'Sorten-, Stärkeschlüssel'!$A$2:$B$22,2) -> #N/A
A32: 28 | B32: Bu | C32: L | D32: BR | E32: =VLOOKUP(G32,'Sorten-, Stärkeschlüssel'!$D$2:$E$87,2,FALSE) -> 5 | F32: 4.8 | G32: 51 | H32: =PRODUCT(G32/200*G32/200*3.1415*F32) -> 0.98 | K32: =VLOOKUP(J32,'Sorten-, Stärkeschlüssel'!$A$2:$B$22,2) -> #N/A
A33: 29 | B33: Bu | C33: L | D33: B | E33: =VLOOKUP(G33,'Sorten-, Stärkeschlüssel'!$D$2:$E$87,2,FALSE) -> 4 | F33: 6 | G33: 43 | H33: =PRODUCT(G33/200*G33/200*3.1415*F33) -> 0.87 | K33: =VLOOKUP(J33,'Sorten-, Stärkeschlüssel'!$A$2:$B$22,2) -> #N/A
A34: 30 | B34: Bu | C34: L | D34: OA | E34: =VLOOKUP(G34,'Sorten-, Stärkeschlüssel'!$D$2:$E$87,2,FALSE) -> 2a | F34: 5 | G34: 20 | H34: =PRODUCT(G34/200*G34/200*3.1415*F34) -> 0.16 | K34: =VLOOKUP(J34,'Sorten-, Stärkeschlüssel'!$A$2:$B$22,2) -> #N/A
A35: 31 | E35: =VLOOKUP(G35,'Sorten-, Stärkeschlüssel'!$D$2:$E$87,2,FALSE) -> #N/A | H35: =PRODUCT(G35/200*G35/200*3.1415*F35) -> 0 | K35: =VLOOKUP(J35,'Sorten-, Stärkeschlüssel'!$A$2:$B$22,2) -> #N/A
A36: 32 | E36: =VLOOKUP(G36,'Sorten-, Stärkeschlüssel'!$D$2:$E$87,2,FALSE) -> #N/A | H36: =PRODUCT(G36/200*G36/200*3.1415*F36) -> 0 | K36: =VLOOKUP(J36,'Sorten-, Stärkeschlüssel'!$A$2:$B$22,2) -> #N/A
A37: 33 | E37: =VLOOKUP(G37,'Sorten-, Stärkeschlüssel'!$D$2:$E$87,2,FALSE) -> #N/A | H37: =PRODUCT(G37/200*G37/200*3.1415*F37) -> 0 | K37: =VLOOKUP(J37,'Sorten-, Stärkeschlüssel'!$A$2:$B$22,2) -> #N/A
A38: 34 | E38: =VLOOKUP(G38,'Sorten-, Stärkeschlüssel'!$D$2:$E$87,2,FALSE) -> #N/A | H38: =PRODUCT(G38/200*G38/200*3.1415*F38) -> 0 | K38: =VLOOKUP(J38,'Sorten-, Stärkeschlüssel'!$A$2:$B$22,2) -> #N/A
A39: 35 | E39: =VLOOKUP(G39,'Sorten-, Stärkeschlüssel'!$D$2:$E$87,2,FALSE) -> #N/A | H39: =PRODUCT(G39/200*G39/200*3.1415*F39) -> 0 | K39: =VLOOKUP(J39,'Sorten-, Stärkeschlüssel'!$A$2:$B$22,2) -> #N/A
A40: 36 | E40: =VLOOKUP(G40,'Sorten-, Stärkeschlüssel'!$D$2:$E$87,2,FALSE) -> #N/A | H40: =PRODUCT(G40/200*G40/200*3.1415*F40) -> 0 | K40: =VLOOKUP(J40,'Sorten-, Stärkeschlüssel'!$A$2:$B$22,2) -> #N/A
A41: 37 | E41: =VLOOKUP(G41,'Sorten-, Stärkeschlüssel'!$D$2:$E$87,2,FALSE) -> #N/A | H41: =PRODUCT(G41/200*G41/200*3.1415*F41) -> 0 | K41: =VLOOKUP(J41,'Sorten-, Stärkeschlüssel'!$A$2:$B$22,2) -> #N/A
A42: 38 | E42: =VLOOKUP(G42,'Sorten-, Stärkeschlüssel'!$D$2:$E$87,2,FALSE) -> #N/A | H42: =PRODUCT(G42/200*G42/200*3.1415*F42) -> 0 | K42: =VLOOKUP(J42,'Sorten-, Stärkeschlüssel'!$A$2:$B$22,2) -> #N/A
A43: 39 | E43: =VLOOKUP(G43,'Sorten-, Stärkeschlüssel'!$D$2:$E$87,2,FALSE) -> #N/A | H43: =PRODUCT(G43/200*G43/200*3.1415*F43) -> 0 | K43: =VLOOKUP(J43,'Sorten-, Stärkeschlüssel'!$A$2:$B$22,2) -> #N/A
...

Sheet Sa.LbH
A1: Zusammenstellung Laubholz | I1: Info
A2: BA | B2: So | C2: Gü | D2: ST | E2: fm | F2: Stck | G2: SaSt. | H2: Sa.Güteklasse | I2: Bemerkungen | J2: BA | K2: So | L2: Gü | M2: ST | N2: fm | O2: Stck | P2: SaSt. | Q2: Sa.Güteklasse | R2: Bemerkungen
A3: Ei | B3: L | C3: F | D3: 2b | E3: {=SUM(IF(Nummerbuch!$B$5:$B$1171=A3,IF(Nummerbuch!$C$5:$C$1171=B3,IF(Nummerbuch!$D$5:$D$1171=C3,IF(Nummerbuch!$E$5:$E$1171=D3,Nummerbuch!$H$5:$H$1171,0),0),0),0))} -> 0 | F3: {=COUNT(#REF!,IF(#REF!=A3,IF(#REF!=C3,IF(#REF!=D3,0))))} -> 0 | J3: Bah | K3: L | L3: A | M3: 2a | N3: {=SUM(IF(Nummerbuch!$B$5:$B$1171=J3,IF(Nummerbuch!$C$5:$C$1171=K3,IF(Nummerbuch!$D$5:$D$1171=L3,IF(Nummerbuch!$E$5:$E$1171=M3,Nummerbuch!$H$5:$H$1171,0),0),0),0))} -> 0 | O3: {=COUNT(Nummerbuch!$B$5:$B$1004,IF(Nummerbuch!$B$5:$B$1004=J3,IF(Nummerbuch!$D$5:$D$1004=L3,IF(Nummerbuch!$E$5:$E$1004=M3,0))))} -> 0
A4: Ei | B4: L | C4: F | D4: 3a | E4: {=SUM(IF(Nummerbuch!$B$5:$B$1171=A4,IF(Nummerbuch!$C$5:$C$1171=B4,IF(Nummerbuch!$D$5:$D$1171=C4,IF(Nummerbuch!$E$5:$E$1171=D4,Nummerbuch!$H$5:$H$1171,0),0),0),0))} -> 0 | F4: {=COUNT(#REF!,IF(#REF!=A4,IF(#REF!=C4,IF(#REF!=D4,0))))} -> 0 | J4: Bah | K4: L | L4: A | M4: 2b | N4: {=SUM(IF(Nummerbuch!$B$5:$B$1171=J4,IF(Nummerbuch!$C$5:$C$1171=K4,IF(Nummerbuch!$D$5:$D$1171=L4,IF(Nummerbuch!$E$5:$E$1171=M4,Nummerbuch!$H$5:$H$1171,0),0),0),0))} -> 0 | O4: {=COUNT(Nummerbuch!$B$5:$B$1004,IF(Nummerbuch!$B$5:$B$1004=J4,IF(Nummerbuch!$D$5:$D$1004=L4,IF(Nummerbuch!$E$5:$E$1004=M4,0))))} -> 0
A5: Ei | B5: L | C5: F | D5: 3b | E5: {=SUM(IF(Nummerbuch!$B$5:$B$1171=A5,IF(Nummerbuch!$C$5:$C$1171=B5,IF(Nummerbuch!$D$5:$D$1171=C5,IF(Nummerbuch!$E$5:$E$1171=D5,Nummerbuch!$H$5:$H$1171,0),0),0),0))} -> 0 | F5: {=COUNT(#REF!,IF(#REF!=A5,IF(#REF!=C5,IF(#REF!=D5,0))))} -> 0 | J5: Bah | K5: L | L5: A | M5: 3a | N5: {=SUM(IF(Nummerbuch!$B$5:$B$1171=J5,IF(Nummerbuch!$C$5:$C$1171=K5,IF(Nummerbuch!$D$5:$D$1171=L5,IF(Nummerbuch!$E$5:$E$1171=M5,Nummerbuch!$H$5:$H$1171,0),0),0),0))} -> 0 | O5: {=COUNT(Nummerbuch!$B$5:$B$1004,IF(Nummerbuch!$B$5:$B$1004=J5,IF(Nummerbuch!$D$5:$D$1004=L5,IF(Nummerbuch!$E$5:$E$1004=M5,0))))} -> 0
A6: Ei | B6: L | C6: F | D6: 4 | E6: {=SUM(IF(Nummerbuch!$B$5:$B$1171=A6,IF(Nummerbuch!$C$5:$C$1171=B6,IF(Nummerbuch!$D$5:$D$1171=C6,IF(Nummerbuch!$E$5:$E$1171=D6,Nummerbuch!$H$5:$H$1171,0),0),0),0))} -> 0 | F6: {=COUNT(Nummerbuch!$B$5:$B$1004,IF(Nummerbuch!$B$5:$B$1004=A6,IF(Nummerbuch!$D$5:$D$1004=C6,IF(Nummerbuch!$E$5:$E$1004=D6,0))))} -> 0 | J6: Bah | K6: L | L6: A | M6: 3b | N6: {=SUM(IF(Nummerbuch!$B$5:$B$1171=J6,IF(Nummerbuch!$C$5:$C$1171=K6,IF(Nummerbuch!$D$5:$D$1171=L6,IF(Nummerbuch!$E$5:$E$1171=M6,Nummerbuch!$H$5:$H$1171,0),0),0),0))} -> 0 | O6: {=COUNT(Nummerbuch!$B$5:$B$1004,IF(Nummerbuch!$B$5:$B$1004=J6,IF(Nummerbuch!$D$5:$D$1004=L6,IF(Nummerbuch!$E$5:$E$1004=M6,0))))} -> 0
A7: Ei | B7: L | C7: F | D7: 5 | E7: {=SUM(IF(Nummerbuch!$B$5:$B$1171=A7,IF(Nummerbuch!$C$5:$C$1171=B7,IF(Nummerbuch!$D$5:$D$1171=C7,IF(Nummerbuch!$E$5:$E$1171=D7,Nummerbuch!$H$5:$H$1171,0),0),0),0))} -> 0 | F7: {=COUNT(Nummerbuch!$B$5:$B$1004,IF(Nummerbuch!$B$5:$B$1004=A7,IF(Nummerbuch!$D$5:$D$1004=C7,IF(Nummerbuch!$E$5:$E$1004=D7,0))))} -> 0 | J7: Bah | K7: L | L7: A | M7: 4 | N7: {=SUM(IF(Nummerbuch!$B$5:$B$1171=J7,IF(Nummerbuch!$C$5:$C$1171=K7,IF(Nummerbuch!$D$5:$D$1171=L7,IF(Nummerbuch!$E$5:$E$1171=M7,Nummerbuch!$H$5:$H$1171,0),0),0),0))} -> 0 | O7: {=COUNT(Nummerbuch!$B$5:$B$1004,IF(Nummerbuch!$B$5:$B$1004=J7,IF(Nummerbuch!$D$5:$D$1004=L7,IF(Nummerbuch!$E$5:$E$1004=M7,0))))} -> 0
A8: Ei | B8: L | C8: F | D8: 6 | E8: {=SUM(IF(Nummerbuch!$B$5:$B$1171=A8,IF(Nummerbuch!$C$5:$C$1171=B8,IF(Nummerbuch!$D$5:$D$1171=C8,IF(Nummerbuch!$E$5:$E$1171=D8,Nummerbuch!$H$5:$H$1171,0),0),0),0))} -> 0 | F8: {=COUNT(Nummerbuch!$B$5:$B$1004,IF(Nummerbuch!$B$5:$B$1004=A8,IF(Nummerbuch!$D$5:$D$1004=C8,IF(Nummerbuch!$E$5:$E$1004=D8,0))))} -> 0 | J8: Bah | K8: L | L8: A | M8: 5 | N8: {=SUM(IF(Nummerbuch!$B$5:$B$1171=J8,IF(Nummerbuch!$C$5:$C$1171=K8,IF(Nummerbuch!$D$5:$D$1171=L8,IF(Nummerbuch!$E$5:$E$1171=M8,Nummerbuch!$H$5:$H$1171,0),0),0),0))} -> 0 | O8: {=COUNT(Nummerbuch!$B$5:$B$1004,IF(Nummerbuch!$B$5:$B$1004=J8,IF(Nummerbuch!$D$5:$D$1004=L8,IF(Nummerbuch!$E$5:$E$1004=M8,0))))} -> 0
A9: Ei | B9: L | C9: F | D9: 7 | E9: {=SUM(IF(Nummerbuch!$B$5:$B$1171=A9,IF(Nummerbuch!$C$5:$C$1171=B9,IF(Nummerbuch!$D$5:$D$1171=C9,IF(Nummerbuch!$E$5:$E$1171=D9,Nummerbuch!$H$5:$H$1171,0),0),0),0))} -> 0 | F9: {=COUNT(Nummerbuch!$B$5:$B$1004,IF(Nummerbuch!$B$5:$B$1004=A9,IF(Nummerbuch!$D$5:$D$1004=C9,IF(Nummerbuch!$E$5:$E$1004=D9,0))))} -> 0 | J9: Bah | K9: L | L9: A | M9: 6 | N9: {=SUM(IF(Nummerbuch!$B$5:$B$1171=J9,IF(Nummerbuch!$C$5:$C$1171=K9,IF(Nummerbuch!$D$5:$D$1171=L9,IF(Nummerbuch!$E$5:$E$1171=M9,Nummerbuch!$H$5:$H$1171,0),0),0),0))} -> 0 | O9: {=COUNT(Nummerbuch!$B$5:$B$1004,IF(Nummerbuch!$B$5:$B$1004=J9,IF(Nummerbuch!$D$5:$D$1004=L9,IF(Nummerbuch!$E$5:$E$1004=M9,0))))} -> 0 | P9: =SUM(O3:O9) -> 0 | Q9: =SUM(N3:N9) -> 0
A10: Ei | B10: L | C10: F | D10: 8 | E10: {=SUM(IF(Nummerbuch!$B$5:$B$1171=A10,IF(Nummerbuch!$C$5:$C$1171=B10,IF(Nummerbuch!$D$5:$D$1171=C10,IF(Nummerbuch!$E$5:$E$1171=D10,Nummerbuch!$H$5:$H$1171,0),0),0),0))} -> 0 | F10: {=COUNT(Nummerbuch!$B$5:$B$1004,IF(Nummerbuch!$B$5:$B$1004=A10,IF(Nummerbuch!$D$5:$D$1004=C10,IF(Nummerbuch!$E$5:$E$1004=D10,0))))} -> 0 | G10: =SUM(F3:F10) -> 0 | H10: =SUM(E3:E10) -> 0 | J10: Bah | K10: L | L10: B | M10: 2a | N10: {=SUM(IF(Nummerbuch!$B$5:$B$1171=J10,IF(Nummerbuch!$C$5:$C$1171=K10,IF(Nummerbuch!$D$5:$D$1171=L10,IF(Nummerbuch!$E$5:$E$1171=M10,Nummerbuch!$H$5:$H$1171,0),0),0),0))} -> 0 | O10: {=COUNT(Nummerbuch!$B$5:$B$1004,IF(Nummerbuch!$B$5:$B$1004=J10,IF(Nummerbuch!$D$5:$D$1004=L10,IF(Nummerbuch!$E$5:$E$1004=M10,0))))} -> 0
A11: Ei | B11: L | C11: TF | D11: 2b | E11: {=SUM(IF(Nummerbuch!$B$5:$B$1171=A11,IF(Nummerbuch!$C$5:$C$1171=B11,IF(Nummerbuch!$D$5:$D$1171=C11,IF(Nummerbuch!$E$5:$E$1171=D11,Nummerbuch!$H$5:$H$1171,0),0),0),0))} -> 0 | F11: {=COUNT(Nummerbuch!$B$5:$B$1004,IF(Nummerbuch!$B$5:$B$1004=A11,IF(Nummerbuch!$D$5:$D$1004=C11,IF(Nummerbuch!$E$5:$E$1004=D11,0))))} -> 0 | J11: Bah | K11: L | L11: B | M11: 2b | N11: {=SUM(IF(Nummerbuch!$B$5:$B$1171=J11,IF(Nummerbuch!$C$5:$C$1171=K11,IF(Nummerbuch!$D$5:$D$1171=L11,IF(Nummerbuch!$E$5:$E$1171=M11,Nummerbuch!$H$5:$H$1171,0),0),0),0))} -> 0 | O11: {=COUNT(Nummerbuch!$B$5:$B$1004,IF(Nummerbuch!$B$5:$B$1004=J11,IF(Nummerbuch!$D$5:$D$1004=L11,IF(Nummerbuch!$E$5:$E$1004=M11,0))))} -> 0
A12: Ei | B12: L | C12: TF | D12: 3a | E12: {=SUM(IF(Nummerbuch!$B$5:$B$1171=A12,IF(Nummerbuch!$C$5:$C$1171=B12,IF(Nummerbuch!$D$5:$D$1171=C12,IF(Nummerbuch!$E$5:$E$1171=D12,Nummerbuch!$H$5:$H$1171,0),0),0),0))} -> 0 | F12: {=COUNT(Nummerbuch!$B$5:$B$1004,IF(Nummerbuch!$B$5:$B$1004=A12,IF(Nummerbuch!$D$5:$D$1004=C12,IF(Nummerbuch!$E$5:$E$1004=D12,0))))} -> 0 | J12: Bah | K12: L | L12: B | M12: 3a | N12: {=SUM(IF(Nummerbuch!$B$5:$B$1171=J12,IF(Nummerbuch!$C$5:$C$1171=K12,IF(Nummerbuch!$D$5:$D$1171=L12,IF(Nummerbuch!$E$5:$E$1171=M12,Nummerbuch!$H$5:$H$1171,0),0),0),0))} -> 0 | O12: {=COUNT(Nummerbuch!$B$5:$B$1004,IF(Nummerbuch!$B$5:$B$1004=J12,IF(Nummerbuch!$D$5:$D$1004=L12,IF(Nummerbuch!$E$5:$E$1004=M12,0))))} -> 0
A13: Ei | B13: L | C13: TF | D13: 3b | E13: {=SUM(IF(Nummerbuch!$B$5:$B$1171=A13,IF(Nummerbuch!$C$5:$C$1171=B13,IF(Nummerbuch!$D$5:$D$1171=C13,IF(Nummerbuch!$E$5:$E$1171=D13,Nummerbuch!$H$5:$H$1171,0),0),0),0))} -> 0 | F13: {=COUNT(Nummerbuch!$B$5:$B$1004,IF(Nummerbuch!$B$5:$B$1004=A13,IF(Nummerbuch!$D$5:$D$1004=C13,IF(Nummerbuch!$E$5:$E$1004=D13,0))))} -> 0 | J13: Bah | K13: L | L13: B | M13: 3b | N13: {=SUM(IF(Nummerbuch!$B$5:$B$1171=J13,IF(Nummerbuch!$C$5:$C$1171=K13,IF(Nummerbuch!$D$5:$D$1171=L13,IF(Nummerbuch!$E$5:$E$1171=M13,Nummerbuch!$H$5:$H$1171,0),0),0),0))} -> 0 | O13: {=COUNT(Nummerbuch!$B$5:$B$1004,IF(Nummerbuch!$B$5:$B$1004=J13,IF(Nummerbuch!$D$5:$D$1004=L13,IF(Nummerbuch!$E$5:$E$1004=M13,0))))} -> 0
A14: Ei | B14: L | C14: TF | D14: 4 | E14: {=SUM(IF(Nummerbuch!$B$5:$B$1171=A14,IF(Nummerbuch!$C$5:$C$1171=B14,IF(Nummerbuch!$D$5:$D$1171=C14,IF(Nummerbuch!$E$5:$E$1171=D14,Nummerbuch!$H$5:$H$1171,0),0),0),0))} -> 0 | F14: {=COUNT(Nummerbuch!$B$5:$B$1004,IF(Nummerbuch!$B$5:$B$1004=A14,IF(Nummerbuch!$D$5:$D$1004=C14,IF(Nummerbuch!$E$5:$E$1004=D14,0))))} -> 0 | J14: Bah | K14: L | L14: B | M14: 4 | N14: {=SUM(IF(Nummerbuch!$B$5:$B$1171=J14,IF(Nummerbuch!$C$5:$C$1171=K14,IF(Nummerbuch!$D$5:$D$1171=L14,IF(Nummerbuch!$E$5:$E$1171=M14,Nummerbuch!$H$5:$H$1171,0),0),0),0))} -> 0 | O14: {=COUNT(Nummerbuch!$B$5:$B$1004,IF(Nummerbuch!$B$5:$B$1004=J14,IF(Nummerbuch!$D$5:$D$1004=L14,IF(Nummerbuch!$E$5:$E$1004=M14,0))))} -> 0
A15: Ei | B15: L | C15: TF | D15: 5 | E15: {=SUM(IF(Nummerbuch!$B$5:$B$1171=A15,IF(Nummerbuch!$C$5:$C$1171=B15,IF(Nummerbuch!$D$5:$D$1171=C15,IF(Nummerbuch!$E$5:$E$1171=D15,Nummerbuch!$H$5:$H$1171,0),0),0),0))} -> 0 | F15: {=COUNT(Nummerbuch!$B$5:$B$1004,IF(Nummerbuch!$B$5:$B$1004=A15,IF(Nummerbuch!$D$5:$D$1004=C15,IF(Nummerbuch!$E$5:$E$1004=D15,0))))} -> 0 | J15: Bah | K15: L | L15: B | M15: 5 | N15: {=SUM(IF(Nummerbuch!$B$5:$B$1171=J15,IF(Nummerbuch!$C$5:$C$1171=K15,IF(Nummerbuch!$D$5:$D$1171=L15,IF(Nummerbuch!$E$5:$E$1171=M15,Nummerbuch!$H$5:$H$1171,0),0),0),0))} -> 0 | O15: {=COUNT(Nummerbuch!$B$5:$B$1004,IF(Nummerbuch!$B$5:$B$1004=J15,IF(Nummerbuch!$D$5:$D$1004=L15,IF(Nummerbuch!$E$5:$E$1004=M15,0))))} -> 0
A16: Ei | B16: L | C16: TF | D16: 6 | E16: {=SUM(IF(Nummerbuch!$B$5:$B$1171=A16,IF(Nummerbuch!$C$5:$C$1171=B16,IF(Nummerbuch!$D$5:$D$1171=C16,IF(Nummerbuch!$E$5:$E$1171=D16,Nummerbuch!$H$5:$H$1171,0),0),0),0))} -> 0 | F16: {=COUNT(Nummerbuch!$B$5:$B$1004,IF(Nummerbuch!$B$5:$B$1004=A16,IF(Nummerbuch!$D$5:$D$1004=C16,IF(Nummerbuch!$E$5:$E$1004=D16,0))))} -> 0 | J16: Bah | K16: L | L16: B | M16: 6 | N16: {=SUM(IF(Nummerbuch!$B$5:$B$1171=J16,IF(Nummerbuch!$C$5:$C$1171=K16,IF(Nummerbuch!$D$5:$D$1171=L16,IF(Nummerbuch!$E$5:$E$1171=M16,Nummerbuch!$H$5:$H$1171,0),0),0),0))} -> 0 | O16: {=COUNT(Nummerbuch!$B$5:$B$1004,IF(Nummerbuch!$B$5:$B$1004=J16,IF(Nummerbuch!$D$5:$D$1004=L16,IF(Nummerbuch!$E$5:$E$1004=M16,0))))} -> 0 | P16: =SUM(O10:O16) -> 0 | Q16: =SUM(N10:N16) -> 0
A17: Ei | B17: L | C17: TF | D17: 7 | E17: {=SUM(IF(Nummerbuch!$B$5:$B$1171=A17,IF(Nummerbuch!$C$5:$C$1171=B17,IF(Nummerbuch!$D$5:$D$1171=C17,IF(Nummerbuch!$E$5:$E$1171=D17,Nummerbuch!$H$5:$H$1171,0),0),0),0))} -> 0 | F17: {=COUNT(Nummerbuch!$B$5:$B$1004,IF(Nummerbuch!$B$5:$B$1004=A17,IF(Nummerbuch!$D$5:$D$1004=C17,IF(Nummerbuch!$E$5:$E$1004=D17,0))))} -> 0 | J17: Bah | K17: L | L17: C | M17: 2a | N17: {=SUM(IF(Nummerbuch!$B$5:$B$1171=J17,IF(Nummerbuch!$C$5:$C$1171=K17,IF(Nummerbuch!$D$5:$D$1171=L17,IF(Nummerbuch!$E$5:$E$1171=M17,Nummerbuch!$H$5:$H$1171,0),0),0),0))} -> 0 | O17: {=COUNT(Nummerbuch!$B$5:$B$1004,IF(Nummerbuch!$B$5:$B$1004=J17,IF(Nummerbuch!$D$5:$D$1004=L17,IF(Nummerbuch!$E$5:$E$1004=M17,0))))} -> 0
A18: Ei | B18: L | C18: TF | D18: 8 | E18: {=SUM(IF(Nummerbuch!$B$5:$B$1171=A18,IF(Nummerbuch!$C$5:$C$1171=B18,IF(Nummerbuch!$D$5:$D$1171=C18,IF(Nummerbuch!$E$5:$E$1171=D18,Nummerbuch!$H$5:$H$1171,0),0),0),0))} -> 0 | F18: {=COUNT(Nummerbuch!$B$5:$B$1004,IF(Nummerbuch!$B$5:$B$1004=A18,IF(Nummerbuch!$D$5:$D$1004=C18,IF(Nummerbuch!$E$5:$E$1004=D18,0))))} -> 0 | G18: =SUM(F11:F18) -> 0 | H18: =SUM(E11:E18) -> 0 | J18: Bah | K18: L | L18: C | M18: 2b | N18: {=SUM(IF(Nummerbuch!$B$5:$B$1171=J18,IF(Nummerbuch!$C$5:$C$1171=K18,IF(Nummerbuch!$D$5:$D$1171=L18,IF(Nummerbuch!$E$5:$E$1171=M18,Nummerbuch!$H$5:$H$1171,0),0),0),0))} -> 0 | O18: {=COUNT(Nummerbuch!$B$5:$B$1004,IF(Nummerbuch!$B$5:$B$1004=J18,IF(Nummerbuch!$D$5:$D$1004=L18,IF(Nummerbuch!$E$5:$E$1004=M18,0))))} -> 0
A19: Ei | B19: L | C19: A | D19: 2a | E19: {=SUM(IF(Nummerbuch!$B$5:$B$1171=A19,IF(Nummerbuch!$C$5:$C$1171=B19,IF(Nummerbuch!$D$5:$D$1171=C19,IF(Nummerbuch!$E$5:$E$1171=D19,Nummerbuch!$H$5:$H$1171,0),0),0),0))} -> 0 | F19: {=COUNT(Nummerbuch!$B$5:$B$1004,IF(Nummerbuch!$B$5:$B$1004=A19,IF(Nummerbuch!$D$5:$D$1004=C19,IF(Nummerbuch!$E$5:$E$1004=D19,0))))} -> 0 | J19: Bah | K19: L | L19: C | M19: 3a | N19: {=SUM(IF(Nummerbuch!$B$5:$B$1171=J19,IF(Nummerbuch!$C$5:$C$1171=K19,IF(Nummerbuch!$D$5:$D$1171=L19,IF(Nummerbuch!$E$5:$E$1171=M19,Nummerbuch!$H$5:$H$1171,0),0),0),0))} -> 0 | O19: {=COUNT(Nummerbuch!$B$5:$B$1004,IF(Nummerbuch!$B$5:$B$1004=J19,IF(Nummerbuch!$D$5:$D$1004=L19,IF(Nummerbuch!$E$5:$E$1004=M19,0))))} -> 0
A20: Ei | B20: L | C20: A | D20: 2b | E20: {=SUM(IF(Nummerbuch!$B$5:$B$1171=A20,IF(Nummerbuch!$C$5:$C$1171=B20,IF(Nummerbuch!$D$5:$D$1171=C20,IF(Nummerbuch!$E$5:$E$1171=D20,Nummerbuch!$H$5:$H$1171,0),0),0),0))} -> 0 | F20: {=COUNT(Nummerbuch!$B$5:$B$1004,IF(Nummerbuch!$B$5:$B$1004=A20,IF(Nummerbuch!$D$5:$D$1004=C20,IF(Nummerbuch!$E$5:$E$1004=D20,0))))} -> 0 | J20: Bah | K20: L | L20: C | M20: 3b | N20: {=SUM(IF(Nummerbuch!$B$5:$B$1171=J20,IF(Nummerbuch!$C$5:$C$1171=K20,IF(Nummerbuch!$D$5:$D$1171=L20,IF(Nummerbuch!$E$5:$E$1171=M20,Nummerbuch!$H$5:$H$1171,0),0),0),0))} -> 0 | O20: {=COUNT(Nummerbuch!$B$5:$B$1004,IF(Nummerbuch!$B$5:$B$1004=J20,IF(Nummerbuch!$D$5:$D$1004=L20,IF(Nummerbuch!$E$5:$E$1004=M20,0))))} -> 0
A21: Ei | B21: L | C21: A | D21: 3a | E21: {=SUM(IF(Nummerbuch!$B$5:$B$1171=A21,IF(Nummerbuch!$C$5:$C$1171=B21,IF(Nummerbuch!$D$5:$D$1171=C21,IF(Nummerbuch!$E$5:$E$1171=D21,Nummerbuch!$H$5:$H$1171,0),0),0),0))} -> 0 | F21: {=COUNT(Nummerbuch!$B$5:$B$1004,IF(Nummerbuch!$B$5:$B$1004=A21,IF(Nummerbuch!$D$5:$D$1004=C21,IF(Nummerbuch!$E$5:$E$1004=D21,0))))} -> 0 | J21: Bah | K21: L | L21: C | M21: 4 | N21: {=SUM(IF(Nummerbuch!$B$5:$B$1171=J21,IF(Nummerbuch!$C$5:$C$1171=K21,IF(Nummerbuch!$D$5:$D$1171=L21,IF(Nummerbuch!$E$5:$E$1171=M21,Nummerbuch!$H$5:$H$1171,0),0),0),0))} -> 0 | O21: {=COUNT(Nummerbuch!$B$5:$B$1004,IF(Nummerbuch!$B$5:$B$1004=J21,IF(Nummerbuch!$D$5:$D$1004=L21,IF(Nummerbuch!$E$5:$E$1004=M21,0))))} -> 0
A22: Ei | B22: L | C22: A | D22: 3b | E22: {=SUM(IF(Nummerbuch!$B$5:$B$1171=A22,IF(Nummerbuch!$C$5:$C$1171=B22,IF(Nummerbuch!$D$5:$D$1171=C22,IF(Nummerbuch!$E$5:$E$1171=D22,Nummerbuch!$H$5:$H$1171,0),0),0),0))} -> 0.65 | F22: {=COUNT(Nummerbuch!$B$5:$B$1004,IF(Nummerbuch!$B$5:$B$1004=A22,IF(Nummerbuch!$D$5:$D$1004=C22,IF(Nummerbuch!$E$5:$E$1004=D22,0))))} -> 1 | J22: Bah | K22: L | L22: C | M22: 5 | N22: {=SUM(IF(Nummerbuch!$B$5:$B$1171=J22,IF(Nummerbuch!$C$5:$C$1171=K22,IF(Nummerbuch!$D$5:$D$1171=L22,IF(Nummerbuch!$E$5:$E$1171=M22,Nummerbuch!$H$5:$H$1171,0),0),0),0))} -> 0 | O22: {=COUNT(Nummerbuch!$B$5:$B$1004,IF(Nummerbuch!$B$5:$B$1004=J22,IF(Nummerbuch!$D$5:$D$1004=L22,IF(Nummerbuch!$E$5:$E$1004=M22,0))))} -> 0
A23: Ei | B23: L | C23: A | D23: 4 | E23: {=SUM(IF(Nummerbuch!$B$5:$B$1171=A23,IF(Nummerbuch!$C$5:$C$1171=B23,IF(Nummerbuch!$D$5:$D$1171=C23,IF(Nummerbuch!$E$5:$E$1171=D23,Nummerbuch!$H$5:$H$1171,0),0),0),0))} -> 0.62 | F23: {=COUNT(Nummerbuch!$B$5:$B$1004,IF(Nummerbuch!$B$5:$B$1004=A23,IF(Nummerbuch!$D$5:$D$1004=C23,IF(Nummerbuch!$E$5:$E$1004=D23,0))))} -> 1 | J23: Bah | K23: L | L23: C | M23: 6 | N23: {=SUM(IF(Nummerbuch!$B$5:$B$1171=J23,IF(Nummerbuch!$C$5:$C$1171=K23,IF(Nummerbuch!$D$5:$D$1171=L23,IF(Nummerbuch!$E$5:$E$1171=M23,Nummerbuch!$H$5:$H$1171,0),0),0),0))} -> 0 | O23: {=COUNT(Nummerbuch!$B$5:$B$1004,IF(Nummerbuch!$B$5:$B$1004=J23,IF(Nummerbuch!$D$5:$D$1004=L23,IF(Nummerbuch!$E$5:$E$1004=M23,0))))} -> 0 | P23: =SUM(O17:O23) -> 0 | Q23: =SUM(N17:N23) -> 0
A24: Ei | B24: L | C24: A | D24: 5 | E24: {=SUM(IF(Nummerbuch!$B$5:$B$1171=A24,IF(Nummerbuch!$C$5:$C$1171=B24,IF(Nummerbuch!$D$5:$D$1171=C24,IF(Nummerbuch!$E$5:$E$1171=D24,Nummerbuch!$H$5:$H$1171,0),0),0),0))} -> 0 | F24: {=COUNT(Nummerbuch!$B$5:$B$1004,IF(Nummerbuch!$B$5:$B$1004=A24,IF(Nummerbuch!$D$5:$D$1004=C24,IF(Nummerbuch!$E$5:$E$1004=D24,0))))} -> 0 | J24: Bah | K24: L | L24: OA | M24: 2a | N24: {=SUM(IF(Nummerbuch!$B$5:$B$1171=J24,IF(Nummerbuch!$C$5:$C$1171=K24,IF(Nummerbuch!$D$5:$D$1171=L24,IF(Nummerbuch!$E$5:$E$1171=M24,Nummerbuch!$H$5:$H$1171,0),0),0),0))} -> 0 | O24: {=COUNT(Nummerbuch!$B$5:$B$1004,IF(Nummerbuch!$B$5:$B$1004=J24,IF(Nummerbuch!$D$5:$D$1004=L24,IF(Nummerbuch!$E$5:$E$1004=M24,0))))} -> 0
A25: Ei | B25: L | C25: A | D25: 6 | E25: {=SUM(IF(Nummerbuch!$B$5:$B$1171=A25,IF(Nummerbuch!$C$5:$C$1171=B25,IF(Nummerbuch!$D$5:$D$1171=C25,IF(Nummerbuch!$E$5:$E$1171=D25,Nummerbuch!$H$5:$H$1171,0),0),0),0))} -> 0 | F25: {=COUNT(Nummerbuch!$B$5:$B$1004,IF(Nummerbuch!$B$5:$B$1004=A25,IF(Nummerbuch!$D$5:$D$1004=C25,IF(Nummerbuch!$E$5:$E$1004=D25,0))))} -> 0 | G25: =SUM(F19:F25) -> 2 | H25: =SUM(E19:E25) -> 1.27 | J25: Bah | K25: L | L25: OA | M25: 2b | N25: {=SUM(IF(Nummerbuch!$B$5:$B$1171=J25,IF(Nummerbuch!$C$5:$C$1171=K25,IF(Nummerbuch!$D$5:$D$1171=L25,IF(Nummerbuch!$E$5:$E$1171=M25,Nummerbuch!$H$5:$H$1171,0),0),0),0))} -> 0 | O25: {=COUNT(Nummerbuch!$B$5:$B$1004,IF(Nummerbuch!$B$5:$B$1004=J25,IF(Nummerbuch!$D$5:$D$1004=L25,IF(Nummerbuch!$E$5:$E$1004=M25,0))))} -> 0
A26: Ei | B26: L | C26: B | D26: 2a | E26: {=SUM(IF(Nummerbuch!$B$5:$B$1171=A26,IF(Nummerbuch!$C$5:$C$1171=B26,IF(Nummerbuch!$D$5:$D$1171=C26,IF(Nummerbuch!$E$5:$E$1171=D26,Nummerbuch!$H$5:$H$1171,0),0),0),0))} -> 0 | F26: {=COUNT(Nummerbuch!$B$5:$B$1004,IF(Nummerbuch!$B$5:$B$1004=A26,IF(Nummerbuch!$D$5:$D$1004=C26,IF(Nummerbuch!$E$5:$E$1004=D26,0))))} -> 0 | J26: Bah | K26: L | L26: OA | M26: 3a | N26: {=SUM(IF(Nummerbuch!$B$5:$B$1171=J26,IF(Nummerbuch!$C$5:$C$1171=K26,IF(Nummerbuch!$D$5:$D$1171=L26,IF(Nummerbuch!$E$5:$E$1171=M26,Nummerbuch!$H$5:$H$1171,0),0),0),0))} -> 0 | O26: {=COUNT(Nummerbuch!$B$5:$B$1004,IF(Nummerbuch!$B$5:$B$1004=J26,IF(Nummerbuch!$D$5:$D$1004=L26,IF(Nummerbuch!$E$5:$E$1004=M26,0))))} -> 0
A27: Ei | B27: L | C27: B | D27: 2b | E27: {=SUM(IF(Nummerbuch!$B$5:$B$1171=A27,IF(Nummerbuch!$C$5:$C$1171=B27,IF(Nummerbuch!$D$5:$D$1171=C27,IF(Nummerbuch!$E$5:$E$1171=D27,Nummerbuch!$H$5:$H$1171,0),0),0),0))} -> 0.31 | F27: {=COUNT(Nummerbuch!$B$5:$B$1004,IF(Nummerbuch!$B$5:$B$1004=A27,IF(Nummerbuch!$D$5:$D$1004=C27,IF(Nummerbuch!$E$5:$E$1004=D27,0))))} -> 1 | J27: Bah | K27: L | L27: OA | M27: 3b | N27: {=SUM(IF(Nummerbuch!$B$5:$B$1171=J27,IF(Nummerbuch!$C$5:$C$1171=K27,IF(Nummerbuch!$D$5:$D$1171=L27,IF(Nummerbuch!$E$5:$E$1171=M27,Nummerbuch!$H$5:$H$1171,0),0),0),0))} -> 0 | O27: {=COUNT(Nummerbuch!$B$5:$B$1004,IF(Nummerbuch!$B$5:$B$1004=J27,IF(Nummerbuch!$D$5:$D$1004=L27,IF(Nummerbuch!$E$5:$E$1004=M27,0))))} -> 0
A28: Ei | B28: L | C28: B | D28: 3a | E28: {=SUM(IF(Nummerbuch!$B$5:$B$1171=A28,IF(Nummerbuch!$C$5:$C$1171=B28,IF(Nummerbuch!$D$5:$D$1171=C28,IF(Nummerbuch!$E$5:$E$1171=D28,Nummerbuch!$H$5:$H$1171,0),0),0),0))} -> 1.31 | F28: {=COUNT(Nummerbuch!$B$5:$B$1004,IF(Nummerbuch!$B$5:$B$1004=A28,IF(Nummerbuch!$D$5:$D$1004=C28,IF(Nummerbuch!$E$5:$E$1004=D28,0))))} -> 3 | J28: Bah | K28: L | L28: OA | M28: 4 | N28: {=SUM(IF(Nummerbuch!$B$5:$B$1171=J28,IF(Nummerbuch!$C$5:$C$1171=K28,IF(Nummerbuch!$D$5:$D$1171=L28,IF(Nummerbuch!$E$5:$E$1171=M28,Nummerbuch!$H$5:$H$1171,0),0),0),0))} -> 0 | O28: {=COUNT(Nummerbuch!$B$5:$B$1004,IF(Nummerbuch!$B$5:$B$1004=J28,IF(Nummerbuch!$D$5:$D$1004=L28,IF(Nummerbuch!$E$5:$E$1004=M28,0))))} -> 0
A29: Ei | B29: L | C29: B | D29: 3b | E29: {=SUM(IF(Nummerbuch!$B$5:$B$1171=A29,IF(Nummerbuch!$C$5:$C$1171=B29,IF(Nummerbuch!$D$5:$D$1171=C29,IF(Nummerbuch!$E$5:$E$1171=D29,Nummerbuch!$H$5:$H$1171,0),0),0),0))} -> 0 | F29: {=COUNT(Nummerbuch!$B$5:$B$1004,IF(Nummerbuch!$B$5:$B$1004=A29,IF(Nummerbuch!$D$5:$D$1004=C29,IF(Nummerbuch!$E$5:$E$1004=D29,0))))} -> 0 | J29: Bah | K29: L | L29: OA | M29: 5 | N29: {=SUM(IF(Nummerbuch!$B$5:$B$1171=J29,IF(Nummerbuch!$C$5:$C$1171=K29,IF(Nummerbuch!$D$5:$D$1171=L29,IF(Nummerbuch!$E$5:$E$1171=M29,Nummerbuch!$H$5:$H$1171,0),0),0),0))} -> 0 | O29: {=COUNT(Nummerbuch!$B$5:$B$1004,IF(Nummerbuch!$B$5:$B$1004=J29,IF(Nummerbuch!$D$5:$D$1004=L29,IF(Nummerbuch!$E$5:$E$1004=M29,0))))} -> 0
A30: Ei | B30: L | C30: B | D30: 4 | E30: {=SUM(IF(Nummerbuch!$B$5:$B$1171=A30,IF(Nummerbuch!$C$5:$C$1171=B30,IF(Nummerbuch!$D$5:$D$1171=C30,IF(Nummerbuch!$E$5:$E$1171=D30,Nummerbuch!$H$5:$H$1171,0),0),0),0))} -> 1.31 | F30: {=COUNT(Nummerbuch!$B$5:$B$1004,IF(Nummerbuch!$B$5:$B$1004=A30,IF(Nummerbuch!$D$5:$D$1004=C30,IF(Nummerbuch!$E$5:$E$1004=D30,0))))} -> 2 | J30: Bah | K30: L | L30: OA | M30: 6 | N30: {=SUM(IF(Nummerbuch!$B$5:$B$1171=J30,IF(Nummerbuch!$C$5:$C$1171=K30,IF(Nummerbuch!$D$5:$D$1171=L30,IF(Nummerbuch!$E$5:$E$1171=M30,Nummerbuch!$H$5:$H$1171,0),0),0),0))} -> 0 | O30: {=COUNT(Nummerbuch!$B$5:$B$1004,IF(Nummerbuch!$B$5:$B$1004=J30,IF(Nummerbuch!$D$5:$D$1004=L30,IF(Nummerbuch!$E$5:$E$1004=M30,0))))} -> 0 | P30: =SUM(O24:O30) -> 0 | Q30: =SUM(N24:N30) -> 0
A31: Ei | B31: L | C31: B | D31: 5 | E31: {=SUM(IF(Nummerbuch!$B$5:$B$1171=A31,IF(Nummerbuch!$C$5:$C$1171=B31,IF(Nummerbuch!$D$5:$D$1171=C31,IF(Nummerbuch!$E$5:$E$1171=D31,Nummerbuch!$H$5:$H$1171,0),0),0),0))} -> 1.23 | F31: {=COUNT(Nummerbuch!$B$5:$B$1004,IF(Nummerbuch!$B$5:$B$1004=A31,IF(Nummerbuch!$D$5:$D$1004=C31,IF(Nummerbuch!$E$5:$E$1004=D31,0))))} -> 1 | J31: Bir | K31: L | L31: A | M31: 2a | N31: {=SUM(IF(Nummerbuch!$B$5:$B$1171=J31,IF(Nummerbuch!$C$5:$C$1171=K31,IF(Nummerbuch!$D$5:$D$1171=L31,IF(Nummerbuch!$E$5:$E$1171=M31,Nummerbuch!$H$5:$H$1171,0),0),0),0))} -> 0 | O31: {=COUNT(Nummerbuch!$B$5:$B$1004,IF(Nummerbuch!$B$5:$B$1004=J31,IF(Nummerbuch!$D$5:$D$1004=L31,IF(Nummerbuch!$E$5:$E$1004=M31,0))))} -> 0
A32: Ei | B32: L | C32: B | D32: 6 | E32: {=SUM(IF(Nummerbuch!$B$5:$B$1171=A32,IF(Nummerbuch!$C$5:$C$1171=B32,IF(Nummerbuch!$D$5:$D$1171=C32,IF(Nummerbuch!$E$5:$E$1171=D32,Nummerbuch!$H$5:$H$1171,0),0),0),0))} -> 0 | F32: {=COUNT(Nummerbuch!$B$5:$B$1004,IF(Nummerbuch!$B$5:$B$1004=A32,IF(Nummerbuch!$D$5:$D$1004=C32,IF(Nummerbuch!$E$5:$E$1004=D32,0))))} -> 0 | G32: =SUM(F26:F32) -> 7 | H32: =SUM(E26:E32) -> 4.16 | J32: Bir | K32: L | L32: A | M32: 2b | N32: {=SUM(IF(Nummerbuch!$B$5:$B$1171=J32,IF(Nummerbuch!$C$5:$C$1171=K32,IF(Nummerbuch!$D$5:$D$1171=L32,IF(Nummerbuch!$E$5:$E$1171=M32,Nummerbuch!$H$5:$H$1171,0),0),0),0))} -> 0 | O32: {=COUNT(Nummerbuch!$B$5:$B$1004,IF(Nummerbuch!$B$5:$B$1004=J32,IF(Nummerbuch!$D$5:$D$1004=L32,IF(Nummerbuch!$E$5:$E$1004=M32,0))))} -> 0
A33: Ei | B33: L | C33: C | D33: 2a | E33: {=SUM(IF(Nummerbuch!$B$5:$B$1171=A33,IF(Nummerbuch!$C$5:$C$1171=B33,IF(Nummerbuch!$D$5:$D$1171=C33,IF(Nummerbuch!$E$5:$E$1171=D33,Nummerbuch!$H$5:$H$1171,0),0),0),0))} -> 0 | F33: {=COUNT(Nummerbuch!$B$5:$B$1004,IF(Nummerbuch!$B$5:$B$1004=A33,IF(Nummerbuch!$D$5:$D$1004=C33,IF(Nummerbuch!$E$5:$E$1004=D33,0))))} -> 0 | J33: Bir | K33: L | L33: A | M33: 3a | N33: {=SUM(IF(Nummerbuch!$B$5:$B$1171=J33,IF(Nummerbuch!$C$5:$C$1171=K33,IF(Nummerbuch!$D$5:$D$1171=L33,IF(Nummerbuch!$E$5:$E$1171=M33,Nummerbuch!$H$5:$H$1171,0),0),0),0))} -> 0 | O33: {=COUNT(Nummerbuch!$B$5:$B$1004,IF(Nummerbuch!$B$5:$B$1004=J33,IF(Nummerbuch!$D$5:$D$1004=L33,IF(Nummerbuch!$E$5:$E$1004=M33,0))))} -> 0
A34: Ei | B34: L | C34: C | D34: 2b | E34: {=SUM(IF(Nummerbuch!$B$5:$B$1171=A34,IF(Nummerbuch!$C$5:$C$1171=B34,IF(Nummerbuch!$D$5:$D$1171=C34,IF(Nummerbuch!$E$5:$E$1171=D34,Nummerbuch!$H$5:$H$1171,0),0),0),0))} -> 0.25 | F34: {=COUNT(Nummerbuch!$B$5:$B$1004,IF(Nummerbuch!$B$5:$B$1004=A34,IF(Nummerbuch!$D$5:$D$1004=C34,IF(Nummerbuch!$E$5:$E$1004=D34,0))))} -> 1 | J34: Bir | K34: L | L34: A | M34: 3b | N34: {=SUM(IF(Nummerbuch!$B$5:$B$1171=J34,IF(Nummerbuch!$C$5:$C$1171=K34,IF(Nummerbuch!$D$5:$D$1171=L34,IF(Nummerbuch!$E$5:$E$1171=M34,Nummerbuch!$H$5:$H$1171,0),0),0),0))} -> 0 | O34: {=COUNT(Nummerbuch!$B$5:$B$1004,IF(Nummerbuch!$B$5:$B$1004=J34,IF(Nummerbuch!$D$5:$D$1004=L34,IF(Nummerbuch!$E$5:$E$1004=M34,0))))} -> 0
A35: Ei | B35: L | C35: C | D35: 3a | E35: {=SUM(IF(Nummerbuch!$B$5:$B$1171=A35,IF(Nummerbuch!$C$5:$C$1171=B35,IF(Nummerbuch!$D$5:$D$1171=C35,IF(Nummerbuch!$E$5:$E$1171=D35,Nummerbuch!$H$5:$H$1171,0),0),0),0))} -> 0 | F35: {=COUNT(Nummerbuch!$B$5:$B$1004,IF(Nummerbuch!$B$5:$B$1004=A35,IF(Nummerbuch!$D$5:$D$1004=C35,IF(Nummerbuch!$E$5:$E$1004=D35,0))))} -> 0 | J35: Bir | K35: L | L35: A | M35: 4 | N35: {=SUM(IF(Nummerbuch!$B$5:$B$1171=J35,IF(Nummerbuch!$C$5:$C$1171=K35,IF(Nummerbuch!$D$5:$D$1171=L35,IF(Nummerbuch!$E$5:$E$1171=M35,Nummerbuch!$H$5:$H$1171,0),0),0),0))} -> 0 | O35: {=COUNT(Nummerbuch!$B$5:$B$1004,IF(Nummerbuch!$B$5:$B$1004=J35,IF(Nummerbuch!$D$5:$D$1004=L35,IF(Nummerbuch!$E$5:$E$1004=M35,0))))} -> 0
A36: Ei | B36: L | C36: C | D36: 3b | E36: {=SUM(IF(Nummerbuch!$B$5:$B$1171=A36,IF(Nummerbuch!$C$5:$C$1171=B36,IF(Nummerbuch!$D$5:$D$1171=C36,IF(Nummerbuch!$E$5:$E$1171=D36,Nummerbuch!$H$5:$H$1171,0),0),0),0))} -> 0 | F36: {=COUNT(Nummerbuch!$B$5:$B$1004,IF(Nummerbuch!$B$5:$B$1004=A36,IF(Nummerbuch!$D$5:$D$1004=C36,IF(Nummerbuch!$E$5:$E$1004=D36,0))))} -> 0 | J36: Bir | K36: L | L36: A | M36: 5 | N36: {=SUM(IF(Nummerbuch!$B$5:$B$1171=J36,IF(Nummerbuch!$C$5:$C$1171=K36,IF(Nummerbuch!$D$5:$D$1171=L36,IF(Nummerbuch!$E$5:$E$1171=M36,Nummerbuch!$H$5:$H$1171,0),0),0),0))} -> 0 | O36: {=COUNT(Nummerbuch!$B$5:$B$1004,IF(Nummerbuch!$B$5:$B$1004=J36,IF(Nummerbuch!$D$5:$D$1004=L36,IF(Nummerbuch!$E$5:$E$1004=M36,0))))} -> 0
A37: Ei | B37: L | C37: C | D37: 4 | E37: {=SUM(IF(Nummerbuch!$B$5:$B$1171=A37,IF(Nummerbuch!$C$5:$C$1171=B37,IF(Nummerbuch!$D$5:$D$1171=C37,IF(Nummerbuch!$E$5:$E$1171=D37,Nummerbuch!$H$5:$H$1171,0),0),0),0))} -> 0 | F37: {=COUNT(Nummerbuch!$B$5:$B$1004,IF(Nummerbuch!$B$5:$B$1004=A37,IF(Nummerbuch!$D$5:$D$1004=C37,IF(Nummerbuch!$E$5:$E$1004=D37,0))))} -> 0 | J37: Bir | K37: L | L37: A | M37: 6 | N37: {=SUM(IF(Nummerbuch!$B$5:$B$1171=J37,IF(Nummerbuch!$C$5:$C$1171=K37,IF(Nummerbuch!$D$5:$D$1171=L37,IF(Nummerbuch!$E$5:$E$1171=M37,Nummerbuch!$H$5:$H$1171,0),0),0),0))} -> 0 | O37: {=COUNT(Nummerbuch!$B$5:$B$1004,IF(Nummerbuch!$B$5:$B$1004=J37,IF(Nummerbuch!$D$5:$D$1004=L37,IF(Nummerbuch!$E$5:$E$1004=M37,0))))} -> 0 | P37: =SUM(O31:O37) -> 0 | Q37: =SUM(N31:N37) -> 0
A38: Ei | B38: L | C38: C | D38: 5 | E38: {=SUM(IF(Nummerbuch!$B$5:$B$1171=A38,IF(Nummerbuch!$C$5:$C$1171=B38,IF(Nummerbuch!$D$5:$D$1171=C38,IF(Nummerbuch!$E$5:$E$1171=D38,Nummerbuch!$H$5:$H$1171,0),0),0),0))} -> 0 | F38: {=COUNT(Nummerbuch!$B$5:$B$1004,IF(Nummerbuch!$B$5:$B$1004=A38,IF(Nummerbuch!$D$5:$D$1004=C38,IF(Nummerbuch!$E$5:$E$1004=D38,0))))} -> 0 | J38: Bir | K38: L | L38: B | M38: 2a | N38: {=SUM(IF(Nummerbuch!$B$5:$B$1171=J38,IF(Nummerbuch!$C$5:$C$1171=K38,IF(Nummerbuch!$D$5:$D$1171=L38,IF(Nummerbuch!$E$5:$E$1171=M38,Nummerbuch!$H$5:$H$1171,0),0),0),0))} -> 0 | O38: {=COUNT(Nummerbuch!$B$5:$B$1004,IF(Nummerbuch!$B$5:$B$1004=J38,IF(Nummerbuch!$D$5:$D$1004=L38,IF(Nummerbuch!$E$5:$E$1004=M38,0))))} -> 0
A39: Ei | B39: L | C39: C | D39: 6 | E39: {=SUM(IF(Nummerbuch!$B$5:$B$1171=A39,IF(Nummerbuch!$C$5:$C$1171=B39,IF(Nummerbuch!$D$5:$D$1171=C39,IF(Nummerbuch!$E$5:$E$1171=D39,Nummerbuch!$H$5:$H$1171,0),0),0),0))} -> 0 | F39: {=COUNT(Nummerbuch!$B$5:$B$1004,IF(Nummerbuch!$B$5:$B$1004=A39,IF(Nummerbuch!$D$5:$D$1004=C39,IF(Nummerbuch!$E$5:$E$1004=D39,0))))} -> 0 | G39: =SUM(F33:F39) -> 1 | H39: =SUM(E33:E39) -> 0.25 | J39: Bir | K39: L | L39: B | M39: 2b | N39: {=SUM(IF(Nummerbuch!$B$5:$B$1171=J39,IF(Nummerbuch!$C$5:$C$1171=K39,IF(Nummerbuch!$D$5:$D$1171=L39,IF(Nummerbuch!$E$5:$E$1171=M39,Nummerbuch!$H$5:$H$1171,0),0),0),0))} -> 0 | O39: {=COUNT(Nummerbuch!$B$5:$B$1004,IF(Nummerbuch!$B$5:$B$1004=J39,IF(Nummerbuch!$D$5:$D$1004=L39,IF(Nummerbuch!$E$5:$E$1004=M39,0))))} -> 0
A40: Ei | B40: L | C40: OA | D40: 2a | E40: {=SUM(IF(Nummerbuch!$B$5:$B$1171=A40,IF(Nummerbuch!$C$5:$C$1171=B40,IF(Nummerbuch!$D$5:$D$1171=C40,IF(Nummerbuch!$E$5:$E$1171=D40,Nummerbuch!$H$5:$H$1171,0),0),0),0))} -> 0 | F40: {=COUNT(Nummerbuch!$B$5:$B$1004,IF(Nummerbuch!$B$5:$B$1004=A40,IF(Nummerbuch!$D$5:$D$1004=C40,IF(Nummerbuch!$E$5:$E$1004=D40,0))))} -> 0 | J40: Bir | K40: L | L40: B | M40: 3a | N40: {=SUM(IF(Nummerbuch!$B$5:$B$1171=J40,IF(Nummerbuch!$C$5:$C$1171=K40,IF(Nummerbuch!$D$5:$D$1171=L40,IF(Nummerbuch!$E$5:$E$1171=M40,Nummerbuch!$H$5:$H$1171,0),0),0),0))} -> 0 | O40: {=COUNT(Nummerbuch!$B$5:$B$1004,IF(Nummerbuch!$B$5:$B$1004=J40,IF(Nummerbuch!$D$5:$D$1004=L40,IF(Nummerbuch!$E$5:$E$1004=M40,0))))} -> 0
...

Sheet Sa.NdHw
A1: Zusammenstellung Nadelholz weiß | I1: Info
A2: BA | B2: So | C2: Gü | D2: ST | E2: fm | F2: Stck | G2: SaSt. | H2: Sa.Güteklasse | I2: Bemerkungen
A3: Fi | B3: L | C3: A | D3: 3a | E3: {=SUM(IF(Nummerbuch!$B$5:$B$1171=A3,IF(Nummerbuch!$C$5:$C$1171=B3,IF(Nummerbuch!$D$5:$D$1171=C3,IF(Nummerbuch!$E$5:$E$1171=D3,Nummerbuch!$H$5:$H$1171,0),0),0),0))} -> 0 | F3: {=COUNT(Nummerbuch!$B$5:$B$1004,IF(Nummerbuch!$B$5:$B$1004=A3,IF(Nummerbuch!$D$5:$D$1004=C3,IF(Nummerbuch!$E$5:$E$1004=D3,0))))} -> 0
A4: Fi | B4: L | C4: A | D4: 3b | E4: {=SUM(IF(Nummerbuch!$B$5:$B$1171=A4,IF(Nummerbuch!$C$5:$C$1171=B4,IF(Nummerbuch!$D$5:$D$1171=C4,IF(Nummerbuch!$E$5:$E$1171=D4,Nummerbuch!$H$5:$H$1171,0),0),0),0))} -> 0 | F4: {=COUNT(Nummerbuch!$B$5:$B$1004,IF(Nummerbuch!$B$5:$B$1004=A4,IF(Nummerbuch!$D$5:$D$1004=C4,IF(Nummerbuch!$E$5:$E$1004=D4,0))))} -> 0
A5: Fi | B5: L | C5: A | D5: 4 | E5: {=SUM(IF(Nummerbuch!$B$5:$B$1171=A5,IF(Nummerbuch!$C$5:$C$1171=B5,IF(Nummerbuch!$D$5:$D$1171=C5,IF(Nummerbuch!$E$5:$E$1171=D5,Nummerbuch!$H$5:$H$1171,0),0),0),0))} -> 0 | F5: {=COUNT(Nummerbuch!$B$5:$B$1004,IF(Nummerbuch!$B$5:$B$1004=A5,IF(Nummerbuch!$D$5:$D$1004=C5,IF(Nummerbuch!$E$5:$E$1004=D5,0))))} -> 0
A6: Fi | B6: L | C6: A | D6: 5 | E6: {=SUM(IF(Nummerbuch!$B$5:$B$1171=A6,IF(Nummerbuch!$C$5:$C$1171=B6,IF(Nummerbuch!$D$5:$D$1171=C6,IF(Nummerbuch!$E$5:$E$1171=D6,Nummerbuch!$H$5:$H$1171,0),0),0),0))} -> 0 | F6: {=COUNT(Nummerbuch!$B$5:$B$1004,IF(Nummerbuch!$B$5:$B$1004=A6,IF(Nummerbuch!$D$5:$D$1004=C6,IF(Nummerbuch!$E$5:$E$1004=D6,0))))} -> 0
A7: Fi | B7: L | C7: A | D7: 6 | E7: {=SUM(IF(Nummerbuch!$B$5:$B$1171=A7,IF(Nummerbuch!$C$5:$C$1171=B7,IF(Nummerbuch!$D$5:$D$1171=C7,IF(Nummerbuch!$E$5:$E$1171=D7,Nummerbuch!$H$5:$H$1171,0),0),0),0))} -> 0 | F7: {=COUNT(Nummerbuch!$B$5:$B$1004,IF(Nummerbuch!$B$5:$B$1004=A7,IF(Nummerbuch!$D$5:$D$1004=C7,IF(Nummerbuch!$E$5:$E$1004=D7,0))))} -> 0 | G7: =SUM(F3:F7) -> 0 | H7: =SUM(E3:E7) -> 0
A8: Fi | B8: L | C8: B | D8: 1a | E8: {=SUM(IF(Nummerbuch!$B$5:$B$1171=A8,IF(Nummerbuch!$C$5:$C$1171=B8,IF(Nummerbuch!$D$5:$D$1171=C8,IF(Nummerbuch!$E$5:$E$1171=D8,Nummerbuch!$H$5:$H$1171,0),0),0),0))} -> 0 | F8: {=COUNT(Nummerbuch!$B$5:$B$1004,IF(Nummerbuch!$B$5:$B$1004=A8,IF(Nummerbuch!$D$5:$D$1004=C8,IF(Nummerbuch!$E$5:$E$1004=D8,0))))} -> 0
A9: Fi | B9: L | C9: B | D9: 1b1 | E9: {=SUM(IF(Nummerbuch!$B$5:$B$1171=A9,IF(Nummerbuch!$C$5:$C$1171=B9,IF(Nummerbuch!$D$5:$D$1171=C9,IF(Nummerbuch!$E$5:$E$1171=D9,Nummerbuch!$H$5:$H$1171,0),0),0),0))} -> 0.34 | F9: {=COUNT(Nummerbuch!$B$5:$B$1004,IF(Nummerbuch!$B$5:$B$1004=A9,IF(Nummerbuch!$D$5:$D$1004=C9,IF(Nummerbuch!$E$5:$E$1004=D9,0))))} -> 1
A10: Fi | B10: L | C10: B | D10: 1b2 | E10: {=SUM(IF(Nummerbuch!$B$5:$B$1171=A10,IF(Nummerbuch!$C$5:$C$1171=B10,IF(Nummerbuch!$D$5:$D$1171=C10,IF(Nummerbuch!$E$5:$E$1171=D10,Nummerbuch!$H$5:$H$1171,0),0),0),0))} -> 0 | F10: {=COUNT(Nummerbuch!$B$5:$B$1004,IF(Nummerbuch!$B$5:$B$1004=A10,IF(Nummerbuch!$D$5:$D$1004=C10,IF(Nummerbuch!$E$5:$E$1004=D10,0))))} -> 0
A11: Fi | B11: L | C11: B | D11: 2a | E11: {=SUM(IF(Nummerbuch!$B$5:$B$1171=A11,IF(Nummerbuch!$C$5:$C$1171=B11,IF(Nummerbuch!$D$5:$D$1171=C11,IF(Nummerbuch!$E$5:$E$1171=D11,Nummerbuch!$H$5:$H$1171,0),0),0),0))} -> 0.9 | F11: {=COUNT(Nummerbuch!$B$5:$B$1004,IF(Nummerbuch!$B$5:$B$1004=A11,IF(Nummerbuch!$D$5:$D$1004=C11,IF(Nummerbuch!$E$5:$E$1004=D11,0))))} -> 1
A12: Fi | B12: L | C12: B | D12: 2b | E12: {=SUM(IF(Nummerbuch!$B$5:$B$1171=A12,IF(Nummerbuch!$C$5:$C$1171=B12,IF(Nummerbuch!$D$5:$D$1171=C12,IF(Nummerbuch!$E$5:$E$1171=D12,Nummerbuch!$H$5:$H$1171,0),0),0),0))} -> 1.23 | F12: {=COUNT(Nummerbuch!$B$5:$B$1004,IF(Nummerbuch!$B$5:$B$1004=A12,IF(Nummerbuch!$D$5:$D$1004=C12,IF(Nummerbuch!$E$5:$E$1004=D12,0))))} -> 1
A13: Fi | B13: L | C13: B | D13: 3a | E13: {=SUM(IF(Nummerbuch!$B$5:$B$1171=A13,IF(Nummerbuch!$C$5:$C$1171=B13,IF(Nummerbuch!$D$5:$D$1171=C13,IF(Nummerbuch!$E$5:$E$1171=D13,Nummerbuch!$H$5:$H$1171,0),0),0),0))} -> 0 | F13: {=COUNT(Nummerbuch!$B$5:$B$1004,IF(Nummerbuch!$B$5:$B$1004=A13,IF(Nummerbuch!$D$5:$D$1004=C13,IF(Nummerbuch!$E$5:$E$1004=D13,0))))} -> 0
A14: Fi | B14: L | C14: B | D14: 3b | E14: {=SUM(IF(Nummerbuch!$B$5:$B$1171=A14,IF(Nummerbuch!$C$5:$C$1171=B14,IF(Nummerbuch!$D$5:$D$1171=C14,IF(Nummerbuch!$E$5:$E$1171=D14,Nummerbuch!$H$5:$H$1171,0),0),0),0))} -> 0 | F14: {=COUNT(Nummerbuch!$B$5:$B$1004,IF(Nummerbuch!$B$5:$B$1004=A14,IF(Nummerbuch!$D$5:$D$1004=C14,IF(Nummerbuch!$E$5:$E$1004=D14,0))))} -> 0
A15: Fi | B15: L | C15: B | D15: 4 | E15: {=SUM(IF(Nummerbuch!$B$5:$B$1171=A15,IF(Nummerbuch!$C$5:$C$1171=B15,IF(Nummerbuch!$D$5:$D$1171=C15,IF(Nummerbuch!$E$5:$E$1171=D15,Nummerbuch!$H$5:$H$1171,0),0),0),0))} -> 0 | F15: {=COUNT(Nummerbuch!$B$5:$B$1004,IF(Nummerbuch!$B$5:$B$1004=A15,IF(Nummerbuch!$D$5:$D$1004=C15,IF(Nummerbuch!$E$5:$E$1004=D15,0))))} -> 0
A16: Fi | B16: L | C16: B | D16: 5 | E16: {=SUM(IF(Nummerbuch!$B$5:$B$1171=A16,IF(Nummerbuch!$C$5:$C$1171=B16,IF(Nummerbuch!$D$5:$D$1171=C16,IF(Nummerbuch!$E$5:$E$1171=D16,Nummerbuch!$H$5:$H$1171,0),0),0),0))} -> 0 | F16: {=COUNT(Nummerbuch!$B$5:$B$1004,IF(Nummerbuch!$B$5:$B$1004=A16,IF(Nummerbuch!$D$5:$D$1004=C16,IF(Nummerbuch!$E$5:$E$1004=D16,0))))} -> 0
A17: Fi | B17: L | C17: B | D17: 6 | E17: {=SUM(IF(Nummerbuch!$B$5:$B$1171=A17,IF(Nummerbuch!$C$5:$C$1171=B17,IF(Nummerbuch!$D$5:$D$1171=C17,IF(Nummerbuch!$E$5:$E$1171=D17,Nummerbuch!$H$5:$H$1171,0),0),0),0))} -> 0 | F17: {=COUNT(Nummerbuch!$B$5:$B$1004,IF(Nummerbuch!$B$5:$B$1004=A17,IF(Nummerbuch!$D$5:$D$1004=C17,IF(Nummerbuch!$E$5:$E$1004=D17,0))))} -> 0 | G17: =SUM(F8:F17) -> 3 | H17: =SUM(E8:E17) -> 2.47
A18: Fi | B18: L | C18: C | D18: 1a | E18: {=SUM(IF(Nummerbuch!$B$5:$B$1171=A18,IF(Nummerbuch!$C$5:$C$1171=B18,IF(Nummerbuch!$D$5:$D$1171=C18,IF(Nummerbuch!$E$5:$E$1171=D18,Nummerbuch!$H$5:$H$1171,0),0),0),0))} -> 0 | F18: {=COUNT(Nummerbuch!$B$5:$B$1004,IF(Nummerbuch!$B$5:$B$1004=A18,IF(Nummerbuch!$D$5:$D$1004=C18,IF(Nummerbuch!$E$5:$E$1004=D18,0))))} -> 0
A19: Fi | B19: L | C19: C | D19: 1b1 | E19: {=SUM(IF(Nummerbuch!$B$5:$B$1171=A19,IF(Nummerbuch!$C$5:$C$1171=B19,IF(Nummerbuch!$D$5:$D$1171=C19,IF(Nummerbuch!$E$5:$E$1171=D19,Nummerbuch!$H$5:$H$1171,0),0),0),0))} -> 0 | F19: {=COUNT(Nummerbuch!$B$5:$B$1004,IF(Nummerbuch!$B$5:$B$1004=A19,IF(Nummerbuch!$D$5:$D$1004=C19,IF(Nummerbuch!$E$5:$E$1004=D19,0))))} -> 0
A20: Fi | B20: L | C20: C | D20: 1b2 | E20: {=SUM(IF(Nummerbuch!$B$5:$B$1171=A20,IF(Nummerbuch!$C$5:$C$1171=B20,IF(Nummerbuch!$D$5:$D$1171=C20,IF(Nummerbuch!$E$5:$E$1171=D20,Nummerbuch!$H$5:$H$1171,0),0),0),0))} -> 0 | F20: {=COUNT(Nummerbuch!$B$5:$B$1004,IF(Nummerbuch!$B$5:$B$1004=A20,IF(Nummerbuch!$D$5:$D$1004=C20,IF(Nummerbuch!$E$5:$E$1004=D20,0))))} -> 0
A21: Fi | B21: L | C21: C | D21: 2a | E21: {=SUM(IF(Nummerbuch!$B$5:$B$1171=A21,IF(Nummerbuch!$C$5:$C$1171=B21,IF(Nummerbuch!$D$5:$D$1171=C21,IF(Nummerbuch!$E$5:$E$1171=D21,Nummerbuch!$H$5:$H$1171,0),0),0),0))} -> 0 | F21: {=COUNT(Nummerbuch!$B$5:$B$1004,IF(Nummerbuch!$B$5:$B$1004=A21,IF(Nummerbuch!$D$5:$D$1004=C21,IF(Nummerbuch!$E$5:$E$1004=D21,0))))} -> 0
A22: Fi | B22: L | C22: C | D22: 2b | E22: {=SUM(IF(Nummerbuch!$B$5:$B$1171=A22,IF(Nummerbuch!$C$5:$C$1171=B22,IF(Nummerbuch!$D$5:$D$1171=C22,IF(Nummerbuch!$E$5:$E$1171=D22,Nummerbuch!$H$5:$H$1171,0),0),0),0))} -> 1.11 | F22: {=COUNT(Nummerbuch!$B$5:$B$1004,IF(Nummerbuch!$B$5:$B$1004=A22,IF(Nummerbuch!$D$5:$D$1004=C22,IF(Nummerbuch!$E$5:$E$1004=D22,0))))} -> 1
A23: Fi | B23: L | C23: C | D23: 3a | E23: {=SUM(IF(Nummerbuch!$B$5:$B$1171=A23,IF(Nummerbuch!$C$5:$C$1171=B23,IF(Nummerbuch!$D$5:$D$1171=C23,IF(Nummerbuch!$E$5:$E$1171=D23,Nummerbuch!$H$5:$H$1171,0),0),0),0))} -> 1.66 | F23: {=COUNT(Nummerbuch!$B$5:$B$1004,IF(Nummerbuch!$B$5:$B$1004=A23,IF(Nummerbuch!$D$5:$D$1004=C23,IF(Nummerbuch!$E$5:$E$1004=D23,0))))} -> 1
A24: Fi | B24: L | C24: C | D24: 3b | E24: {=SUM(IF(Nummerbuch!$B$5:$B$1171=A24,IF(Nummerbuch!$C$5:$C$1171=B24,IF(Nummerbuch!$D$5:$D$1171=C24,IF(Nummerbuch!$E$5:$E$1171=D24,Nummerbuch!$H$5:$H$1171,0),0),0),0))} -> 0 | F24: {=COUNT(Nummerbuch!$B$5:$B$1004,IF(Nummerbuch!$B$5:$B$1004=A24,IF(Nummerbuch!$D$5:$D$1004=C24,IF(Nummerbuch!$E$5:$E$1004=D24,0))))} -> 0
A25: Fi | B25: L | C25: C | D25: 4 | E25: {=SUM(IF(Nummerbuch!$B$5:$B$1171=A25,IF(Nummerbuch!$C$5:$C$1171=B25,IF(Nummerbuch!$D$5:$D$1171=C25,IF(Nummerbuch!$E$5:$E$1171=D25,Nummerbuch!$H$5:$H$1171,0),0),0),0))} -> 0 | F25: {=COUNT(Nummerbuch!$B$5:$B$1004,IF(Nummerbuch!$B$5:$B$1004=A25,IF(Nummerbuch!$D$5:$D$1004=C25,IF(Nummerbuch!$E$5:$E$1004=D25,0))))} -> 0
A26: Fi | B26: L | C26: C | D26: 5 | E26: {=SUM(IF(Nummerbuch!$B$5:$B$1171=A26,IF(Nummerbuch!$C$5:$C$1171=B26,IF(Nummerbuch!$D$5:$D$1171=C26,IF(Nummerbuch!$E$5:$E$1171=D26,Nummerbuch!$H$5:$H$1171,0),0),0),0))} -> 0 | F26: {=COUNT(Nummerbuch!$B$5:$B$1004,IF(Nummerbuch!$B$5:$B$1004=A26,IF(Nummerbuch!$D$5:$D$1004=C26,IF(Nummerbuch!$E$5:$E$1004=D26,0))))} -> 0
A27: Fi | B27: L | C27: C | D27: 6 | E27: {=SUM(IF(Nummerbuch!$B$5:$B$1171=A27,IF(Nummerbuch!$C$5:$C$1171=B27,IF(Nummerbuch!$D$5:$D$1171=C27,IF(Nummerbuch!$E$5:$E$1171=D27,Nummerbuch!$H$5:$H$1171,0),0),0),0))} -> 0 | F27: {=COUNT(Nummerbuch!$B$5:$B$1004,IF(Nummerbuch!$B$5:$B$1004=A27,IF(Nummerbuch!$D$5:$D$1004=C27,IF(Nummerbuch!$E$5:$E$1004=D27,0))))} -> 0 | G27: =SUM(F18:F27) -> 2 | H27: =SUM(E18:E27) -> 2.77
A28: Fi | B28: L | C28: D | D28: 1a | E28: {=SUM(IF(Nummerbuch!$B$5:$B$1171=A28,IF(Nummerbuch!$C$5:$C$1171=B28,IF(Nummerbuch!$D$5:$D$1171=C28,IF(Nummerbuch!$E$5:$E$1171=D28,Nummerbuch!$H$5:$H$1171,0),0),0),0))} -> 0 | F28: {=COUNT(Nummerbuch!$B$5:$B$1004,IF(Nummerbuch!$B$5:$B$1004=A28,IF(Nummerbuch!$D$5:$D$1004=C28,IF(Nummerbuch!$E$5:$E$1004=D28,0))))} -> 0
A29: Fi | B29: L | C29: D | D29: 1b1 | E29: {=SUM(IF(Nummerbuch!$B$5:$B$1171=A29,IF(Nummerbuch!$C$5:$C$1171=B29,IF(Nummerbuch!$D$5:$D$1171=C29,IF(Nummerbuch!$E$5:$E$1171=D29,Nummerbuch!$H$5:$H$1171,0),0),0),0))} -> 0 | F29: {=COUNT(Nummerbuch!$B$5:$B$1004,IF(Nummerbuch!$B$5:$B$1004=A29,IF(Nummerbuch!$D$5:$D$1004=C29,IF(Nummerbuch!$E$5:$E$1004=D29,0))))} -> 0
A30: Fi | B30: L | C30: D | D30: 1b2 | E30: {=SUM(IF(Nummerbuch!$B$5:$B$1171=A30,IF(Nummerbuch!$C$5:$C$1171=B30,IF(Nummerbuch!$D$5:$D$1171=C30,IF(Nummerbuch!$E$5:$E$1171=D30,Nummerbuch!$H$5:$H$1171,0),0),0),0))} -> 0 | F30: {=COUNT(Nummerbuch!$B$5:$B$1004,IF(Nummerbuch!$B$5:$B$1004=A30,IF(Nummerbuch!$D$5:$D$1004=C30,IF(Nummerbuch!$E$5:$E$1004=D30,0))))} -> 0
A31: Fi | B31: L | C31: D | D31: 2a | E31: {=SUM(IF(Nummerbuch!$B$5:$B$1171=A31,IF(Nummerbuch!$C$5:$C$1171=B31,IF(Nummerbuch!$D$5:$D$1171=C31,IF(Nummerbuch!$E$5:$E$1171=D31,Nummerbuch!$H$5:$H$1171,0),0),0),0))} -> 0 | F31: {=COUNT(Nummerbuch!$B$5:$B$1004,IF(Nummerbuch!$B$5:$B$1004=A31,IF(Nummerbuch!$D$5:$D$1004=C31,IF(Nummerbuch!$E$5:$E$1004=D31,0))))} -> 0
A32: Fi | B32: L | C32: D | D32: 2b | E32: {=SUM(IF(Nummerbuch!$B$5:$B$1171=A32,IF(Nummerbuch!$C$5:$C$1171=B32,IF(Nummerbuch!$D$5:$D$1171=C32,IF(Nummerbuch!$E$5:$E$1171=D32,Nummerbuch!$H$5:$H$1171,0),0),0),0))} -> 0 | F32: {=COUNT(Nummerbuch!$B$5:$B$1004,IF(Nummerbuch!$B$5:$B$1004=A32,IF(Nummerbuch!$D$5:$D$1004=C32,IF(Nummerbuch!$E$5:$E$1004=D32,0))))} -> 0
A33: Fi | B33: L | C33: D | D33: 3a | E33: {=SUM(IF(Nummerbuch!$B$5:$B$1171=A33,IF(Nummerbuch!$C$5:$C$1171=B33,IF(Nummerbuch!$D$5:$D$1171=C33,IF(Nummerbuch!$E$5:$E$1171=D33,Nummerbuch!$H$5:$H$1171,0),0),0),0))} -> 0 | F33: {=COUNT(Nummerbuch!$B$5:$B$1004,IF(Nummerbuch!$B$5:$B$1004=A33,IF(Nummerbuch!$D$5:$D$1004=C33,IF(Nummerbuch!$E$5:$E$1004=D33,0))))} -> 0
A34: Fi | B34: L | C34: D | D34: 3b | E34: {=SUM(IF(Nummerbuch!$B$5:$B$1171=A34,IF(Nummerbuch!$C$5:$C$1171=B34,IF(Nummerbuch!$D$5:$D$1171=C34,IF(Nummerbuch!$E$5:$E$1171=D34,Nummerbuch!$H$5:$H$1171,0),0),0),0))} -> 0 | F34: {=COUNT(Nummerbuch!$B$5:$B$1004,IF(Nummerbuch!$B$5:$B$1004=A34,IF(Nummerbuch!$D$5:$D$1004=C34,IF(Nummerbuch!$E$5:$E$1004=D34,0))))} -> 0
A35: Fi | B35: L | C35: D | D35: 4 | E35: {=SUM(IF(Nummerbuch!$B$5:$B$1171=A35,IF(Nummerbuch!$C$5:$C$1171=B35,IF(Nummerbuch!$D$5:$D$1171=C35,IF(Nummerbuch!$E$5:$E$1171=D35,Nummerbuch!$H$5:$H$1171,0),0),0),0))} -> 0 | F35: {=COUNT(Nummerbuch!$B$5:$B$1004,IF(Nummerbuch!$B$5:$B$1004=A35,IF(Nummerbuch!$D$5:$D$1004=C35,IF(Nummerbuch!$E$5:$E$1004=D35,0))))} -> 0
A36: Fi | B36: L | C36: D | D36: 5 | E36: {=SUM(IF(Nummerbuch!$B$5:$B$1171=A36,IF(Nummerbuch!$C$5:$C$1171=B36,IF(Nummerbuch!$D$5:$D$1171=C36,IF(Nummerbuch!$E$5:$E$1171=D36,Nummerbuch!$H$5:$H$1171,0),0),0),0))} -> 0 | F36: {=COUNT(Nummerbuch!$B$5:$B$1004,IF(Nummerbuch!$B$5:$B$1004=A36,IF(Nummerbuch!$D$5:$D$1004=C36,IF(Nummerbuch!$E$5:$E$1004=D36,0))))} -> 0
A37: Fi | B37: L | C37: D | D37: 6 | E37: {=SUM(IF(Nummerbuch!$B$5:$B$1171=A37,IF(Nummerbuch!$C$5:$C$1171=B37,IF(Nummerbuch!$D$5:$D$1171=C37,IF(Nummerbuch!$E$5:$E$1171=D37,Nummerbuch!$H$5:$H$1171,0),0),0),0))} -> 0 | F37: {=COUNT(Nummerbuch!$B$5:$B$1004,IF(Nummerbuch!$B$5:$B$1004=A37,IF(Nummerbuch!$D$5:$D$1004=C37,IF(Nummerbuch!$E$5:$E$1004=D37,0))))} -> 0 | G37: =SUM(F28:F37) -> 0 | H37: =SUM(E28:E37) -> 0
A38: Fi | B38: L | C38: OA | D38: 1a | E38: {=SUM(IF(Nummerbuch!$B$5:$B$1171=A38,IF(Nummerbuch!$C$5:$C$1171=B38,IF(Nummerbuch!$D$5:$D$1171=C38,IF(Nummerbuch!$E$5:$E$1171=D38,Nummerbuch!$H$5:$H$1171,0),0),0),0))} -> 0 | F38: {=COUNT(Nummerbuch!$B$5:$B$1004,IF(Nummerbuch!$B$5:$B$1004=A38,IF(Nummerbuch!$D$5:$D$1004=C38,IF(Nummerbuch!$E$5:$E$1004=D38,0))))} -> 0
A39: Fi | B39: L | C39: OA | D39: 1b1 | E39: {=SUM(IF(Nummerbuch!$B$5:$B$1171=A39,IF(Nummerbuch!$C$5:$C$1171=B39,IF(Nummerbuch!$D$5:$D$1171=C39,IF(Nummerbuch!$E$5:$E$1171=D39,Nummerbuch!$H$5:$H$1171,0),0),0),0))} -> 0 | F39: {=COUNT(Nummerbuch!$B$5:$B$1004,IF(Nummerbuch!$B$5:$B$1004=A39,IF(Nummerbuch!$D$5:$D$1004=C39,IF(Nummerbuch!$E$5:$E$1004=D39,0))))} -> 0
