Workbook

Sheet Info
A1: Holzaufnahme
A2: Führen Sie Ihre Holz- und Loslisten in Excel. Erstellen Sie Verkaufsabrechungen und Statistiken. Verwalten
A3: Sie komfortabel Ihre Kunden und Lieferanten.
A5: Excel-Anwendung von
A6: WERNER LUCK
A8: Titelblatt | E8: Nummerbuch | H8: Sa.Laubholz | J8: Sa. Nadelholz weiß | N8: Sa.Nadelholz rot
A9: BA-Schlüssel | E9: Sorte, Stärke | H9: Stichprobe | M9: Schichtholz L | N9: Schichtholz IS
A11: Zusammenstellung HV | H11: Zusammenstellung nach Abt. | M11: Losliste | N11: Lieferanten
B13: Holzrechnung | E13: Preise | H13: Kunden
A14: INHALT
A15: Info | H15: Dieses Blatt
A16: E | H16: Eingaben (Anweisung zum Gebrauch der Arbeitsmappe)
A17: A | H17: Angaben allgemeiner Art
A18: Titelblatt | H18: Nummerbuchtitel (Eintragungen werden in betroffene Folgeblätter übernommen)
A19: Nummerbuch | H19: Massenberechnung nach Mittendurchmesser
A20: Sa.LbH | H20: Zusammenstellung Laubholz
A21: Sa.NdHw | H21: Zusammenstellung Nadelholz weiß
A22: Sa.NdHr | H22: Zusammenstellung Nadelholz rot
A23: BA-Schlüssel | H23: Baumarten-Schlüssel
A24: Sorten-, Stärkeschlüssel | H24: Sorten- und Stärkenschlüssel
A25: Stichprobe | H25: Massenberechnung nach Stichprobenverfahren
A26: ABSCHNIT | H26: Massenberechnung nach Stichprobenverfahren
... A30: Zusammentsellung nach Abt. | H30: Zusammenstellung Aufarbeitungsmengen nach Abteilungen
A31: Losliste | H31: Losliste für den Holzverkauf | M31: dieses Tabellenblatt können Sie nach Ihrem Bedarf erstellen
A32: Holzrechnung | H32: Holzverkaufsrechnung | M32: dieses Tabellenblatt können Sie nach Ihrem Bedarf erstellen
A33: Preise | H33: Preistabellen | M33: dieses Tabellenblatt können Sie nach Ihrem Bedarf erstellen
A34: Kunden | H34: Kundenverzeichnis | M34: dieses Tabellenblatt können Sie nach Ihrem Bedarf erstellen
A35: Lieferanten | H35: Lieferantenverzeichnis | M35: dieses Tabellenblatt können Sie nach Ihrem Bedarf erstellen
A37: Excel-Anwendung speziell für den Kleinwaldbesitzer
A38: Entwickelt von Werner Luck
A39: Hauptstraße 2
A40: 54413 Beuren
A41: Tel.: 06586/986025
A42: E-Mail: wernerluck@web.de

Sheet E
A1: Erläuterungen und Anweisungen zum Gebrauch der Arbeitsmappe
A3: Die Tabellenblätter sind im Anhalt an rheinland-pfälzische Gepflogenheiten erstellt worden. Sie können sie nach Belieben verändern.
A6: Tabellenblatt
A7: Info | C7: Übersicht über die Arbeitsmappe und Informationen zum Autor.
A9: E | C9: Dieses Blatt.
A11: A | C11: Angaben zu ihrem Betrieb und zu den informellen Daten der Holzaufnahme. Die Angaben, die Sie hier machen,
C12: werden in die folgenden Tabellenblätter übernommen.
A14: Titelblatt | C14: Titelblatt des Nummerbuches mit Zusammenstellungen und allgemeinen Angaben.
A16: Nummerbuch | C16: Eigentliches Holzaufnahmebuch.
C17: Beim Ausfüllen der Spalten "Länge" und "Durchmesser" setzen Sie zuerst den Mauszeiger ind die Spalte
C18: "Länge", geben diese ein und betätigen dann die Tabulatortaste ↹ , damit ist gewährleistet, dass der Kursor ins
C19: nächste Längenfeld springt!
C20: Die eingefärbten Spalten werden automatisch (per Formel) ausgefüllt.
A22: Sa.LbH | C22: Summe Laubholz
A24: Sa.NdHw | C24: Summe Nadelholz weiß
A26: Sa.NdHr | C26: Summe Nadelholz rot
A28: BA-Schlüssel | C28: Baumartenschlüssel
A30: Sorten-, Stärkeschlüssel | D30: Verwendungssorten und Stärkeschlüssel
A32: Stichprobe IL | C32: Stichprobe nach Länge und Durchmesser
A34: Stichprobe | C34: Stichprobe (nach der Kreisfläche)
A36: Sektions_rm_Maß | C36: Sektions-Raummaßverfahren für maschinengesetztes Kurzholz
A38: Schichtholz L | C38: Vermessung von Schichtholz im Sektionsverfahren, die Rollenlänge wird bei der Mengenermittlung im unteren Bereich eingetragen.
A40: Schichtholz IS | C40: Vermessung von Schichtholz im Sektionsverfahren, die Rollenlänge wird bei der Mengenermittlung im unteren Bereich eingetragen.
A42: Zusammenstellung HV | D42: Zusammenstellung Harvester
A44: Abt. | C44: Zusammenstellung nach Abteilungen

Sheet A
A1: Deckblatt
A2: Angaben, die Sie auf diesem Blatt machen,
A3: werden in die folgenden Blätter
A4: übernommen.
G5: Nr.:
A6: Waldbesitzer | C6: NN | G6: 0
A8: Forstamt | C8: NN | G8: 0
A10: Forstrevier | C10: NN | G10: 0
A12: Betrieb | C12: NN | G12: 0
A14: HHJ/WJ | C14: 2019
A16: MB-Nr./Plan-Nr. | C16: 0
A18: Nummerbuch-Name
A20: Produktionszeitraum
A22: Nummerbuch-Art | C22: N | D22: -HAB
A24: Abnahme-Nr.
A26: Nutzungsart | C26: EDf
A30: Name des Ersteller | C30: NN
A31: Namenszeichen | C31: NN
A33: Loseinteilung | C33: Los 1
C34: Los 2
C35: Los 3
C36: Los 4
C37: Los 5
C38: Los 6
C39: Los 7
C40: Los 8
C41: Los 9
C42: Los 10

Sheet Titelblatt
A1: Nummerbuch-Titelblatt
A2: Waldbesitzer | B2: =A!C6 -> NN | F2: Nr.: | G2: =A!G6 -> 0
A3: Forstamt | B3: =A!C8 -> NN | F3: Nr.: | G3: =A!G8 -> 0
A4: Forstrevier | B4: =A!C10 -> NN | F4: Nr.: | G4: =A!G10 -> 0
A5: Betrieb | B5: =A!C12 -> NN | F5: Nr.:
A6: HHJ/WJ | B6: =A!C14 -> 2019 | C6: Plan-Nr./MB-Nr. | E6: =A!C16 -> 0 | F6: Abnahme-Nr.
A7: Nummerbuch-Name | B7: =A!C18 -> 0 | E7: Nummerbuch-Art | G7: =A!C22 -> N
A8: Produktionszeitraum | B8: =A!C20 -> 0 | E8: Nutzungsart | F8: =A!C26 -> EDf
A9: Schäden | D9: Holzartengruppe (%-Anteil)
A10: Art | D10: Eiche | E10: Buche | F10: Fichte | G10: Kiefer
A14: Erstellung | B14: Name | D14: Nz.: | E14: Datum
B15: =A!C30 -> NN | D15: =A!C31 -> NN | E15: =TODAY() -> 43635
A16: Kommentar
A19: Holzmengen
A20: Waldort (e) | B20: Fläche/ha | C20: Stück | D20: Baumart | E20: fm o.R. | F20: NH fm o.R. | G20: SA fm o.R.
C21: =Sa.LbH!F156 -> 10 | D21: Ei | E21: =SUMIF(Nummerbuch!$B$5:$B$1004,"Ei",Nummerbuch!$H$5:$H$1004) -> 5.68 | G21: =SUM(E21:F21) -> 5.68
C22: =Sa.LbH!F157 -> 6 | D22: Bu | E22: =SUMIF(Nummerbuch!$B$5:$B$1004,"Bu",Nummerbuch!$H$5:$H$1004) -> 3.35 | G22: =SUM(E22:F22) -> 3.35
C23: =Sa.LbH!$O144 -> 0 | D23: BAh | E23: =SUMIF(Nummerbuch!$B$5:$B$1004,"BAh",Nummerbuch!$H$5:$H$1004) -> 0 | G23: =SUM(E23:F23) -> 0
C24: =Sa.LbH!$O145 -> 0 | D24: Bir | E24: =SUMIF(Nummerbuch!$B$5:$B$1004,"Bir",Nummerbuch!$H$5:$H$1004) -> 0 | G24: =SUM(E24:F24) -> 0
C25: =Sa.LbH!$O146 -> 0 | D25: Erl | E25: =SUMIF(Nummerbuch!$B$5:$B$1004,"Erl",Nummerbuch!$H$5:$H$1004) -> 0 | G25: =SUM(E25:F25) -> 0
C26: =Sa.LbH!$O147 -> 1 | D26: ÜLbh | E26: =SUMIF(Nummerbuch!$B$5:$B$1004,"Ülbh",Nummerbuch!$H$5:$H$1004) -> 0 | G26: =SUM(E26:F26) -> 0
C27: =Sa.NdHw!F175 -> 5 | D27: Fi | E27: =SUMIF(Nummerbuch!$B$5:$B$1004,"Fi",Nummerbuch!$H$5:$H$1004) -> 5.24 | G27: =SUM(E27:F27) -> 5.24
C28: =Sa.NdHw!F176 -> 1 | D28: Ta | E28: =SUMIF(Nummerbuch!$B$5:$B$1004,"Ta",Nummerbuch!$H$5:$H$1004) -> 0.53 | G28: =SUM(E28:F28) -> 0.53
C29: =Sa.NdHr!F188 -> 4 | D29: Dou | E29: =SUMIF(Nummerbuch!$B$5:$B$1004,"Dou",Nummerbuch!$H$5:$H$1004) -> 5.92 | G29: =SUM(E29:F29) -> 5.92
C30: =Sa.NdHr!F191 -> 1 | D30: Ki | E30: =SUMIF(Nummerbuch!$B$5:$B$1004,"Ki",Nummerbuch!$H$5:$H$1004) -> 0.53 | G30: =SUM(E30:F30) -> 0.53
C31: =Sa.NdHr!F189 -> 0 | D31: ELä | E31: =SUMIF(Nummerbuch!$B$5:$B$1004,"Elä",Nummerbuch!$H$5:$H$1004) -> 0 | G31: =SUM(E31:F31) -> 0
C32: =Sa.NdHr!F190 -> 0 | D32: JLä | E32: =SUMIF(Nummerbuch!$B$5:$B$1004,"Jlä",Nummerbuch!$H$5:$H$1004) -> 0 | G32: =SUM(E32:F32) -> 0
C33: =Sa.NdHw!F177 -> 0 | D33: Pro | E33: =SUMIF(Nummerbuch!$B$5:$B$1004,"Pro",Nummerbuch!$H$5:$H$1004) -> 0 | G33: =SUM(E33:F33) -> 0
C34: =Sa.NdHw!F178 -> 1 | D34: Gra | E34: =SUMIF(Nummerbuch!$B$5:$B$1004,"Gra",Nummerbuch!$H$5:$H$1004) -> 0.57 | G34: =SUM(E34:F34) -> 0.57
G35: =SUM(E35:F35) -> 0
B36: =SUM(B21:B35) -> 0 | C36: =SUM(C21:C35) -> 29 | D36: Alle | E36: =SUM(E21:E35) -> 21.82 | F36: =SUM(F21:F35) -> 0 | G36: =SUM(G21:G35) -> 21.82
B37: Kontrolle: | C37: =Nummerbuch!A1005 -> 30 | D37: Kontrolle: | E37: =Sa.LbH!E160+Sa.LbH!N143+Sa.NdHw!E179+Sa.NdHr!E192 -> 22.38
A38: Summe Laubholz | B38: Zusammenstellung nach Losen | D38: Los 1 | E38: =SUMIF(Nummerbuch!$I$5:$I$1004,1,Nummerbuch!$H$5:$H$1004) -> 2.5 | F38: Los 6 | G38: =SUMIF(Nummerbuch!$I$5:$I$1004,6,Nummerbuch!$H$5:$H$1004) -> 0.86
A39: Efm o. R. | D39: Los 2 | E39: =SUMIF(Nummerbuch!$I$5:$I$1004,2,Nummerbuch!$H$5:$H$1004) -> 2.74 | F39: Los 7 | G39: =SUMIF(Nummerbuch!$I$5:$I$1004,7,Nummerbuch!$H$5:$H$1004) -> 0
A40: =SUM(G21:G26) -> 9.03 | D40: Los 3 | E40: =SUMIF(Nummerbuch!$I$5:$I$1004,3,Nummerbuch!$H$5:$H$1004) -> 0.44 | F40: Los 8 | G40: =SUMIF(Nummerbuch!$I$5:$I$1004,8,Nummerbuch!$H$5:$H$1004) -> 0
A41: Summe Nadelholz | D41: Los 4 | E41: =SUMIF(Nummerbuch!$I$5:$I$1004,4,Nummerbuch!$H$5:$H$1004) -> 5.24 | F41: Los 9 | G41: =SUMIF(Nummerbuch!$I$5:$I$1004,9,Nummerbuch!$H$5:$H$1004) -> 0
A42: Efm o. R. | D42: Los 5 | E42: =SUMIF(Nummerbuch!$I$5:$I$1004,5,Nummerbuch!$H$5:$H$1004) -> 7.02 | F42: Los 10 | G42: =SUMIF(Nummerbuch!$I$5:$I$1004,10,Nummerbuch!$H$5:$H$1004) -> 0
A43: =SUM(G27:G35) -> 12.79 | F43: Kontrollsume: | G43: =SUM(E38:E42,G38:G42) -> 18.8
F46: =TODAY() -> 43635
A47: Unterschrift | F47: Datum

Sheet Nummerbuch
A1: Forstrevier: | D1: =A!C10 -> NN | H1: Nummerbuch-Liste
A2: Waldbesitzer: | D2: =A!C6 -> NN | J2: Abt: | K2: 120 b
D3: Teilsumme bei Filterung | H3: =SUBTOTAL(9,H5:H1004) -> 22.38
A4: Holz- Nr.: | B4: BA | C4: So | D4: Gü | E4: ST | F4: Lä | G4: Ø cm | H4: Menge fm o.R. | I4: Los | J4: Code | K4: Verwendungs sorte | L4: Bemerkungen
A5: 1 | B5: Ei | C5: L | D5: A | E5: =VLOOKUP(G5,'Sorten-, Stärkeschlüssel'!$D$2:$E$87,2,FALSE) -> 3b | F5: 6 | G5: 37 | H5: =PRODUCT(G5/200*G5/200*3.1415*F5) -> 0.65 | I5: 1 | J5: 1 | K5: =VLOOKUP(J5,'Sorten-, Stärkeschlüssel'!$A$2:$B$22,2) -> Furnierholz
A6: 2 | B6: Ei | C6: L | D6: A | E6: =VLOOKUP(G6,'Sorten-, Stärkeschlüssel'!$D$2:$E$87,2,FALSE) -> 4 | F6: 4.5 | G6: 42 | H6: =PRODUCT(G6/200*G6/200*3.1415*F6) -> 0.62 | I6: 1 | J6: 1 | K6: =VLOOKUP(J6,'Sorten-, Stärkeschlüssel'!$A$2:$B$22,2) -> Furnierholz
A7: 3 | B7: Ei | C7: L | D7: C | E7: =VLOOKUP(G7,'Sorten-, Stärkeschlüssel'!$D$2:$E$87,2,FALSE) -> 2b | F7: 3.8 | G7: 29 | H7: =PRODUCT(G7/200*G7/200*3.1415*F7) -> 0.25 | I7: 1 | J7: 6 | K7: =VLOOKUP(J7,'Sorten-, Stärkeschlüssel'!$A$2:$B$22,2) -> Schneide-, Bauholz
A8: 4 | B8: Ei | C8: L | D8: B | E8: =VLOOKUP(G8,'Sorten-, Stärkeschlüssel'!$D$2:$E$87,2,FALSE) -> 4 | F8: 4.2 | G8: 41 | H8: =PRODUCT(G8/200*G8/200*3.1415*F8) -> 0.55 | I8: 1 | J8: 6 | K8: =VLOOKUP(J8,'Sorten-, Stärkeschlüssel'!$A$2:$B$22,2) -> Schneide-, Bauholz
A9: 5 | B9: Ei | C9: L | D9: B | E9: =VLOOKUP(G9,'Sorten-, Stärkeschlüssel'!$D$2:$E$87,2,FALSE) -> 3a | F9: 5 | G9: 33 | H9: =PRODUCT(G9/200*G9/200*3.1415*F9) -> 0.43 | I9: 1 | J9: 6 | K9: =VLOOKUP(J9,'Sorten-, Stärkeschlüssel'!$A$2:$B$22,2) -> Schneide-, Bauholz
A10: 6 | B10: Ei | C10: L | D10: B | E10: =VLOOKUP(G10,'Sorten-, Stärkeschlüssel'!$D$2:$E$87,2,FALSE) -> 5 | F10: 6 | G10: 51 | H10: =PRODUCT(G10/200*G10/200*3.1415*F10) -> 1.23 | I10: 2 | J10: 6 | K10: =VLOOKUP(J10,'Sorten-, Stärkeschlüssel'!$A$2:$B$22,2) -> Schneide-, Bauholz
A11: 7 | B11: Ei | C11: L | D11: B | E11: =VLOOKUP(G11,'Sorten-, Stärkeschlüssel'!$D$2:$E$87,2,FALSE) -> 4 | F11: 4.8 | G11: 45 | H11: =PRODUCT(G11/200*G11/200*3.1415*F11) -> 0.76 | I11: 2 | J11: 6 | K11: =VLOOKUP(J11,'Sorten-, Stärkeschlüssel'!$A$2:$B$22,2) -> Schneide-, Bauholz | M11: Dies ist ein Beispiel. Vor Gebrauch des Nummerbuches löschen Sie bitte diese Werte!
A12: 8 | B12: Ei | C12: L | D12: B | E12: =VLOOKUP(G12,'Sorten-, Stärkeschlüssel'!$D$2:$E$87,2,FALSE) -> 3a | F12: 5.2 | G12: 33 | H12: =PRODUCT(G12/200*G12/200*3.1415*F12) -> 0.44 | I12: 2 | J12: 6 | K12: =VLOOKUP(J12,'Sorten-, Stärkeschlüssel'!$A$2:$B$22,2) -> Schneide-, Bauholz
A13: 9 | B13: Ei | C13: L | D13: B | E13: =VLOOKUP(G13,'Sorten-, Stärkeschlüssel'!$D$2:$E$87,2,FALSE) -> 2b | F13: 5 | G13: 28 | H13: =PRODUCT(G13/200*G13/200*3.1415*F13) -> 0.31 | I13: 2 | J13: 6 | K13: =VLOOKUP(J13,'Sorten-, Stärkeschlüssel'!$A$2:$B$22,2) -> Schneide-, Bauholz
A14: 10 | B14: Ei | C14: L | D14: B | E14: =VLOOKUP(G14,'Sorten-, Stärkeschlüssel'!$D$2:$E$87,2,FALSE) -> 3a | F14: 5.2 | G14: 33 | H14: =PRODUCT(G14/200*G14/200*3.1415*F14) -> 0.44 | I14: 3 | J14: 7 | K14: =VLOOKUP(J14,'Sorten-, Stärkeschlüssel'!$A$2:$B$22,2) -> Schwellenholz
A15: 11 | B15: Fi | C15: L | D15: B | E15: =VLOOKUP(G15,'Sorten-, Stärkeschlüssel'!$D$2:$E$87,2,FALSE) -> 2b | F15: 20 | G15: 28 | H15: =PRODUCT(G15/200*G15/200*3.1415*F15) -> 1.23 | I15: 4 | J15: 6 | K15: =VLOOKUP(J15,'Sorten-, Stärkeschlüssel'!$A$2:$B$22,2) -> Schneide-, Bauholz
A16: 12 | B16: Fi | C16: L | D16: C | E16: =VLOOKUP(G16,'Sorten-, Stärkeschlüssel'!$D$2:$E$87,2,FALSE) -> 2b | F16: 18 | G16: 28 | H16: =PRODUCT(G16/200*G16/200*3.1415*F16) -> 1.11 | I16: 4 | J16: 6 | K16: =VLOOKUP(J16,'Sorten-, Stärkeschlüssel'!$A$2:$B$22,2) -> Schneide-, Bauholz
A17: 13 | B17: Fi | C17: L | D17: B | E17: =VLOOKUP(G17,'Sorten-, Stärkeschlüssel'!$D$2:$E$87,2,FALSE) -> 1b1 | F17: 17 | G17: 16 | H17: =PRODUCT(G17/200*G17/200*3.1415*F17) -> 0.34 | I17: 4 | J17: 6 | K17: =VLOOKUP(J17,'Sorten-, Stärkeschlüssel'!$A$2:$B$22,2) -> Schneide-, Bauholz
A18: 14 | B18: Fi | C18: L | D18: C | E18: =VLOOKUP(G18,'Sorten-, Stärkeschlüssel'!$D$2:$E$87,2,FALSE) -> 3a | F18: 22 | G18: 31 | H18: =PRODUCT(G18/200*G18/200*3.1415*F18) -> 1.66 | I18: 4 | J18: 6 | K18: =VLOOKUP(J18,'Sorten-, Stärkeschlüssel'!$A$2:$B$22,2) -> Schneide-, Bauholz
A19: 15 | B19: Fi | C19: L | D19: B | E19: =VLOOKUP(G19,'Sorten-, Stärkeschlüssel'!$D$2:$E$87,2,FALSE) -> 2a | F19: 20 | G19: 24 | H19: =PRODUCT(G19/200*G19/200*3.1415*F19) -> 0.9 | I19: 4 | J19: 6 | K19: =VLOOKUP(J19,'Sorten-, Stärkeschlüssel'!$A$2:$B$22,2) -> Schneide-, Bauholz
A20: 16 | B20: Ta | C20: L | D20: B | E20: =VLOOKUP(G20,'Sorten-, Stärkeschlüssel'!$D$2:$E$87,2,FALSE) -> 2a | F20: 14 | G20: 22 | H20: =PRODUCT(G20/200*G20/200*3.1415*F20) -> 0.53 | I20: 5 | J20: 6 | K20: =VLOOKUP(J20,'Sorten-, Stärkeschlüssel'!$A$2:$B$22,2) -> Schneide-, Bauholz
A21: 17 | B21: Gra | C21: L | D21: C | E21: =VLOOKUP(G21,'Sorten-, Stärkeschlüssel'!$D$2:$E$87,2,FALSE) -> 2a | F21: 18 | G21: 20 | H21: =PRODUCT(G21/200*G21/200*3.1415*F21) -> 0.57 | I21: 5 | J21: 6 | K21: =VLOOKUP(J21,'Sorten-, Stärkeschlüssel'!$A$2:$B$22,2) -> Schneide-, Bauholz
A22: 18 | B22: Dou | C22: L | D22: B | E22: =VLOOKUP(G22,'Sorten-, Stärkeschlüssel'!$D$2:$E$87,2,FALSE) -> 3a | F22: 18 | G22: 32 | H22: =PRODUCT(G22/200*G22/200*3.1415*F22) -> 1.45 | I22: 5 | J22: 6 | K22: =VLOOKUP(J22,'Sorten-, Stärkeschlüssel'!$A$2:$B$22,2) -> Schneide-, Bauholz
A23: 19 | B23: Dou | C23: L | D23: C | E23: =VLOOKUP(G23,'Sorten-, Stärkeschlüssel'!$D$2:$E$87,2,FALSE) -> 2b | F23: 14 | G23: 28 | H23: =PRODUCT(G23/200*G23/200*3.1415*F23) -> 0.86 | I23: 5 | J23: 6 | K23: =VLOOKUP(J23,'Sorten-, Stärkeschlüssel'!$A$2:$B$22,2) -> Schneide-, Bauholz
... A27: 23 | B27: Sei | C27: L | D27: B | E27: =VLOOKUP(G27,'Sorten-, Stärkeschlüssel'!$D$2:$E$87,2,FALSE) -> 2b | F27: 5 | G27: 29 | H27: =PRODUCT(G27/200*G27/200*3.1415*F27) -> 0.33 | I27: 6 | J27: 6 | K27: =VLOOKUP(J27,'Sorten-, Stärkeschlüssel'!$A$2:$B$22,2) -> Schneide-, Bauholz
A28: 24 | B28: Es | C28: L | D28: C | E28: =VLOOKUP(G28,'Sorten-, Stärkeschlüssel'!$D$2:$E$87,2,FALSE) -> 2a | F28: 6 | G28: 22 | H28: =PRODUCT(G28/200*G28/200*3.1415*F28) -> 0.23 | J28: 6 | K28: =VLOOKUP(J28,'Sorten-, Stärkeschlüssel'!$A$2:$B$22,2) -> Schneide-, Bauholz
A29: 25 | B29: Bu | C29: L | D29: B | E29: =VLOOKUP(G29,'Sorten-, Stärkeschlüssel'!$D$2:$E$87,2,FALSE) -> 3a | F29: 5.2 | G29: 33 | H29: =PRODUCT(G29/200*G29/200*3.1415*F29) -> 0.44 | J29: 6 | K29: =VLOOKUP(J29,'Sorten-, Stärkeschlüssel'!$A$2:$B$22,2) -> Schneide-, Bauholz
A30: 26 | B30: Bu | C30: L | D30: C | E30: =VLOOKUP(G30,'Sorten-, Stärkeschlüssel'!$D$2:$E$87,2,FALSE) -> 2b | F30: 7 | G30: 28 | H30: =PRODUCT(G30/200*G30/200*3.1415*F30) -> 0.43 | K30: =VLOOKUP(J30,'Sorten-, Stärkeschlüssel'!$A$2:$B$22,2) -> #N/A
A31: 27 | B31: Bu | C31: L | D31: BR | E31: =VLOOKUP(G31,'Sorten-, Stärkeschlüssel'!$D$2:$E$87,2,FALSE) -> 3a | F31: 5.2 | G31: 34 | H31: =PRODUCT(G31/200*G31/200*3.1415*F31) -> 0.47 | K31: =VLOOKUP(J31,'Sorten-, Stärkeschlüssel'!$A$2:$B$22,2) -> #N/A
A32: 28 | B32: Bu | C32: L | D32: BR | E32: =VLOOKUP(G32,'Sorten-, Stärkeschlüssel'!$D$2:$E$87,2,FALSE) -> 5 | F32: 4.8 | G32: 51 | H32: =PRODUCT(G32/200*G32/200*3.1415*F32) -> 0.98 | K32: =VLOOKUP(J32,'Sorten-, Stärkeschlüssel'!$A$2:$B$22,2) -> #N/A
A33: 29 | B33: Bu | C33: L | D33: B | E33: =VLOOKUP(G33,'Sorten-, Stärkeschlüssel'!$D$2:$E$87,2,FALSE) -> 4 | F33: 6 | G33: 43 | H33: =PRODUCT(G33/200*G33/200*3.1415*F33) -> 0.87 | K33: =VLOOKUP(J33,'Sorten-, Stärkeschlüssel'!$A$2:$B$22,2) -> #N/A
A34: 30 | B34: Bu | C34: L | D34: OA | E34: =VLOOKUP(G34,'Sorten-, Stärkeschlüssel'!$D$2:$E$87,2,FALSE) -> 2a | F34: 5 | G34: 20 | H34: =PRODUCT(G34/200*G34/200*3.1415*F34) -> 0.16 | K34: =VLOOKUP(J34,'Sorten-, Stärkeschlüssel'!$A$2:$B$22,2) -> #N/A
A35: 31 | E35: =VLOOKUP(G35,'Sorten-, Stärkeschlüssel'!$D$2:$E$87,2,FALSE) -> #N/A | H35: =PRODUCT(G35/200*G35/200*3.1415*F35) -> 0 | K35: =VLOOKUP(J35,'Sorten-, Stärkeschlüssel'!$A$2:$B$22,2) -> #N/A
A36: 32 | E36: =VLOOKUP(G36,'Sorten-, Stärkeschlüssel'!$D$2:$E$87,2,FALSE) -> #N/A | H36: =PRODUCT(G36/200*G36/200*3.1415*F36) -> 0 | K36: =VLOOKUP(J36,'Sorten-, Stärkeschlüssel'!$A$2:$B$22,2) -> #N/A
A37: 33 | E37: =VLOOKUP(G37,'Sorten-, Stärkeschlüssel'!$D$2:$E$87,2,FALSE) -> #N/A | H37: =PRODUCT(G37/200*G37/200*3.1415*F37) -> 0 | K37: =VLOOKUP(J37,'Sorten-, Stärkeschlüssel'!$A$2:$B$22,2) -> #N/A
A38: 34 | E38: =VLOOKUP(G38,'Sorten-, Stärkeschlüssel'!$D$2:$E$87,2,FALSE) -> #N/A | H38: =PRODUCT(G38/200*G38/200*3.1415*F38) -> 0 | K38: =VLOOKUP(J38,'Sorten-, Stärkeschlüssel'!$A$2:$B$22,2) -> #N/A
A39: 35 | E39: =VLOOKUP(G39,'Sorten-, Stärkeschlüssel'!$D$2:$E$87,2,FALSE) -> #N/A | H39: =PRODUCT(G39/200*G39/200*3.1415*F39) -> 0 | K39: =VLOOKUP(J39,'Sorten-, Stärkeschlüssel'!$A$2:$B$22,2) -> #N/A
A40: 36 | E40: =VLOOKUP(G40,'Sorten-, Stärkeschlüssel'!$D$2:$E$87,2,FALSE) -> #N/A | H40: =PRODUCT(G40/200*G40/200*3.1415*F40) -> 0 | K40: =VLOOKUP(J40,'Sorten-, Stärkeschlüssel'!$A$2:$B$22,2) -> #N/A
A41: 37 | E41: =VLOOKUP(G41,'Sorten-, Stärkeschlüssel'!$D$2:$E$87,2,FALSE) -> #N/A | H41: =PRODUCT(G41/200*G41/200*3.1415*F41) -> 0 | K41: =VLOOKUP(J41,'Sorten-, Stärkeschlüssel'!$A$2:$B$22,2) -> #N/A
A42: 38 | E42: =VLOOKUP(G42,'Sorten-, Stärkeschlüssel'!$D$2:$E$87,2,FALSE) -> #N/A | H42: =PRODUCT(G42/200*G42/200*3.1415*F42) -> 0 | K42: =VLOOKUP(J42,'Sorten-, Stärkeschlüssel'!$A$2:$B$22,2) -> #N/A
A43: 39 | E43: =VLOOKUP(G43,'Sorten-, Stärkeschlüssel'!$D$2:$E$87,2,FALSE) -> #N/A | H43: =PRODUCT(G43/200*G43/200*3.1415*F43) -> 0 | K43: =VLOOKUP(J43,'Sorten-, Stärkeschlüssel'!$A$2:$B$22,2) -> #N/A
A44: 40 | E44: =VLOOKUP(G44,'Sorten-, Stärkeschlüssel'!$D$2:$E$87,2,FALSE) -> #N/A | H44: =PRODUCT(G44/200*G44/200*3.1415*F44) -> 0 | K44: =VLOOKUP(J44,'Sorten-, Stärkeschlüssel'!$A$2:$B$22,2) -> #N/A
A45: 41 | E45: =VLOOKUP(G45,'Sorten-, Stärkeschlüssel'!$D$2:$E$87,2,FALSE) -> #N/A | H45: =PRODUCT(G45/200*G45/200*3.1415*F45) -> 0 | K45: =VLOOKUP(J45,'Sorten-, Stärkeschlüssel'!$A$2:$B$22,2) -> #N/A
A46: 42 | E46: =VLOOKUP(G46,'Sorten-, Stärkeschlüssel'!$D$2:$E$87,2,FALSE) -> #N/A | H46: =PRODUCT(G46/200*G46/200*3.1415*F46) -> 0 | K46: =VLOOKUP(J46,'Sorten-, Stärkeschlüssel'!$A$2:$B$22,2) -> #N/A
... A1004: 1000 | E1004: =VLOOKUP(G1004,'Sorten-, Stärkeschlüssel'!$D$2:$E$87,2,FALSE) -> #N/A | H1004: =PRODUCT(G1004/200*G1004/200*3.1415*F1004) -> 0 | K1004: =VLOOKUP(J1004,'Sorten-, Stärkeschlüssel'!$A$2:$B$22,2) -> #N/A
A1005: =COUNTA(B5:B1004) -> 30 | G1005: =SUM(G5:G1004) -> 944 | H1005: =SUM(H5:H1004) -> 22.38 | L1005: Summenzeile!
L1006: Mit strg und pos1 kommen sie zum Seitenanfang

Sheet Sa.LbH
A1: Zusammenstellung Laubholz | I1: Info
A2: BA | B2: So | C2: Gü | D2: ST | E2: fm | F2: Stck | G2: SaSt. | H2: Sa.Güteklasse | I2: Bemerkungen | J2: BA | K2: So | L2: Gü | M2: ST | N2: fm | O2: Stck | P2: SaSt. | Q2: Sa.Güteklasse | R2: Bemerkungen
A3: Ei | B3: L | C3: F | D3: 2b | E3: {=SUM(IF(Nummerbuch!$B$5:$B$1171=A3,IF(Nummerbuch!$C$5:$C$1171=B3,IF(Nummerbuch!$D$5:$D$1171=C3,IF(Nummerbuch!$E$5:$E$1171=D3,Nummerbuch!$H$5:$H$1171,0),0),0),0))} -> 0 | F3: {=COUNT(#REF!,IF(#REF!=A3,IF(#REF!=C3,IF(#REF!=D3,0))))} -> 0 | J3: Bah | K3: L | L3: A | M3: 2a | N3: {=SUM(IF(Nummerbuch!$B$5:$B$1171=J3,IF(Nummerbuch!$C$5:$C$1171=K3,IF(Nummerbuch!$D$5:$D$1171=L3,IF(Nummerbuch!$E$5:$E$1171=M3,Nummerbuch!$H$5:$H$1171,0),0),0),0))} -> 0 | O3: {=COUNT(Nummerbuch!$B$5:$B$1004,IF(Nummerbuch!$B$5:$B$1004=J3,IF(Nummerbuch!$D$5:$D$1004=L3,IF(Nummerbuch!$E$5:$E$1004=M3,0))))} -> 0
A4: Ei | B4: L | C4: F | D4: 3a | E4: {=SUM(IF(Nummerbuch!$B$5:$B$1171=A4,IF(Nummerbuch!$C$5:$C$1171=B4,IF(Nummerbuch!$D$5:$D$1171=C4,IF(Nummerbuch!$E$5:$E$1171=D4,Nummerbuch!$H$5:$H$1171,0),0),0),0))} -> 0 | F4: {=COUNT(#REF!,IF(#REF!=A4,IF(#REF!=C4,IF(#REF!=D4,0))))} -> 0 | J4: Bah | K4: L | L4: A | M4: 2b | N4: {=SUM(IF(Nummerbuch!$B$5:$B$1171=J4,IF(Nummerbuch!$C$5:$C$1171=K4,IF(Nummerbuch!$D$5:$D$1171=L4,IF(Nummerbuch!$E$5:$E$1171=M4,Nummerbuch!$H$5:$H$1171,0),0),0),0))} -> 0 | O4: {=COUNT(Nummerbuch!$B$5:$B$1004,IF(Nummerbuch!$B$5:$B$1004=J4,IF(Nummerbuch!$D$5:$D$1004=L4,IF(Nummerbuch!$E$5:$E$1004=M4,0))))} -> 0
A5: Ei | B5: L | C5: F | D5: 3b | E5: {=SUM(IF(Nummerbuch!$B$5:$B$1171=A5,IF(Nummerbuch!$C$5:$C$1171=B5,IF(Nummerbuch!$D$5:$D$1171=C5,IF(Nummerbuch!$E$5:$E$1171=D5,Nummerbuch!$H$5:$H$1171,0),0),0),0))} -> 0 | F5: {=COUNT(#REF!,IF(#REF!=A5,IF(#REF!=C5,IF(#REF!=D5,0))))} -> 0 | J5: Bah | K5: L | L5: A | M5: 3a | N5: {=SUM(IF(Nummerbuch!$B$5:$B$1171=J5,IF(Nummerbuch!$C$5:$C$1171=K5,IF(Nummerbuch!$D$5:$D$1171=L5,IF(Nummerbuch!$E$5:$E$1171=M5,Nummerbuch!$H$5:$H$1171,0),0),0),0))} -> 0 | O5: {=COUNT(Nummerbuch!$B$5:$B$1004,IF(Nummerbuch!$B$5:$B$1004=J5,IF(Nummerbuch!$D$5:$D$1004=L5,IF(Nummerbuch!$E$5:$E$1004=M5,0))))} -> 0
A6: Ei | B6: L | C6: F | D6: 4 | E6: {=SUM(IF(Nummerbuch!$B$5:$B$1171=A6,IF(Nummerbuch!$C$5:$C$1171=B6,IF(Nummerbuch!$D$5:$D$1171=C6,IF(Nummerbuch!$E$5:$E$1171=D6,Nummerbuch!$H$5:$H$1171,0),0),0),0))} -> 0 | F6: {=COUNT(Nummerbuch!$B$5:$B$1004,IF(Nummerbuch!$B$5:$B$1004=A6,IF(Nummerbuch!$D$5:$D$1004=C6,IF(Nummerbuch!$E$5:$E$1004=D6,0))))} -> 0 | J6: Bah | K6: L | L6: A | M6: 3b | N6: {=SUM(IF(Nummerbuch!$B$5:$B$1171=J6,IF(Nummerbuch!$C$5:$C$1171=K6,IF(Nummerbuch!$D$5:$D$1171=L6,IF(Nummerbuch!$E$5:$E$1171=M6,Nummerbuch!$H$5:$H$1171,0),0),0),0))} -> 0 | O6: {=COUNT(Nummerbuch!$B$5:$B$1004,IF(Nummerbuch!$B$5:$B$1004=J6,IF(Nummerbuch!$D$5:$D$1004=L6,IF(Nummerbuch!$E$5:$E$1004=M6,0))))} -> 0
A7: Ei | B7: L | C7: F | D7: 5 | E7: {=SUM(IF(Nummerbuch!$B$5:$B$1171=A7,IF(Nummerbuch!$C$5:$C$1171=B7,IF(Nummerbuch!$D$5:$D$1171=C7,IF(Nummerbuch!$E$5:$E$1171=D7,Nummerbuch!$H$5:$H$1171,0),0),0),0))} -> 0 | F7: {=COUNT(Nummerbuch!$B$5:$B$1004,IF(Nummerbuch!$B$5:$B$1004=A7,IF(Nummerbuch!$D$5:$D$1004=C7,IF(Nummerbuch!$E$5:$E$1004=D7,0))))} -> 0 | J7: Bah | K7: L | L7: A | M7: 4 | N7: {=SUM(IF(Nummerbuch!$B$5:$B$1171=J7,IF(Nummerbuch!$C$5:$C$1171=K7,IF(Nummerbuch!$D$5:$D$1171=L7,IF(Nummerbuch!$E$5:$E$1171=M7,Nummerbuch!$H$5:$H$1171,0),0),0),0))} -> 0 | O7: {=COUNT(Nummerbuch!$B$5:$B$1004,IF(Nummerbuch!$B$5:$B$1004=J7,IF(Nummerbuch!$D$5:$D$1004=L7,IF(Nummerbuch!$E$5:$E$1004=M7,0))))} -> 0
A8: Ei | B8: L | C8: F | D8: 6 | E8: {=SUM(IF(Nummerbuch!$B$5:$B$1171=A8,IF(Nummerbuch!$C$5:$C$1171=B8,IF(Nummerbuch!$D$5:$D$1171=C8,IF(Nummerbuch!$E$5:$E$1171=D8,Nummerbuch!$H$5:$H$1171,0),0),0),0))} -> 0 | F8: {=COUNT(Nummerbuch!$B$5:$B$1004,IF(Nummerbuch!$B$5:$B$1004=A8,IF(Nummerbuch!$D$5:$D$1004=C8,IF(Nummerbuch!$E$5:$E$1004=D8,0))))} -> 0 | J8: Bah | K8: L | L8: A | M8: 5 | N8: {=SUM(IF(Nummerbuch!$B$5:$B$1171=J8,IF(Nummerbuch!$C$5:$C$1171=K8,IF(Nummerbuch!$D$5:$D$1171=L8,IF(Nummerbuch!$E$5:$E$1171=M8,Nummerbuch!$H$5:$H$1171,0),0),0),0))} -> 0 | O8: {=COUNT(Nummerbuch!$B$5:$B$1004,IF(Nummerbuch!$B$5:$B$1004=J8,IF(Nummerbuch!$D$5:$D$1004=L8,IF(Nummerbuch!$E$5:$E$1004=M8,0))))} -> 0
A9: Ei | B9: L | C9: F | D9: 7 | E9: {=SUM(IF(Nummerbuch!$B$5:$B$1171=A9,IF(Nummerbuch!$C$5:$C$1171=B9,IF(Nummerbuch!$D$5:$D$1171=C9,IF(Nummerbuch!$E$5:$E$1171=D9,Nummerbuch!$H$5:$H$1171,0),0),0),0))} -> 0 | F9: {=COUNT(Nummerbuch!$B$5:$B$1004,IF(Nummerbuch!$B$5:$B$1004=A9,IF(Nummerbuch!$D$5:$D$1004=C9,IF(Nummerbuch!$E$5:$E$1004=D9,0))))} -> 0 | J9: Bah | K9: L | L9: A | M9: 6 | N9: {=SUM(IF(Nummerbuch!$B$5:$B$1171=J9,IF(Nummerbuch!$C$5:$C$1171=K9,IF(Nummerbuch!$D$5:$D$1171=L9,IF(Nummerbuch!$E$5:$E$1171=M9,Nummerbuch!$H$5:$H$1171,0),0),0),0))} -> 0 | O9: {=COUNT(Nummerbuch!$B$5:$B$1004,IF(Nummerbuch!$B$5:$B$1004=J9,IF(Nummerbuch!$D$5:$D$1004=L9,IF(Nummerbuch!$E$5:$E$1004=M9,0))))} -> 0 | P9: =SUM(O3:O9) -> 0 | Q9: =SUM(N3:N9) -> 0
A10: Ei | B10: L | C10: F | D10: 8 | E10: {=SUM(IF(Nummerbuch!$B$5:$B$1171=A10,IF(Nummerbuch!$C$5:$C$1171=B10,IF(Nummerbuch!$D$5:$D$1171=C10,IF(Nummerbuch!$E$5:$E$1171=D10,Nummerbuch!$H$5:$H$1171,0),0),0),0))} -> 0 | F10: {=COUNT(Nummerbuch!$B$5:$B$1004,IF(Nummerbuch!$B$5:$B$1004=A10,IF(Nummerbuch!$D$5:$D$1004=C10,IF(Nummerbuch!$E$5:$E$1004=D10,0))))} -> 0 | G10: =SUM(F3:F10) -> 0 | H10: =SUM(E3:E10) -> 0 | J10: Bah | K10: L | L10: B | M10: 2a | N10: {=SUM(IF(Nummerbuch!$B$5:$B$1171=J10,IF(Nummerbuch!$C$5:$C$1171=K10,IF(Nummerbuch!$D$5:$D$1171=L10,IF(Nummerbuch!$E$5:$E$1171=M10,Nummerbuch!$H$5:$H$1171,0),0),0),0))} -> 0 | O10: {=COUNT(Nummerbuch!$B$5:$B$1004,IF(Nummerbuch!$B$5:$B$1004=J10,IF(Nummerbuch!$D$5:$D$1004=L10,IF(Nummerbuch!$E$5:$E$1004=M10,0))))} -> 0
A11: Ei | B11: L | C11: TF | D11: 2b | E11: {=SUM(IF(Nummerbuch!$B$5:$B$1171=A11,IF(Nummerbuch!$C$5:$C$1171=B11,IF(Nummerbuch!$D$5:$D$1171=C11,IF(Nummerbuch!$E$5:$E$1171=D11,Nummerbuch!$H$5:$H$1171,0),0),0),0))} -> 0 | F11: {=COUNT(Nummerbuch!$B$5:$B$1004,IF(Nummerbuch!$B$5:$B$1004=A11,IF(Nummerbuch!$D$5:$D$1004=C11,IF(Nummerbuch!$E$5:$E$1004=D11,0))))} -> 0 | J11: Bah | K11: L | L11: B | M11: 2b | N11: {=SUM(IF(Nummerbuch!$B$5:$B$1171=J11,IF(Nummerbuch!$C$5:$C$1171=K11,IF(Nummerbuch!$D$5:$D$1171=L11,IF(Nummerbuch!$E$5:$E$1171=M11,Nummerbuch!$H$5:$H$1171,0),0),0),0))} -> 0 | O11: {=COUNT(Nummerbuch!$B$5:$B$1004,IF(Nummerbuch!$B$5:$B$1004=J11,IF(Nummerbuch!$D$5:$D$1004=L11,IF(Nummerbuch!$E$5:$E$1004=M11,0))))} -> 0
A12: Ei | B12: L | C12: TF | D12: 3a | E12: {=SUM(IF(Nummerbuch!$B$5:$B$1171=A12,IF(Nummerbuch!$C$5:$C$1171=B12,IF(Nummerbuch!$D$5:$D$1171=C12,IF(Nummerbuch!$E$5:$E$1171=D12,Nummerbuch!$H$5:$H$1171,0),0),0),0))} -> 0 | F12: {=COUNT(Nummerbuch!$B$5:$B$1004,IF(Nummerbuch!$B$5:$B$1004=A12,IF(Nummerbuch!$D$5:$D$1004=C12,IF(Nummerbuch!$E$5:$E$1004=D12,0))))} -> 0 | J12: Bah | K12: L | L12: B | M12: 3a | N12: {=SUM(IF(Nummerbuch!$B$5:$B$1171=J12,IF(Nummerbuch!$C$5:$C$1171=K12,IF(Nummerbuch!$D$5:$D$1171=L12,IF(Nummerbuch!$E$5:$E$1171=M12,Nummerbuch!$H$5:$H$1171,0),0),0),0))} -> 0 | O12: {=COUNT(Nummerbuch!$B$5:$B$1004,IF(Nummerbuch!$B$5:$B$1004=J12,IF(Nummerbuch!$D$5:$D$1004=L12,IF(Nummerbuch!$E$5:$E$1004=M12,0))))} -> 0
A13: Ei | B13: L | C13: TF | D13: 3b | E13: {=SUM(IF(Nummerbuch!$B$5:$B$1171=A13,IF(Nummerbuch!$C$5:$C$1171=B13,IF(Nummerbuch!$D$5:$D$1171=C13,IF(Nummerbuch!$E$5:$E$1171=D13,Nummerbuch!$H$5:$H$1171,0),0),0),0))} -> 0 | F13: {=COUNT(Nummerbuch!$B$5:$B$1004,IF(Nummerbuch!$B$5:$B$1004=A13,IF(Nummerbuch!$D$5:$D$1004=C13,IF(Nummerbuch!$E$5:$E$1004=D13,0))))} -> 0 | J13: Bah | K13: L | L13: B | M13: 3b | N13: {=SUM(IF(Nummerbuch!$B$5:$B$1171=J13,IF(Nummerbuch!$C$5:$C$1171=K13,IF(Nummerbuch!$D$5:$D$1171=L13,IF(Nummerbuch!$E$5:$E$1171=M13,Nummerbuch!$H$5:$H$1171,0),0),0),0))} -> 0 | O13: {=COUNT(Nummerbuch!$B$5:$B$1004,IF(Nummerbuch!$B$5:$B$1004=J13,IF(Nummerbuch!$D$5:$D$1004=L13,IF(Nummerbuch!$E$5:$E$1004=M13,0))))} -> 0
A14: Ei | B14: L | C14: TF | D14: 4 | E14: {=SUM(IF(Nummerbuch!$B$5:$B$1171=A14,IF(Nummerbuch!$C$5:$C$1171=B14,IF(Nummerbuch!$D$5:$D$1171=C14,IF(Nummerbuch!$E$5:$E$1171=D14,Nummerbuch!$H$5:$H$1171,0),0),0),0))} -> 0 | F14: {=COUNT(Nummerbuch!$B$5:$B$1004,IF(Nummerbuch!$B$5:$B$1004=A14,IF(Nummerbuch!$D$5:$D$1004=C14,IF(Nummerbuch!$E$5:$E$1004=D14,0))))} -> 0 | J14: Bah | K14: L | L14: B | M14: 4 | N14: {=SUM(IF(Nummerbuch!$B$5:$B$1171=J14,IF(Nummerbuch!$C$5:$C$1171=K14,IF(Nummerbuch!$D$5:$D$1171=L14,IF(Nummerbuch!$E$5:$E$1171=M14,Nummerbuch!$H$5:$H$1171,0),0),0),0))} -> 0 | O14: {=COUNT(Nummerbuch!$B$5:$B$1004,IF(Nummerbuch!$B$5:$B$1004=J14,IF(Nummerbuch!$D$5:$D$1004=L14,IF(Nummerbuch!$E$5:$E$1004=M14,0))))} -> 0
A15: Ei | B15: L | C15: TF | D15: 5 | E15: {=SUM(IF(Nummerbuch!$B$5:$B$1171=A15,IF(Nummerbuch!$C$5:$C$1171=B15,IF(Nummerbuch!$D$5:$D$1171=C15,IF(Nummerbuch!$E$5:$E$1171=D15,Nummerbuch!$H$5:$H$1171,0),0),0),0))} -> 0 | F15: {=COUNT(Nummerbuch!$B$5:$B$1004,IF(Nummerbuch!$B$5:$B$1004=A15,IF(Nummerbuch!$D$5:$D$1004=C15,IF(Nummerbuch!$E$5:$E$1004=D15,0))))} -> 0 | J15: Bah | K15: L | L15: B | M15: 5 | N15: {=SUM(IF(Nummerbuch!$B$5:$B$1171=J15,IF(Nummerbuch!$C$5:$C$1171=K15,IF(Nummerbuch!$D$5:$D$1171=L15,IF(Nummerbuch!$E$5:$E$1171=M15,Nummerbuch!$H$5:$H$1171,0),0),0),0))} -> 0 | O15: {=COUNT(Nummerbuch!$B$5:$B$1004,IF(Nummerbuch!$B$5:$B$1004=J15,IF(Nummerbuch!$D$5:$D$1004=L15,IF(Nummerbuch!$E$5:$E$1004=M15,0))))} -> 0
A16: Ei | B16: L | C16: TF | D16: 6 | E16: {=SUM(IF(Nummerbuch!$B$5:$B$1171=A16,IF(Nummerbuch!$C$5:$C$1171=B16,IF(Nummerbuch!$D$5:$D$1171=C16,IF(Nummerbuch!$E$5:$E$1171=D16,Nummerbuch!$H$5:$H$1171,0),0),0),0))} -> 0 | F16: {=COUNT(Nummerbuch!$B$5:$B$1004,IF(Nummerbuch!$B$5:$B$1004=A16,IF(Nummerbuch!$D$5:$D$1004=C16,IF(Nummerbuch!$E$5:$E$1004=D16,0))))} -> 0 | J16: Bah | K16: L | L16: B | M16: 6 | N16: {=SUM(IF(Nummerbuch!$B$5:$B$1171=J16,IF(Nummerbuch!$C$5:$C$1171=K16,IF(Nummerbuch!$D$5:$D$1171=L16,IF(Nummerbuch!$E$5:$E$1171=M16,Nummerbuch!$H$5:$H$1171,0),0),0),0))} -> 0 | O16: {=COUNT(Nummerbuch!$B$5:$B$1004,IF(Nummerbuch!$B$5:$B$1004=J16,IF(Nummerbuch!$D$5:$D$1004=L16,IF(Nummerbuch!$E$5:$E$1004=M16,0))))} -> 0 | P16: =SUM(O10:O16) -> 0 | Q16: =SUM(N10:N16) -> 0
A17: Ei | B17: L | C17: TF | D17: 7 | E17: {=SUM(IF(Nummerbuch!$B$5:$B$1171=A17,IF(Nummerbuch!$C$5:$C$1171=B17,IF(Nummerbuch!$D$5:$D$1171=C17,IF(Nummerbuch!$E$5:$E$1171=D17,Nummerbuch!$H$5:$H$1171,0),0),0),0))} -> 0 | F17: {=COUNT(Nummerbuch!$B$5:$B$1004,IF(Nummerbuch!$B$5:$B$1004=A17,IF(Nummerbuch!$D$5:$D$1004=C17,IF(Nummerbuch!$E$5:$E$1004=D17,0))))} -> 0 | J17: Bah | K17: L | L17: C | M17: 2a | N17: {=SUM(IF(Nummerbuch!$B$5:$B$1171=J17,IF(Nummerbuch!$C$5:$C$1171=K17,IF(Nummerbuch!$D$5:$D$1171=L17,IF(Nummerbuch!$E$5:$E$1171=M17,Nummerbuch!$H$5:$H$1171,0),0),0),0))} -> 0 | O17: {=COUNT(Nummerbuch!$B$5:$B$1004,IF(Nummerbuch!$B$5:$B$1004=J17,IF(Nummerbuch!$D$5:$D$1004=L17,IF(Nummerbuch!$E$5:$E$1004=M17,0))))} -> 0
A18: Ei | B18: L | C18: TF | D18: 8 | E18: {=SUM(IF(Nummerbuch!$B$5:$B$1171=A18,IF(Nummerbuch!$C$5:$C$1171=B18,IF(Nummerbuch!$D$5:$D$1171=C18,IF(Nummerbuch!$E$5:$E$1171=D18,Nummerbuch!$H$5:$H$1171,0),0),0),0))} -> 0 | F18: {=COUNT(Nummerbuch!$B$5:$B$1004,IF(Nummerbuch!$B$5:$B$1004=A18,IF(Nummerbuch!$D$5:$D$1004=C18,IF(Nummerbuch!$E$5:$E$1004=D18,0))))} -> 0 | G18: =SUM(F11:F18) -> 0 | H18: =SUM(E11:E18) -> 0 | J18: Bah | K18: L | L18: C | M18: 2b | N18: {=SUM(IF(Nummerbuch!$B$5:$B$1171=J18,IF(Nummerbuch!$C$5:$C$1171=K18,IF(Nummerbuch!$D$5:$D$1171=L18,IF(Nummerbuch!$E$5:$E$1171=M18,Nummerbuch!$H$5:$H$1171,0),0),0),0))} -> 0 | O18: {=COUNT(Nummerbuch!$B$5:$B$1004,IF(Nummerbuch!$B$5:$B$1004=J18,IF(Nummerbuch!$D$5:$D$1004=L18,IF(Nummerbuch!$E$5:$E$1004=M18,0))))} -> 0
A19: Ei | B19: L | C19: A | D19: 2a | E19: {=SUM(IF(Nummerbuch!$B$5:$B$1171=A19,IF(Nummerbuch!$C$5:$C$1171=B19,IF(Nummerbuch!$D$5:$D$1171=C19,IF(Nummerbuch!$E$5:$E$1171=D19,Nummerbuch!$H$5:$H$1171,0),0),0),0))} -> 0 | F19: {=COUNT(Nummerbuch!$B$5:$B$1004,IF(Nummerbuch!$B$5:$B$1004=A19,IF(Nummerbuch!$D$5:$D$1004=C19,IF(Nummerbuch!$E$5:$E$1004=D19,0))))} -> 0 | J19: Bah | K19: L | L19: C | M19: 3a | N19: {=SUM(IF(Nummerbuch!$B$5:$B$1171=J19,IF(Nummerbuch!$C$5:$C$1171=K19,IF(Nummerbuch!$D$5:$D$1171=L19,IF(Nummerbuch!$E$5:$E$1171=M19,Nummerbuch!$H$5:$H$1171,0),0),0),0))} -> 0 | O19: {=COUNT(Nummerbuch!$B$5:$B$1004,IF(Nummerbuch!$B$5:$B$1004=J19,IF(Nummerbuch!$D$5:$D$1004=L19,IF(Nummerbuch!$E$5:$E$1004=M19,0))))} -> 0
A20: Ei | B20: L | C20: A | D20: 2b | E20: {=SUM(IF(Nummerbuch!$B$5:$B$1171=A20,IF(Nummerbuch!$C$5:$C$1171=B20,IF(Nummerbuch!$D$5:$D$1171=C20,IF(Nummerbuch!$E$5:$E$1171=D20,Nummerbuch!$H$5:$H$1171,0),0),0),0))} -> 0 | F20: {=COUNT(Nummerbuch!$B$5:$B$1004,IF(Nummerbuch!$B$5:$B$1004=A20,IF(Nummerbuch!$D$5:$D$1004=C20,IF(Nummerbuch!$E$5:$E$1004=D20,0))))} -> 0 | J20: Bah | K20: L | L20: C | M20: 3b | N20: {=SUM(IF(Nummerbuch!$B$5:$B$1171=J20,IF(Nummerbuch!$C$5:$C$1171=K20,IF(Nummerbuch!$D$5:$D$1171=L20,IF(Nummerbuch!$E$5:$E$1171=M20,Nummerbuch!$H$5:$H$1171,0),0),0),0))} -> 0 | O20: {=COUNT(Nummerbuch!$B$5:$B$1004,IF(Nummerbuch!$B$5:$B$1004=J20,IF(Nummerbuch!$D$5:$D$1004=L20,IF(Nummerbuch!$E$5:$E$1004=M20,0))))} -> 0
A21: Ei | B21: L | C21: A | D21: 3a | E21: {=SUM(IF(Nummerbuch!$B$5:$B$1171=A21,IF(Nummerbuch!$C$5:$C$1171=B21,IF(Nummerbuch!$D$5:$D$1171=C21,IF(Nummerbuch!$E$5:$E$1171=D21,Nummerbuch!$H$5:$H$1171,0),0),0),0))} -> 0 | F21: {=COUNT(Nummerbuch!$B$5:$B$1004,IF(Nummerbuch!$B$5:$B$1004=A21,IF(Nummerbuch!$D$5:$D$1004=C21,IF(Nummerbuch!$E$5:$E$1004=D21,0))))} -> 0 | J21: Bah | K21: L | L21: C | M21: 4 | N21: {=SUM(IF(Nummerbuch!$B$5:$B$1171=J21,IF(Nummerbuch!$C$5:$C$1171=K21,IF(Nummerbuch!$D$5:$D$1171=L21,IF(Nummerbuch!$E$5:$E$1171=M21,Nummerbuch!$H$5:$H$1171,0),0),0),0))} -> 0 | O21: {=COUNT(Nummerbuch!$B$5:$B$1004,IF(Nummerbuch!$B$5:$B$1004=J21,IF(Nummerbuch!$D$5:$D$1004=L21,IF(Nummerbuch!$E$5:$E$1004=M21,0))))} -> 0
A22: Ei | B22: L | C22: A | D22: 3b | E22: {=SUM(IF(Nummerbuch!$B$5:$B$1171=A22,IF(Nummerbuch!$C$5:$C$1171=B22,IF(Nummerbuch!$D$5:$D$1171=C22,IF(Nummerbuch!$E$5:$E$1171=D22,Nummerbuch!$H$5:$H$1171,0),0),0),0))} -> 0.65 | F22: {=COUNT(Nummerbuch!$B$5:$B$1004,IF(Nummerbuch!$B$5:$B$1004=A22,IF(Nummerbuch!$D$5:$D$1004=C22,IF(Nummerbuch!$E$5:$E$1004=D22,0))))} -> 1 | J22: Bah | K22: L | L22: C | M22: 5 | N22: {=SUM(IF(Nummerbuch!$B$5:$B$1171=J22,IF(Nummerbuch!$C$5:$C$1171=K22,IF(Nummerbuch!$D$5:$D$1171=L22,IF(Nummerbuch!$E$5:$E$1171=M22,Nummerbuch!$H$5:$H$1171,0),0),0),0))} -> 0 | O22: {=COUNT(Nummerbuch!$B$5:$B$1004,IF(Nummerbuch!$B$5:$B$1004=J22,IF(Nummerbuch!$D$5:$D$1004=L22,IF(Nummerbuch!$E$5:$E$1004=M22,0))))} -> 0
A23: Ei | B23: L | C23: A | D23: 4 | E23: {=SUM(IF(Nummerbuch!$B$5:$B$1171=A23,IF(Nummerbuch!$C$5:$C$1171=B23,IF(Nummerbuch!$D$5:$D$1171=C23,IF(Nummerbuch!$E$5:$E$1171=D23,Nummerbuch!$H$5:$H$1171,0),0),0),0))} -> 0.62 | F23: {=COUNT(Nummerbuch!$B$5:$B$1004,IF(Nummerbuch!$B$5:$B$1004=A23,IF(Nummerbuch!$D$5:$D$1004=C23,IF(Nummerbuch!$E$5:$E$1004=D23,0))))} -> 1 | J23: Bah | K23: L | L23: C | M23: 6 | N23: {=SUM(IF(Nummerbuch!$B$5:$B$1171=J23,IF(Nummerbuch!$C$5:$C$1171=K23,IF(Nummerbuch!$D$5:$D$1171=L23,IF(Nummerbuch!$E$5:$E$1171=M23,Nummerbuch!$H$5:$H$1171,0),0),0),0))} -> 0 | O23: {=COUNT(Nummerbuch!$B$5:$B$1004,IF(Nummerbuch!$B$5:$B$1004=J23,IF(Nummerbuch!$D$5:$D$1004=L23,IF(Nummerbuch!$E$5:$E$1004=M23,0))))} -> 0 | P23: =SUM(O17:O23) -> 0 | Q23: =SUM(N17:N23) -> 0
A24: Ei | B24: L | C24: A | D24: 5 | E24: {=SUM(IF(Nummerbuch!$B$5:$B$1171=A24,IF(Nummerbuch!$C$5:$C$1171=B24,IF(Nummerbuch!$D$5:$D$1171=C24,IF(Nummerbuch!$E$5:$E$1171=D24,Nummerbuch!$H$5:$H$1171,0),0),0),0))} -> 0 | F24: {=COUNT(Nummerbuch!$B$5:$B$1004,IF(Nummerbuch!$B$5:$B$1004=A24,IF(Nummerbuch!$D$5:$D$1004=C24,IF(Nummerbuch!$E$5:$E$1004=D24,0))))} -> 0 | J24: Bah | K24: L | L24: OA | M24: 2a | N24: {=SUM(IF(Nummerbuch!$B$5:$B$1171=J24,IF(Nummerbuch!$C$5:$C$1171=K24,IF(Nummerbuch!$D$5:$D$1171=L24,IF(Nummerbuch!$E$5:$E$1171=M24,Nummerbuch!$H$5:$H$1171,0),0),0),0))} -> 0 | O24: {=COUNT(Nummerbuch!$B$5:$B$1004,IF(Nummerbuch!$B$5:$B$1004=J24,IF(Nummerbuch!$D$5:$D$1004=L24,IF(Nummerbuch!$E$5:$E$1004=M24,0))))} -> 0
A25: Ei | B25: L | C25: A | D25: 6 | E25: {=SUM(IF(Nummerbuch!$B$5:$B$1171=A25,IF(Nummerbuch!$C$5:$C$1171=B25,IF(Nummerbuch!$D$5:$D$1171=C25,IF(Nummerbuch!$E$5:$E$1171=D25,Nummerbuch!$H$5:$H$1171,0),0),0),0))} -> 0 | F25: {=COUNT(Nummerbuch!$B$5:$B$1004,IF(Nummerbuch!$B$5:$B$1004=A25,IF(Nummerbuch!$D$5:$D$1004=C25,IF(Nummerbuch!$E$5:$E$1004=D25,0))))} -> 0 | G25: =SUM(F19:F25) -> 2 | H25: =SUM(E19:E25) -> 1.27 | J25: Bah | K25: L | L25: OA | M25: 2b | N25: {=SUM(IF(Nummerbuch!$B$5:$B$1171=J25,IF(Nummerbuch!$C$5:$C$1171=K25,IF(Nummerbuch!$D$5:$D$1171=L25,IF(Nummerbuch!$E$5:$E$1171=M25,Nummerbuch!$H$5:$H$1171,0),0),0),0))} -> 0 | O25: {=COUNT(Nummerbuch!$B$5:$B$1004,IF(Nummerbuch!$B$5:$B$1004=J25,IF(Nummerbuch!$D$5:$D$1004=L25,IF(Nummerbuch!$E$5:$E$1004=M25,0))))} -> 0
A26: Ei | B26: L | C26: B | D26: 2a | E26: {=SUM(IF(Nummerbuch!$B$5:$B$1171=A26,IF(Nummerbuch!$C$5:$C$1171=B26,IF(Nummerbuch!$D$5:$D$1171=C26,IF(Nummerbuch!$E$5:$E$1171=D26,Nummerbuch!$H$5:$H$1171,0),0),0),0))} -> 0 | F26: {=COUNT(Nummerbuch!$B$5:$B$1004,IF(Nummerbuch!$B$5:$B$1004=A26,IF(Nummerbuch!$D$5:$D$1004=C26,IF(Nummerbuch!$E$5:$E$1004=D26,0))))} -> 0 | J26: Bah | K26: L | L26: OA | M26: 3a | N26: {=SUM(IF(Nummerbuch!$B$5:$B$1171=J26,IF(Nummerbuch!$C$5:$C$1171=K26,IF(Nummerbuch!$D$5:$D$1171=L26,IF(Nummerbuch!$E$5:$E$1171=M26,Nummerbuch!$H$5:$H$1171,0),0),0),0))} -> 0 | O26: {=COUNT(Nummerbuch!$B$5:$B$1004,IF(Nummerbuch!$B$5:$B$1004=J26,IF(Nummerbuch!$D$5:$D$1004=L26,IF(Nummerbuch!$E$5:$E$1004=M26,0))))} -> 0
A27: Ei | B27: L | C27: B | D27: 2b | E27: {=SUM(IF(Nummerbuch!$B$5:$B$1171=A27,IF(Nummerbuch!$C$5:$C$1171=B27,IF(Nummerbuch!$D$5:$D$1171=C27,IF(Nummerbuch!$E$5:$E$1171=D27,Nummerbuch!$H$5:$H$1171,0),0),0),0))} -> 0.31 | F27: {=COUNT(Nummerbuch!$B$5:$B$1004,IF(Nummerbuch!$B$5:$B$1004=A27,IF(Nummerbuch!$D$5:$D$1004=C27,IF(Nummerbuch!$E$5:$E$1004=D27,0))))} -> 1 | J27: Bah | K27: L | L27: OA | M27: 3b | N27: {=SUM(IF(Nummerbuch!$B$5:$B$1171=J27,IF(Nummerbuch!$C$5:$C$1171=K27,IF(Nummerbuch!$D$5:$D$1171=L27,IF(Nummerbuch!$E$5:$E$1171=M27,Nummerbuch!$H$5:$H$1171,0),0),0),0))} -> 0 | O27: {=COUNT(Nummerbuch!$B$5:$B$1004,IF(Nummerbuch!$B$5:$B$1004=J27,IF(Nummerbuch!$D$5:$D$1004=L27,IF(Nummerbuch!$E$5:$E$1004=M27,0))))} -> 0
A28: Ei | B28: L | C28: B | D28: 3a | E28: {=SUM(IF(Nummerbuch!$B$5:$B$1171=A28,IF(Nummerbuch!$C$5:$C$1171=B28,IF(Nummerbuch!$D$5:$D$1171=C28,IF(Nummerbuch!$E$5:$E$1171=D28,Nummerbuch!$H$5:$H$1171,0),0),0),0))} -> 1.31 | F28: {=COUNT(Nummerbuch!$B$5:$B$1004,IF(Nummerbuch!$B$5:$B$1004=A28,IF(Nummerbuch!$D$5:$D$1004=C28,IF(Nummerbuch!$E$5:$E$1004=D28,0))))} -> 3 | J28: Bah | K28: L | L28: OA | M28: 4 | N28: {=SUM(IF(Nummerbuch!$B$5:$B$1171=J28,IF(Nummerbuch!$C$5:$C$1171=K28,IF(Nummerbuch!$D$5:$D$1171=L28,IF(Nummerbuch!$E$5:$E$1171=M28,Nummerbuch!$H$5:$H$1171,0),0),0),0))} -> 0 | O28: {=COUNT(Nummerbuch!$B$5:$B$1004,IF(Nummerbuch!$B$5:$B$1004=J28,IF(Nummerbuch!$D$5:$D$1004=L28,IF(Nummerbuch!$E$5:$E$1004=M28,0))))} -> 0
A29: Ei | B29: L | C29: B | D29: 3b | E29: {=SUM(IF(Nummerbuch!$B$5:$B$1171=A29,IF(Nummerbuch!$C$5:$C$1171=B29,IF(Nummerbuch!$D$5:$D$1171=C29,IF(Nummerbuch!$E$5:$E$1171=D29,Nummerbuch!$H$5:$H$1171,0),0),0),0))} -> 0 | F29: {=COUNT(Nummerbuch!$B$5:$B$1004,IF(Nummerbuch!$B$5:$B$1004=A29,IF(Nummerbuch!$D$5:$D$1004=C29,IF(Nummerbuch!$E$5:$E$1004=D29,0))))} -> 0 | J29: Bah | K29: L | L29: OA | M29: 5 | N29: {=SUM(IF(Nummerbuch!$B$5:$B$1171=J29,IF(Nummerbuch!$C$5:$C$1171=K29,IF(Nummerbuch!$D$5:$D$1171=L29,IF(Nummerbuch!$E$5:$E$1171=M29,Nummerbuch!$H$5:$H$1171,0),0),0),0))} -> 0 | O29: {=COUNT(Nummerbuch!$B$5:$B$1004,IF(Nummerbuch!$B$5:$B$1004=J29,IF(Nummerbuch!$D$5:$D$1004=L29,IF(Nummerbuch!$E$5:$E$1004=M29,0))))} -> 0
A30: Ei | B30: L | C30: B | D30: 4 | E30: {=SUM(IF(Nummerbuch!$B$5:$B$1171=A30,IF(Nummerbuch!$C$5:$C$1171=B30,IF(Nummerbuch!$D$5:$D$1171=C30,IF(Nummerbuch!$E$5:$E$1171=D30,Nummerbuch!$H$5:$H$1171,0),0),0),0))} -> 1.31 | F30: {=COUNT(Nummerbuch!$B$5:$B$1004,IF(Nummerbuch!$B$5:$B$1004=A30,IF(Nummerbuch!$D$5:$D$1004=C30,IF(Nummerbuch!$E$5:$E$1004=D30,0))))} -> 2 | J30: Bah | K30: L | L30: OA | M30: 6 | N30: {=SUM(IF(Nummerbuch!$B$5:$B$1171=J30,IF(Nummerbuch!$C$5:$C$1171=K30,IF(Nummerbuch!$D$5:$D$1171=L30,IF(Nummerbuch!$E$5:$E$1171=M30,Nummerbuch!$H$5:$H$1171,0),0),0),0))} -> 0 | O30: {=COUNT(Nummerbuch!$B$5:$B$1004,IF(Nummerbuch!$B$5:$B$1004=J30,IF(Nummerbuch!$D$5:$D$1004=L30,IF(Nummerbuch!$E$5:$E$1004=M30,0))))} -> 0 | P30: =SUM(O24:O30) -> 0 | Q30: =SUM(N24:N30) -> 0
A31: Ei | B31: L | C31: B | D31: 5 | E31: {=SUM(IF(Nummerbuch!$B$5:$B$1171=A31,IF(Nummerbuch!$C$5:$C$1171=B31,IF(Nummerbuch!$D$5:$D$1171=C31,IF(Nummerbuch!$E$5:$E$1171=D31,Nummerbuch!$H$5:$H$1171,0),0),0),0))} -> 1.23 | F31: {=COUNT(Nummerbuch!$B$5:$B$1004,IF(Nummerbuch!$B$5:$B$1004=A31,IF(Nummerbuch!$D$5:$D$1004=C31,IF(Nummerbuch!$E$5:$E$1004=D31,0))))} -> 1 | J31: Bir | K31: L | L31: A | M31: 2a | N31: {=SUM(IF(Nummerbuch!$B$5:$B$1171=J31,IF(Nummerbuch!$C$5:$C$1171=K31,IF(Nummerbuch!$D$5:$D$1171=L31,IF(Nummerbuch!$E$5:$E$1171=M31,Nummerbuch!$H$5:$H$1171,0),0),0),0))} -> 0 | O31: {=COUNT(Nummerbuch!$B$5:$B$1004,IF(Nummerbuch!$B$5:$B$1004=J31,IF(Nummerbuch!$D$5:$D$1004=L31,IF(Nummerbuch!$E$5:$E$1004=M31,0))))} -> 0
A32: Ei | B32: L | C32: B | D32: 6 | E32: {=SUM(IF(Nummerbuch!$B$5:$B$1171=A32,IF(Nummerbuch!$C$5:$C$1171=B32,IF(Nummerbuch!$D$5:$D$1171=C32,IF(Nummerbuch!$E$5:$E$1171=D32,Nummerbuch!$H$5:$H$1171,0),0),0),0))} -> 0 | F32: {=COUNT(Nummerbuch!$B$5:$B$1004,IF(Nummerbuch!$B$5:$B$1004=A32,IF(Nummerbuch!$D$5:$D$1004=C32,IF(Nummerbuch!$E$5:$E$1004=D32,0))))} -> 0 | G32: =SUM(F26:F32) -> 7 | H32: =SUM(E26:E32) -> 4.16 | J32: Bir | K32: L | L32: A | M32: 2b | N32: {=SUM(IF(Nummerbuch!$B$5:$B$1171=J32,IF(Nummerbuch!$C$5:$C$1171=K32,IF(Nummerbuch!$D$5:$D$1171=L32,IF(Nummerbuch!$E$5:$E$1171=M32,Nummerbuch!$H$5:$H$1171,0),0),0),0))} -> 0 | O32: {=COUNT(Nummerbuch!$B$5:$B$1004,IF(Nummerbuch!$B$5:$B$1004=J32,IF(Nummerbuch!$D$5:$D$1004=L32,IF(Nummerbuch!$E$5:$E$1004=M32,0))))} -> 0
A33: Ei | B33: L | C33: C | D33: 2a | E33: {=SUM(IF(Nummerbuch!$B$5:$B$1171=A33,IF(Nummerbuch!$C$5:$C$1171=B33,IF(Nummerbuch!$D$5:$D$1171=C33,IF(Nummerbuch!$E$5:$E$1171=D33,Nummerbuch!$H$5:$H$1171,0),0),0),0))} -> 0 | F33: {=COUNT(Nummerbuch!$B$5:$B$1004,IF(Nummerbuch!$B$5:$B$1004=A33,IF(Nummerbuch!$D$5:$D$1004=C33,IF(Nummerbuch!$E$5:$E$1004=D33,0))))} -> 0 | J33: Bir | K33: L | L33: A | M33: 3a | N33: {=SUM(IF(Nummerbuch!$B$5:$B$1171=J33,IF(Nummerbuch!$C$5:$C$1171=K33,IF(Nummerbuch!$D$5:$D$1171=L33,IF(Nummerbuch!$E$5:$E$1171=M33,Nummerbuch!$H$5:$H$1171,0),0),0),0))} -> 0 | O33: {=COUNT(Nummerbuch!$B$5:$B$1004,IF(Nummerbuch!$B$5:$B$1004=J33,IF(Nummerbuch!$D$5:$D$1004=L33,IF(Nummerbuch!$E$5:$E$1004=M33,0))))} -> 0
A34: Ei | B34: L | C34: C | D34: 2b | E34: {=SUM(IF(Nummerbuch!$B$5:$B$1171=A34,IF(Nummerbuch!$C$5:$C$1171=B34,IF(Nummerbuch!$D$5:$D$1171=C34,IF(Nummerbuch!$E$5:$E$1171=D34,Nummerbuch!$H$5:$H$1171,0),0),0),0))} -> 0.25 | F34: {=COUNT(Nummerbuch!$B$5:$B$1004,IF(Nummerbuch!$B$5:$B$1004=A34,IF(Nummerbuch!$D$5:$D$1004=C34,IF(Nummerbuch!$E$5:$E$1004=D34,0))))} -> 1 | J34: Bir | K34: L | L34: A | M34: 3b | N34: {=SUM(IF(Nummerbuch!$B$5:$B$1171=J34,IF(Nummerbuch!$C$5:$C$1171=K34,IF(Nummerbuch!$D$5:$D$1171=L34,IF(Nummerbuch!$E$5:$E$1171=M34,Nummerbuch!$H$5:$H$1171,0),0),0),0))} -> 0 | O34: {=COUNT(Nummerbuch!$B$5:$B$1004,IF(Nummerbuch!$B$5:$B$1004=J34,IF(Nummerbuch!$D$5:$D$1004=L34,IF(Nummerbuch!$E$5:$E$1004=M34,0))))} -> 0
A35: Ei | B35: L | C35: C | D35: 3a | E35: {=SUM(IF(Nummerbuch!$B$5:$B$1171=A35,IF(Nummerbuch!$C$5:$C$1171=B35,IF(Nummerbuch!$D$5:$D$1171=C35,IF(Nummerbuch!$E$5:$E$1171=D35,Nummerbuch!$H$5:$H$1171,0),0),0),0))} -> 0 | F35: {=COUNT(Nummerbuch!$B$5:$B$1004,IF(Nummerbuch!$B$5:$B$1004=A35,IF(Nummerbuch!$D$5:$D$1004=C35,IF(Nummerbuch!$E$5:$E$1004=D35,0))))} -> 0 | J35: Bir | K35: L | L35: A | M35: 4 | N35: {=SUM(IF(Nummerbuch!$B$5:$B$1171=J35,IF(Nummerbuch!$C$5:$C$1171=K35,IF(Nummerbuch!$D$5:$D$1171=L35,IF(Nummerbuch!$E$5:$E$1171=M35,Nummerbuch!$H$5:$H$1171,0),0),0),0))} -> 0 | O35: {=COUNT(Nummerbuch!$B$5:$B$1004,IF(Nummerbuch!$B$5:$B$1004=J35,IF(Nummerbuch!$D$5:$D$1004=L35,IF(Nummerbuch!$E$5:$E$1004=M35,0))))} -> 0
A36: Ei | B36: L | C36: C | D36: 3b | E36: {=SUM(IF(Nummerbuch!$B$5:$B$1171=A36,IF(Nummerbuch!$C$5:$C$1171=B36,IF(Nummerbuch!$D$5:$D$1171=C36,IF(Nummerbuch!$E$5:$E$1171=D36,Nummerbuch!$H$5:$H$1171,0),0),0),0))} -> 0 | F36: {=COUNT(Nummerbuch!$B$5:$B$1004,IF(Nummerbuch!$B$5:$B$1004=A36,IF(Nummerbuch!$D$5:$D$1004=C36,IF(Nummerbuch!$E$5:$E$1004=D36,0))))} -> 0 | J36: Bir | K36: L | L36: A | M36: 5 | N36: {=SUM(IF(Nummerbuch!$B$5:$B$1171=J36,IF(Nummerbuch!$C$5:$C$1171=K36,IF(Nummerbuch!$D$5:$D$1171=L36,IF(Nummerbuch!$E$5:$E$1171=M36,Nummerbuch!$H$5:$H$1171,0),0),0),0))} -> 0 | O36: {=COUNT(Nummerbuch!$B$5:$B$1004,IF(Nummerbuch!$B$5:$B$1004=J36,IF(Nummerbuch!$D$5:$D$1004=L36,IF(Nummerbuch!$E$5:$E$1004=M36,0))))} -> 0
A37: Ei | B37: L | C37: C | D37: 4 | E37: {=SUM(IF(Nummerbuch!$B$5:$B$1171=A37,IF(Nummerbuch!$C$5:$C$1171=B37,IF(Nummerbuch!$D$5:$D$1171=C37,IF(Nummerbuch!$E$5:$E$1171=D37,Nummerbuch!$H$5:$H$1171,0),0),0),0))} -> 0 | F37: {=COUNT(Nummerbuch!$B$5:$B$1004,IF(Nummerbuch!$B$5:$B$1004=A37,IF(Nummerbuch!$D$5:$D$1004=C37,IF(Nummerbuch!$E$5:$E$1004=D37,0))))} -> 0 | J37: Bir | K37: L | L37: A | M37: 6 | N37: {=SUM(IF(Nummerbuch!$B$5:$B$1171=J37,IF(Nummerbuch!$C$5:$C$1171=K37,IF(Nummerbuch!$D$5:$D$1171=L37,IF(Nummerbuch!$E$5:$E$1171=M37,Nummerbuch!$H$5:$H$1171,0),0),0),0))} -> 0 | O37: {=COUNT(Nummerbuch!$B$5:$B$1004,IF(Nummerbuch!$B$5:$B$1004=J37,IF(Nummerbuch!$D$5:$D$1004=L37,IF(Nummerbuch!$E$5:$E$1004=M37,0))))} -> 0 | P37: =SUM(O31:O37) -> 0 | Q37: =SUM(N31:N37) -> 0
A38: Ei | B38: L | C38: C | D38: 5 | E38: {=SUM(IF(Nummerbuch!$B$5:$B$1171=A38,IF(Nummerbuch!$C$5:$C$1171=B38,IF(Nummerbuch!$D$5:$D$1171=C38,IF(Nummerbuch!$E$5:$E$1171=D38,Nummerbuch!$H$5:$H$1171,0),0),0),0))} -> 0 | F38: {=COUNT(Nummerbuch!$B$5:$B$1004,IF(Nummerbuch!$B$5:$B$1004=A38,IF(Nummerbuch!$D$5:$D$1004=C38,IF(Nummerbuch!$E$5:$E$1004=D38,0))))} -> 0 | J38: Bir | K38: L | L38: B | M38: 2a | N38: {=SUM(IF(Nummerbuch!$B$5:$B$1171=J38,IF(Nummerbuch!$C$5:$C$1171=K38,IF(Nummerbuch!$D$5:$D$1171=L38,IF(Nummerbuch!$E$5:$E$1171=M38,Nummerbuch!$H$5:$H$1171,0),0),0),0))} -> 0 | O38: {=COUNT(Nummerbuch!$B$5:$B$1004,IF(Nummerbuch!$B$5:$B$1004=J38,IF(Nummerbuch!$D$5:$D$1004=L38,IF(Nummerbuch!$E$5:$E$1004=M38,0))))} -> 0
A39: Ei | B39: L | C39: C | D39: 6 | E39: {=SUM(IF(Nummerbuch!$B$5:$B$1171=A39,IF(Nummerbuch!$C$5:$C$1171=B39,IF(Nummerbuch!$D$5:$D$1171=C39,IF(Nummerbuch!$E$5:$E$1171=D39,Nummerbuch!$H$5:$H$1171,0),0),0),0))} -> 0 | F39: {=COUNT(Nummerbuch!$B$5:$B$1004,IF(Nummerbuch!$B$5:$B$1004=A39,IF(Nummerbuch!$D$5:$D$1004=C39,IF(Nummerbuch!$E$5:$E$1004=D39,0))))} -> 0 | G39: =SUM(F33:F39) -> 1 | H39: =SUM(E33:E39) -> 0.25 | J39: Bir | K39: L | L39: B | M39: 2b | N39: {=SUM(IF(Nummerbuch!$B$5:$B$1171=J39,IF(Nummerbuch!$C$5:$C$1171=K39,IF(Nummerbuch!$D$5:$D$1171=L39,IF(Nummerbuch!$E$5:$E$1171=M39,Nummerbuch!$H$5:$H$1171,0),0),0),0))} -> 0 | O39: {=COUNT(Nummerbuch!$B$5:$B$1004,IF(Nummerbuch!$B$5:$B$1004=J39,IF(Nummerbuch!$D$5:$D$1004=L39,IF(Nummerbuch!$E$5:$E$1004=M39,0))))} -> 0
A40: Ei | B40: L | C40: OA | D40: 2a | E40: {=SUM(IF(Nummerbuch!$B$5:$B$1171=A40,IF(Nummerbuch!$C$5:$C$1171=B40,IF(Nummerbuch!$D$5:$D$1171=C40,IF(Nummerbuch!$E$5:$E$1171=D40,Nummerbuch!$H$5:$H$1171,0),0),0),0))} -> 0 | F40: {=COUNT(Nummerbuch!$B$5:$B$1004,IF(Nummerbuch!$B$5:$B$1004=A40,IF(Nummerbuch!$D$5:$D$1004=C40,IF(Nummerbuch!$E$5:$E$1004=D40,0))))} -> 0 | J40: Bir | K40: L | L40: B | M40: 3a | N40: {=SUM(IF(Nummerbuch!$B$5:$B$1171=J40,IF(Nummerbuch!$C$5:$C$1171=K40,IF(Nummerbuch!$D$5:$D$1171=L40,IF(Nummerbuch!$E$5:$E$1171=M40,Nummerbuch!$H$5:$H$1171,0),0),0),0))} -> 0 | O40: {=COUNT(Nummerbuch!$B$5:$B$1004,IF(Nummerbuch!$B$5:$B$1004=J40,IF(Nummerbuch!$D$5:$D$1004=L40,IF(Nummerbuch!$E$5:$E$1004=M40,0))))} -> 0
A41: Ei | B41: L | C41: OA | D41: 2b | E41: {=SUM(IF(Nummerbuch!$B$5:$B$1171=A41,IF(Nummerbuch!$C$5:$C$1171=B41,IF(Nummerbuch!$D$5:$D$1171=C41,IF(Nummerbuch!$E$5:$E$1171=D41,Nummerbuch!$H$5:$H$1171,0),0),0),0))} -> 0 | F41: {=COUNT(Nummerbuch!$B$5:$B$1004,IF(Nummerbuch!$B$5:$B$1004=A41,IF(Nummerbuch!$D$5:$D$1004=C41,IF(Nummerbuch!$E$5:$E$1004=D41,0))))} -> 0 | J41: Bir | K41: L | L41: B | M41: 3b | N41: {=SUM(IF(Nummerbuch!$B$5:$B$1171=J41,IF(Nummerbuch!$C$5:$C$1171=K41,IF(Nummerbuch!$D$5:$D$1171=L41,IF(Nummerbuch!$E$5:$E$1171=M41,Nummerbuch!$H$5:$H$1171,0),0),0),0))} -> 0 | O41: {=COUNT(Nummerbuch!$B$5:$B$1004,IF(Nummerbuch!$B$5:$B$1004=J41,IF(Nummerbuch!$D$5:$D$1004=L41,IF(Nummerbuch!$E$5:$E$1004=M41,0))))} -> 0
A42: Ei | B42: L | C42: OA | D42: 3a | E42: {=SUM(IF(Nummerbuch!$B$5:$B$1171=A42,IF(Nummerbuch!$C$5:$C$1171=B42,IF(Nummerbuch!$D$5:$D$1171=C42,IF(Nummerbuch!$E$5:$E$1171=D42,Nummerbuch!$H$5:$H$1171,0),0),0),0))} -> 0 | F42: {=COUNT(Nummerbuch!$B$5:$B$1004,IF(Nummerbuch!$B$5:$B$1004=A42,IF(Nummerbuch!$D$5:$D$1004=C42,IF(Nummerbuch!$E$5:$E$1004=D42,0))))} -> 0 | J42: Bir | K42: L | L42: B | M42: 4 | N42: {=SUM(IF(Nummerbuch!$B$5:$B$1171=J42,IF(Nummerbuch!$C$5:$C$1171=K42,IF(Nummerbuch!$D$5:$D$1171=L42,IF(Nummerbuch!$E$5:$E$1171=M42,Nummerbuch!$H$5:$H$1171,0),0),0),0))} -> 0 | O42: {=COUNT(Nummerbuch!$B$5:$B$1004,IF(Nummerbuch!$B$5:$B$1004=J42,IF(Nummerbuch!$D$5:$D$1004=L42,IF(Nummerbuch!$E$5:$E$1004=M42,0))))} -> 0
A43: Ei | B43: L | C43: OA | D43: 3b | E43: {=SUM(IF(Nummerbuch!$B$5:$B$1171=A43,IF(Nummerbuch!$C$5:$C$1171=B43,IF(Nummerbuch!$D$5:$D$1171=C43,IF(Nummerbuch!$E$5:$E$1171=D43,Nummerbuch!$H$5:$H$1171,0),0),0),0))} -> 0 | F43: {=COUNT(Nummerbuch!$B$5:$B$1004,IF(Nummerbuch!$B$5:$B$1004=A43,IF(Nummerbuch!$D$5:$D$1004=C43,IF(Nummerbuch!$E$5:$E$1004=D43,0))))} -> 0 | J43: Bir | K43: L | L43: B | M43: 5 | N43: {=SUM(IF(Nummerbuch!$B$5:$B$1171=J43,IF(Nummerbuch!$C$5:$C$1171=K43,IF(Nummerbuch!$D$5:$D$1171=L43,IF(Nummerbuch!$E$5:$E$1171=M43,Nummerbuch!$H$5:$H$1171,0),0),0),0))} -> 0 | O43: {=COUNT(Nummerbuch!$B$5:$B$1004,IF(Nummerbuch!$B$5:$B$1004=J43,IF(Nummerbuch!$D$5:$D$1004=L43,IF(Nummerbuch!$E$5:$E$1004=M43,0))))} -> 0
A44: Ei | B44: L | C44: OA | D44: 4 | E44: {=SUM(IF(Nummerbuch!$B$5:$B$1171=A44,IF(Nummerbuch!$C$5:$C$1171=B44,IF(Nummerbuch!$D$5:$D$1171=C44,IF(Nummerbuch!$E$5:$E$1171=D44,Nummerbuch!$H$5:$H$1171,0),0),0),0))} -> 0 | F44: {=COUNT(Nummerbuch!$B$5:$B$1004,IF(Nummerbuch!$B$5:$B$1004=A44,IF(Nummerbuch!$D$5:$D$1004=C44,IF(Nummerbuch!$E$5:$E$1004=D44,0))))} -> 0 | J44: Bir | K44: L | L44: B | M44: 6 | N44: {=SUM(IF(Nummerbuch!$B$5:$B$1171=J44,IF(Nummerbuch!$C$5:$C$1171=K44,IF(Nummerbuch!$D$5:$D$1171=L44,IF(Nummerbuch!$E$5:$E$1171=M44,Nummerbuch!$H$5:$H$1171,0),0),0),0))} -> 0 | O44: {=COUNT(Nummerbuch!$B$5:$B$1004,IF(Nummerbuch!$B$5:$B$1004=J44,IF(Nummerbuch!$D$5:$D$1004=L44,IF(Nummerbuch!$E$5:$E$1004=M44,0))))} -> 0 | P44: =SUM(O38:O44) -> 0 | Q44: =SUM(N38:N44) -> 0
A45: Ei | B45: L | C45: OA | D45: 5 | E45: {=SUM(IF(Nummerbuch!$B$5:$B$1171=A45,IF(Nummerbuch!$C$5:$C$1171=B45,IF(Nummerbuch!$D$5:$D$1171=C45,IF(Nummerbuch!$E$5:$E$1171=D45,Nummerbuch!$H$5:$H$1171,0),0),0),0))} -> 0 | F45: {=COUNT(Nummerbuch!$B$5:$B$1004,IF(Nummerbuch!$B$5:$B$1004=A45,IF(Nummerbuch!$D$5:$D$1004=C45,IF(Nummerbuch!$E$5:$E$1004=D45,0))))} -> 0 | J45: Bir | K45: L | L45: C | M45: 2a | N45: {=SUM(IF(Nummerbuch!$B$5:$B$1171=J45,IF(Nummerbuch!$C$5:$C$1171=K45,IF(Nummerbuch!$D$5:$D$1171=L45,IF(Nummerbuch!$E$5:$E$1171=M45,Nummerbuch!$H$5:$H$1171,0),0),0),0))} -> 0 | O45: {=COUNT(Nummerbuch!$B$5:$B$1004,IF(Nummerbuch!$B$5:$B$1004=J45,IF(Nummerbuch!$D$5:$D$1004=L45,IF(Nummerbuch!$E$5:$E$1004=M45,0))))} -> 0
A46: Ei | B46: L | C46: OA | D46: 6 | E46: {=SUM(IF(Nummerbuch!$B$5:$B$1171=A46,IF(Nummerbuch!$C$5:$C$1171=B46,IF(Nummerbuch!$D$5:$D$1171=C46,IF(Nummerbuch!$E$5:$E$1171=D46,Nummerbuch!$H$5:$H$1171,0),0),0),0))} -> 0 | F46: {=COUNT(Nummerbuch!$B$5:$B$1004,IF(Nummerbuch!$B$5:$B$1004=A46,IF(Nummerbuch!$D$5:$D$1004=C46,IF(Nummerbuch!$E$5:$E$1004=D46,0))))} -> 0 | G46: =SUM(F40:F46) -> 0 | H46: =SUM(E40:E46) -> 0 | J46: Bir | K46: L | L46: C | M46: 2b | N46: {=SUM(IF(Nummerbuch!$B$5:$B$1171=J46,IF(Nummerbuch!$C$5:$C$1171=K46,IF(Nummerbuch!$D$5:$D$1171=L46,IF(Nummerbuch!$E$5:$E$1171=M46,Nummerbuch!$H$5:$H$1171,0),0),0),0))} -> 0 | O46: {=COUNT(Nummerbuch!$B$5:$B$1004,IF(Nummerbuch!$B$5:$B$1004=J46,IF(Nummerbuch!$D$5:$D$1004=L46,IF(Nummerbuch!$E$5:$E$1004=M46,0))))} -> 0
A47: Bu | B47: L | C47: F | D47: 3a | E47: {=SUM(IF(Nummerbuch!$B$5:$B$1171=A47,IF(Nummerbuch!$C$5:$C$1171=B47,IF(Nummerbuch!$D$5:$D$1171=C47,IF(Nummerbuch!$E$5:$E$1171=D47,Nummerbuch!$H$5:$H$1171,0),0),0),0))} -> 0 | F47: {=COUNT(Nummerbuch!$B$5:$B$1004,IF(Nummerbuch!$B$5:$B$1004=A47,IF(Nummerbuch!$D$5:$D$1004=C47,IF(Nummerbuch!$E$5:$E$1004=D47,0))))} -> 0 | J47: Bir | K47: L | L47: C | M47: 3a | N47: {=SUM(IF(Nummerbuch!$B$5:$B$1171=J47,IF(Nummerbuch!$C$5:$C$1171=K47,IF(Nummerbuch!$D$5:$D$1171=L47,IF(Nummerbuch!$E$5:$E$1171=M47,Nummerbuch!$H$5:$H$1171,0),0),0),0))} -> 0 | O47: {=COUNT(Nummerbuch!$B$5:$B$1004,IF(Nummerbuch!$B$5:$B$1004=J47,IF(Nummerbuch!$D$5:$D$1004=L47,IF(Nummerbuch!$E$5:$E$1004=M47,0))))} -> 0
A48: Bu | B48: L | C48: F | D48: 3b | E48: {=SUM(IF(Nummerbuch!$B$5:$B$1171=A48,IF(Nummerbuch!$C$5:$C$1171=B48,IF(Nummerbuch!$D$5:$D$1171=C48,IF(Nummerbuch!$E$5:$E$1171=D48,Nummerbuch!$H$5:$H$1171,0),0),0),0))} -> 0 | F48: {=COUNT(Nummerbuch!$B$5:$B$1004,IF(Nummerbuch!$B$5:$B$1004=A48,IF(Nummerbuch!$D$5:$D$1004=C48,IF(Nummerbuch!$E$5:$E$1004=D48,0))))} -> 0 | J48: Bir | K48: L | L48: C | M48: 3b | N48: {=SUM(IF(Nummerbuch!$B$5:$B$1171=J48,IF(Nummerbuch!$C$5:$C$1171=K48,IF(Nummerbuch!$D$5:$D$1171=L48,IF(Nummerbuch!$E$5:$E$1171=M48,Nummerbuch!$H$5:$H$1171,0),0),0),0))} -> 0 | O48: {=COUNT(Nummerbuch!$B$5:$B$1004,IF(Nummerbuch!$B$5:$B$1004=J48,IF(Nummerbuch!$D$5:$D$1004=L48,IF(Nummerbuch!$E$5:$E$1004=M48,0))))} -> 0
A49: Bu | B49: L | C49: F | D49: 4 | E49: {=SUM(IF(Nummerbuch!$B$5:$B$1171=A49,IF(Nummerbuch!$C$5:$C$1171=B49,IF(Nummerbuch!$D$5:$D$1171=C49,IF(Nummerbuch!$E$5:$E$1171=D49,Nummerbuch!$H$5:$H$1171,0),0),0),0))} -> 0 | F49: {=COUNT(Nummerbuch!$B$5:$B$1004,IF(Nummerbuch!$B$5:$B$1004=A49,IF(Nummerbuch!$D$5:$D$1004=C49,IF(Nummerbuch!$E$5:$E$1004=D49,0))))} -> 0 | J49: Bir | K49: L | L49: C | M49: 4 | N49: {=SUM(IF(Nummerbuch!$B$5:$B$1171=J49,IF(Nummerbuch!$C$5:$C$1171=K49,IF(Nummerbuch!$D$5:$D$1171=L49,IF(Nummerbuch!$E$5:$E$1171=M49,Nummerbuch!$H$5:$H$1171,0),0),0),0))} -> 0 | O49: {=COUNT(Nummerbuch!$B$5:$B$1004,IF(Nummerbuch!$B$5:$B$1004=J49,IF(Nummerbuch!$D$5:$D$1004=L49,IF(Nummerbuch!$E$5:$E$1004=M49,0))))} -> 0
A50: Bu | B50: L | C50: F | D50: 5 | E50: {=SUM(IF(Nummerbuch!$B$5:$B$1171=A50,IF(Nummerbuch!$C$5:$C$1171=B50,IF(Nummerbuch!$D$5:$D$1171=C50,IF(Nummerbuch!$E$5:$E$1171=D50,Nummerbuch!$H$5:$H$1171,0),0),0),0))} -> 0 | F50: {=COUNT(Nummerbuch!$B$5:$B$1004,IF(Nummerbuch!$B$5:$B$1004=A50,IF(Nummerbuch!$D$5:$D$1004=C50,IF(Nummerbuch!$E$5:$E$1004=D50,0))))} -> 0 | J50: Bir | K50: L | L50: C | M50: 5 | N50: {=SUM(IF(Nummerbuch!$B$5:$B$1171=J50,IF(Nummerbuch!$C$5:$C$1171=K50,IF(Nummerbuch!$D$5:$D$1171=L50,IF(Nummerbuch!$E$5:$E$1171=M50,Nummerbuch!$H$5:$H$1171,0),0),0),0))} -> 0 | O50: {=COUNT(Nummerbuch!$B$5:$B$1004,IF(Nummerbuch!$B$5:$B$1004=J50,IF(Nummerbuch!$D$5:$D$1004=L50,IF(Nummerbuch!$E$5:$E$1004=M50,0))))} -> 0
A51: Bu | B51: L | C51: F | D51: 6 | E51: {=SUM(IF(Nummerbuch!$B$5:$B$1171=A51,IF(Nummerbuch!$C$5:$C$1171=B51,IF(Nummerbuch!$D$5:$D$1171=C51,IF(Nummerbuch!$E$5:$E$1171=D51,Nummerbuch!$H$5:$H$1171,0),0),0),0))} -> 0 | F51: {=COUNT(Nummerbuch!$B$5:$B$1004,IF(Nummerbuch!$B$5:$B$1004=A51,IF(Nummerbuch!$D$5:$D$1004=C51,IF(Nummerbuch!$E$5:$E$1004=D51,0))))} -> 0 | G51: =SUM(F47:F51) -> 0 | H51: =SUM(E47:E51) -> 0 | J51: Bir | K51: L | L51: C | M51: 6 | N51: {=SUM(IF(Nummerbuch!$B$5:$B$1171=J51,IF(Nummerbuch!$C$5:$C$1171=K51,IF(Nummerbuch!$D$5:$D$1171=L51,IF(Nummerbuch!$E$5:$E$1171=M51,Nummerbuch!$H$5:$H$1171,0),0),0),0))} -> 0 | O51: {=COUNT(Nummerbuch!$B$5:$B$1004,IF(Nummerbuch!$B$5:$B$1004=J51,IF(Nummerbuch!$D$5:$D$1004=L51,IF(Nummerbuch!$E$5:$E$1004=M51,0))))} -> 0 | P51: =SUM(O45:O51) -> 0 | Q51: =SUM(N45:N51) -> 0
A52: Bu | B52: L | C52: A | D52: 2a | E52: {=SUM(IF(Nummerbuch!$B$5:$B$1171=A52,IF(Nummerbuch!$C$5:$C$1171=B52,IF(Nummerbuch!$D$5:$D$1171=C52,IF(Nummerbuch!$E$5:$E$1171=D52,Nummerbuch!$H$5:$H$1171,0),0),0),0))} -> 0 | F52: {=COUNT(Nummerbuch!$B$5:$B$1004,IF(Nummerbuch!$B$5:$B$1004=A52,IF(Nummerbuch!$D$5:$D$1004=C52,IF(Nummerbuch!$E$5:$E$1004=D52,0))))} -> 0 | J52: Bir | K52: L | L52: OA | M52: 2a | N52: {=SUM(IF(Nummerbuch!$B$5:$B$1171=J52,IF(Nummerbuch!$C$5:$C$1171=K52,IF(Nummerbuch!$D$5:$D$1171=L52,IF(Nummerbuch!$E$5:$E$1171=M52,Nummerbuch!$H$5:$H$1171,0),0),0),0))} -> 0 | O52: {=COUNT(Nummerbuch!$B$5:$B$1004,IF(Nummerbuch!$B$5:$B$1004=J52,IF(Nummerbuch!$D$5:$D$1004=L52,IF(Nummerbuch!$E$5:$E$1004=M52,0))))} -> 0
A53: Bu | B53: L | C53: A | D53: 2b | E53: {=SUM(IF(Nummerbuch!$B$5:$B$1171=A53,IF(Nummerbuch!$C$5:$C$1171=B53,IF(Nummerbuch!$D$5:$D$1171=C53,IF(Nummerbuch!$E$5:$E$1171=D53,Nummerbuch!$H$5:$H$1171,0),0),0),0))} -> 0 | F53: {=COUNT(Nummerbuch!$B$5:$B$1004,IF(Nummerbuch!$B$5:$B$1004=A53,IF(Nummerbuch!$D$5:$D$1004=C53,IF(Nummerbuch!$E$5:$E$1004=D53,0))))} -> 0 | J53: Bir | K53: L | L53: OA | M53: 2b | N53: {=SUM(IF(Nummerbuch!$B$5:$B$1171=J53,IF(Nummerbuch!$C$5:$C$1171=K53,IF(Nummerbuch!$D$5:$D$1171=L53,IF(Nummerbuch!$E$5:$E$1171=M53,Nummerbuch!$H$5:$H$1171,0),0),0),0))} -> 0 | O53: {=COUNT(Nummerbuch!$B$5:$B$1004,IF(Nummerbuch!$B$5:$B$1004=J53,IF(Nummerbuch!$D$5:$D$1004=L53,IF(Nummerbuch!$E$5:$E$1004=M53,0))))} -> 0
A54: Bu | B54: L | C54: A | D54: 3a | E54: {=SUM(IF(Nummerbuch!$B$5:$B$1171=A54,IF(Nummerbuch!$C$5:$C$1171=B54,IF(Nummerbuch!$D$5:$D$1171=C54,IF(Nummerbuch!$E$5:$E$1171=D54,Nummerbuch!$H$5:$H$1171,0),0),0),0))} -> 0 | F54: {=COUNT(Nummerbuch!$B$5:$B$1004,IF(Nummerbuch!$B$5:$B$1004=A54,IF(Nummerbuch!$D$5:$D$1004=C54,IF(Nummerbuch!$E$5:$E$1004=D54,0))))} -> 0 | J54: Bir | K54: L | L54: OA | M54: 3a | N54: {=SUM(IF(Nummerbuch!$B$5:$B$1171=J54,IF(Nummerbuch!$C$5:$C$1171=K54,IF(Nummerbuch!$D$5:$D$1171=L54,IF(Nummerbuch!$E$5:$E$1171=M54,Nummerbuch!$H$5:$H$1171,0),0),0),0))} -> 0 | O54: {=COUNT(Nummerbuch!$B$5:$B$1004,IF(Nummerbuch!$B$5:$B$1004=J54,IF(Nummerbuch!$D$5:$D$1004=L54,IF(Nummerbuch!$E$5:$E$1004=M54,0))))} -> 0
A55: Bu | B55: L | C55: A | D55: 3b | E55: {=SUM(IF(Nummerbuch!$B$5:$B$1171=A55,IF(Nummerbuch!$C$5:$C$1171=B55,IF(Nummerbuch!$D$5:$D$1171=C55,IF(Nummerbuch!$E$5:$E$1171=D55,Nummerbuch!$H$5:$H$1171,0),0),0),0))} -> 0 | F55: {=COUNT(Nummerbuch!$B$5:$B$1004,IF(Nummerbuch!$B$5:$B$1004=A55,IF(Nummerbuch!$D$5:$D$1004=C55,IF(Nummerbuch!$E$5:$E$1004=D55,0))))} -> 0 | J55: Bir | K55: L | L55: OA | M55: 3b | N55: {=SUM(IF(Nummerbuch!$B$5:$B$1171=J55,IF(Nummerbuch!$C$5:$C$1171=K55,IF(Nummerbuch!$D$5:$D$1171=L55,IF(Nummerbuch!$E$5:$E$1171=M55,Nummerbuch!$H$5:$H$1171,0),0),0),0))} -> 0 | O55: {=COUNT(Nummerbuch!$B$5:$B$1004,IF(Nummerbuch!$B$5:$B$1004=J55,IF(Nummerbuch!$D$5:$D$1004=L55,IF(Nummerbuch!$E$5:$E$1004=M55,0))))} -> 0
A56: Bu | B56: L | C56: A | D56: 4 | E56: {=SUM(IF(Nummerbuch!$B$5:$B$1171=A56,IF(Nummerbuch!$C$5:$C$1171=B56,IF(Nummerbuch!$D$5:$D$1171=C56,IF(Nummerbuch!$E$5:$E$1171=D56,Nummerbuch!$H$5:$H$1171,0),0),0),0))} -> 0 | F56: {=COUNT(Nummerbuch!$B$5:$B$1004,IF(Nummerbuch!$B$5:$B$1004=A56,IF(Nummerbuch!$D$5:$D$1004=C56,IF(Nummerbuch!$E$5:$E$1004=D56,0))))} -> 0 | J56: Bir | K56: L | L56: OA | M56: 4 | N56: {=SUM(IF(Nummerbuch!$B$5:$B$1171=J56,IF(Nummerbuch!$C$5:$C$1171=K56,IF(Nummerbuch!$D$5:$D$1171=L56,IF(Nummerbuch!$E$5:$E$1171=M56,Nummerbuch!$H$5:$H$1171,0),0),0),0))} -> 0 | O56: {=COUNT(Nummerbuch!$B$5:$B$1004,IF(Nummerbuch!$B$5:$B$1004=J56,IF(Nummerbuch!$D$5:$D$1004=L56,IF(Nummerbuch!$E$5:$E$1004=M56,0))))} -> 0
A57: Bu | B57: L | C57: A | D57: 5 | E57: {=SUM(IF(Nummerbuch!$B$5:$B$1171=A57,IF(Nummerbuch!$C$5:$C$1171=B57,IF(Nummerbuch!$D$5:$D$1171=C57,IF(Nummerbuch!$E$5:$E$1171=D57,Nummerbuch!$H$5:$H$1171,0),0),0),0))} -> 0 | F57: {=COUNT(Nummerbuch!$B$5:$B$1004,IF(Nummerbuch!$B$5:$B$1004=A57,IF(Nummerbuch!$D$5:$D$1004=C57,IF(Nummerbuch!$E$5:$E$1004=D57,0))))} -> 0 | J57: Bir | K57: L | L57: OA | M57: 5 | N57: {=SUM(IF(Nummerbuch!$B$5:$B$1171=J57,IF(Nummerbuch!$C$5:$C$1171=K57,IF(Nummerbuch!$D$5:$D$1171=L57,IF(Nummerbuch!$E$5:$E$1171=M57,Nummerbuch!$H$5:$H$1171,0),0),0),0))} -> 0 | O57: {=COUNT(Nummerbuch!$B$5:$B$1004,IF(Nummerbuch!$B$5:$B$1004=J57,IF(Nummerbuch!$D$5:$D$1004=L57,IF(Nummerbuch!$E$5:$E$1004=M57,0))))} -> 0
A58: Bu | B58: L | C58: A | D58: 6 | E58: {=SUM(IF(Nummerbuch!$B$5:$B$1171=A58,IF(Nummerbuch!$C$5:$C$1171=B58,IF(Nummerbuch!$D$5:$D$1171=C58,IF(Nummerbuch!$E$5:$E$1171=D58,Nummerbuch!$H$5:$H$1171,0),0),0),0))} -> 0 | F58: {=COUNT(Nummerbuch!$B$5:$B$1004,IF(Nummerbuch!$B$5:$B$1004=A58,IF(Nummerbuch!$D$5:$D$1004=C58,IF(Nummerbuch!$E$5:$E$1004=D58,0))))} -> 0 | G58: =SUM(F52:F58) -> 0 | H58: =SUM(E52:E58) -> 0 | J58: Bir | K58: L | L58: OA | M58: 6 | N58: {=SUM(IF(Nummerbuch!$B$5:$B$1171=J58,IF(Nummerbuch!$C$5:$C$1171=K58,IF(Nummerbuch!$D$5:$D$1171=L58,IF(Nummerbuch!$E$5:$E$1171=M58,Nummerbuch!$H$5:$H$1171,0),0),0),0))} -> 0 | O58: {=COUNT(Nummerbuch!$B$5:$B$1004,IF(Nummerbuch!$B$5:$B$1004=J58,IF(Nummerbuch!$D$5:$D$1004=L58,IF(Nummerbuch!$E$5:$E$1004=M58,0))))} -> 0 | P58: =SUM(O52:O58) -> 0 | Q58: =SUM(N52:N58) -> 0
A59: Bu | B59: L | C59: B | D59: 2a | E59: {=SUM(IF(Nummerbuch!$B$5:$B$1171=A59,IF(Nummerbuch!$C$5:$C$1171=B59,IF(Nummerbuch!$D$5:$D$1171=C59,IF(Nummerbuch!$E$5:$E$1171=D59,Nummerbuch!$H$5:$H$1171,0),0),0),0))} -> 0 | F59: {=COUNT(Nummerbuch!$B$5:$B$1004,IF(Nummerbuch!$B$5:$B$1004=A59,IF(Nummerbuch!$D$5:$D$1004=C59,IF(Nummerbuch!$E$5:$E$1004=D59,0))))} -> 0 | J59: Erl | K59: L | L59: A | M59: 2a | N59: {=SUM(IF(Nummerbuch!$B$5:$B$1171=J59,IF(Nummerbuch!$C$5:$C$1171=K59,IF(Nummerbuch!$D$5:$D$1171=L59,IF(Nummerbuch!$E$5:$E$1171=M59,Nummerbuch!$H$5:$H$1171,0),0),0),0))} -> 0 | O59: {=COUNT(Nummerbuch!$B$5:$B$1004,IF(Nummerbuch!$B$5:$B$1004=J59,IF(Nummerbuch!$D$5:$D$1004=L59,IF(Nummerbuch!$E$5:$E$1004=M59,0))))} -> 0
A60: Bu | B60: L | C60: B | D60: 2b | E60: {=SUM(IF(Nummerbuch!$B$5:$B$1171=A60,IF(Nummerbuch!$C$5:$C$1171=B60,IF(Nummerbuch!$D$5:$D$1171=C60,IF(Nummerbuch!$E$5:$E$1171=D60,Nummerbuch!$H$5:$H$1171,0),0),0),0))} -> 0 | F60: {=COUNT(Nummerbuch!$B$5:$B$1004,IF(Nummerbuch!$B$5:$B$1004=A60,IF(Nummerbuch!$D$5:$D$1004=C60,IF(Nummerbuch!$E$5:$E$1004=D60,0))))} -> 0 | J60: Erl | K60: L | L60: A | M60: 2b | N60: {=SUM(IF(Nummerbuch!$B$5:$B$1171=J60,IF(Nummerbuch!$C$5:$C$1171=K60,IF(Nummerbuch!$D$5:$D$1171=L60,IF(Nummerbuch!$E$5:$E$1171=M60,Nummerbuch!$H$5:$H$1171,0),0),0),0))} -> 0 | O60: {=COUNT(Nummerbuch!$B$5:$B$1004,IF(Nummerbuch!$B$5:$B$1004=J60,IF(Nummerbuch!$D$5:$D$1004=L60,IF(Nummerbuch!$E$5:$E$1004=M60,0))))} -> 0
A61: Bu | B61: L | C61: B | D61: 3a | E61: {=SUM(IF(Nummerbuch!$B$5:$B$1171=A61,IF(Nummerbuch!$C$5:$C$1171=B61,IF(Nummerbuch!$D$5:$D$1171=C61,IF(Nummerbuch!$E$5:$E$1171=D61,Nummerbuch!$H$5:$H$1171,0),0),0),0))} -> 0.44 | F61: {=COUNT(Nummerbuch!$B$5:$B$1004,IF(Nummerbuch!$B$5:$B$1004=A61,IF(Nummerbuch!$D$5:$D$1004=C61,IF(Nummerbuch!$E$5:$E$1004=D61,0))))} -> 1 | J61: Erl | K61: L | L61: A | M61: 3a | N61: {=SUM(IF(Nummerbuch!$B$5:$B$1171=J61,IF(Nummerbuch!$C$5:$C$1171=K61,IF(Nummerbuch!$D$5:$D$1171=L61,IF(Nummerbuch!$E$5:$E$1171=M61,Nummerbuch!$H$5:$H$1171,0),0),0),0))} -> 0 | O61: {=COUNT(Nummerbuch!$B$5:$B$1004,IF(Nummerbuch!$B$5:$B$1004=J61,IF(Nummerbuch!$D$5:$D$1004=L61,IF(Nummerbuch!$E$5:$E$1004=M61,0))))} -> 0
A62: Bu | B62: L | C62: B | D62: 3b | E62: {=SUM(IF(Nummerbuch!$B$5:$B$1171=A62,IF(Nummerbuch!$C$5:$C$1171=B62,IF(Nummerbuch!$D$5:$D$1171=C62,IF(Nummerbuch!$E$5:$E$1171=D62,Nummerbuch!$H$5:$H$1171,0),0),0),0))} -> 0 | F62: {=COUNT(Nummerbuch!$B$5:$B$1004,IF(Nummerbuch!$B$5:$B$1004=A62,IF(Nummerbuch!$D$5:$D$1004=C62,IF(Nummerbuch!$E$5:$E$1004=D62,0))))} -> 0 | J62: Erl | K62: L | L62: A | M62: 3b | N62: {=SUM(IF(Nummerbuch!$B$5:$B$1171=J62,IF(Nummerbuch!$C$5:$C$1171=K62,IF(Nummerbuch!$D$5:$D$1171=L62,IF(Nummerbuch!$E$5:$E$1171=M62,Nummerbuch!$H$5:$H$1171,0),0),0),0))} -> 0 | O62: {=COUNT(Nummerbuch!$B$5:$B$1004,IF(Nummerbuch!$B$5:$B$1004=J62,IF(Nummerbuch!$D$5:$D$1004=L62,IF(Nummerbuch!$E$5:$E$1004=M62,0))))} -> 0
A63: Bu | B63: L | C63: B | D63: 4 | E63: {=SUM(IF(Nummerbuch!$B$5:$B$1171=A63,IF(Nummerbuch!$C$5:$C$1171=B63,IF(Nummerbuch!$D$5:$D$1171=C63,IF(Nummerbuch!$E$5:$E$1171=D63,Nummerbuch!$H$5:$H$1171,0),0),0),0))} -> 0.87 | F63: {=COUNT(Nummerbuch!$B$5:$B$1004,IF(Nummerbuch!$B$5:$B$1004=A63,IF(Nummerbuch!$D$5:$D$1004=C63,IF(Nummerbuch!$E$5:$E$1004=D63,0))))} -> 1 | J63: Erl | K63: L | L63: A | M63: 4 | N63: {=SUM(IF(Nummerbuch!$B$5:$B$1171=J63,IF(Nummerbuch!$C$5:$C$1171=K63,IF(Nummerbuch!$D$5:$D$1171=L63,IF(Nummerbuch!$E$5:$E$1171=M63,Nummerbuch!$H$5:$H$1171,0),0),0),0))} -> 0 | O63: {=COUNT(Nummerbuch!$B$5:$B$1004,IF(Nummerbuch!$B$5:$B$1004=J63,IF(Nummerbuch!$D$5:$D$1004=L63,IF(Nummerbuch!$E$5:$E$1004=M63,0))))} -> 0
A64: Bu | B64: L | C64: B | D64: 5 | E64: {=SUM(IF(Nummerbuch!$B$5:$B$1171=A64,IF(Nummerbuch!$C$5:$C$1171=B64,IF(Nummerbuch!$D$5:$D$1171=C64,IF(Nummerbuch!$E$5:$E$1171=D64,Nummerbuch!$H$5:$H$1171,0),0),0),0))} -> 0 | F64: {=COUNT(Nummerbuch!$B$5:$B$1004,IF(Nummerbuch!$B$5:$B$1004=A64,IF(Nummerbuch!$D$5:$D$1004=C64,IF(Nummerbuch!$E$5:$E$1004=D64,0))))} -> 0 | J64: Erl | K64: L | L64: A | M64: 5 | N64: {=SUM(IF(Nummerbuch!$B$5:$B$1171=J64,IF(Nummerbuch!$C$5:$C$1171=K64,IF(Nummerbuch!$D$5:$D$1171=L64,IF(Nummerbuch!$E$5:$E$1171=M64,Nummerbuch!$H$5:$H$1171,0),0),0),0))} -> 0 | O64: {=COUNT(Nummerbuch!$B$5:$B$1004,IF(Nummerbuch!$B$5:$B$1004=J64,IF(Nummerbuch!$D$5:$D$1004=L64,IF(Nummerbuch!$E$5:$E$1004=M64,0))))} -> 0
A65: Bu | B65: L | C65: B | D65: 6 | E65: {=SUM(IF(Nummerbuch!$B$5:$B$1171=A65,IF(Nummerbuch!$C$5:$C$1171=B65,IF(Nummerbuch!$D$5:$D$1171=C65,IF(Nummerbuch!$E$5:$E$1171=D65,Nummerbuch!$H$5:$H$1171,0),0),0),0))} -> 0 | F65: {=COUNT(Nummerbuch!$B$5:$B$1004,IF(Nummerbuch!$B$5:$B$1004=A65,IF(Nummerbuch!$D$5:$D$1004=C65,IF(Nummerbuch!$E$5:$E$1004=D65,0))))} -> 0 | G65: =SUM(F59:F65) -> 2 | H65: =SUM(E59:E65) -> 1.31 | J65: Erl | K65: L | L65: A | M65: 6 | N65: {=SUM(IF(Nummerbuch!$B$5:$B$1171=J65,IF(Nummerbuch!$C$5:$C$1171=K65,IF(Nummerbuch!$D$5:$D$1171=L65,IF(Nummerbuch!$E$5:$E$1171=M65,Nummerbuch!$H$5:$H$1171,0),0),0),0))} -> 0 | O65: {=COUNT(Nummerbuch!$B$5:$B$1004,IF(Nummerbuch!$B$5:$B$1004=J65,IF(Nummerbuch!$D$5:$D$1004=L65,IF(Nummerbuch!$E$5:$E$1004=M65,0))))} -> 0 | P65: =SUM(O59:O65) -> 0 | Q65: =SUM(N59:N65) -> 0
A66: Bu | B66: L | C66: BR | D66: 2a | E66: {=SUM(IF(Nummerbuch!$B$5:$B$1171=A66,IF(Nummerbuch!$C$5:$C$1171=B66,IF(Nummerbuch!$D$5:$D$1171=C66,IF(Nummerbuch!$E$5:$E$1171=D66,Nummerbuch!$H$5:$H$1171,0),0),0),0))} -> 0 | F66: {=COUNT(Nummerbuch!$B$5:$B$1004,IF(Nummerbuch!$B$5:$B$1004=A66,IF(Nummerbuch!$D$5:$D$1004=C66,IF(Nummerbuch!$E$5:$E$1004=D66,0))))} -> 0 | J66: Erl | K66: L | L66: B | M66: 2a | N66: {=SUM(IF(Nummerbuch!$B$5:$B$1171=J66,IF(Nummerbuch!$C$5:$C$1171=K66,IF(Nummerbuch!$D$5:$D$1171=L66,IF(Nummerbuch!$E$5:$E$1171=M66,Nummerbuch!$H$5:$H$1171,0),0),0),0))} -> 0 | O66: {=COUNT(Nummerbuch!$B$5:$B$1004,IF(Nummerbuch!$B$5:$B$1004=J66,IF(Nummerbuch!$D$5:$D$1004=L66,IF(Nummerbuch!$E$5:$E$1004=M66,0))))} -> 0
A67: Bu | B67: L | C67: BR | D67: 2b | E67: {=SUM(IF(Nummerbuch!$B$5:$B$1171=A67,IF(Nummerbuch!$C$5:$C$1171=B67,IF(Nummerbuch!$D$5:$D$1171=C67,IF(Nummerbuch!$E$5:$E$1171=D67,Nummerbuch!$H$5:$H$1171,0),0),0),0))} -> 0 | F67: {=COUNT(Nummerbuch!$B$5:$B$1004,IF(Nummerbuch!$B$5:$B$1004=A67,IF(Nummerbuch!$D$5:$D$1004=C67,IF(Nummerbuch!$E$5:$E$1004=D67,0))))} -> 0 | J67: Erl | K67: L | L67: B | M67: 2b | N67: {=SUM(IF(Nummerbuch!$B$5:$B$1171=J67,IF(Nummerbuch!$C$5:$C$1171=K67,IF(Nummerbuch!$D$5:$D$1171=L67,IF(Nummerbuch!$E$5:$E$1171=M67,Nummerbuch!$H$5:$H$1171,0),0),0),0))} -> 0 | O67: {=COUNT(Nummerbuch!$B$5:$B$1004,IF(Nummerbuch!$B$5:$B$1004=J67,IF(Nummerbuch!$D$5:$D$1004=L67,IF(Nummerbuch!$E$5:$E$1004=M67,0))))} -> 0
A68: Bu | B68: L | C68: BR | D68: 3a | E68: {=SUM(IF(Nummerbuch!$B$5:$B$1171=A68,IF(Nummerbuch!$C$5:$C$1171=B68,IF(Nummerbuch!$D$5:$D$1171=C68,IF(Nummerbuch!$E$5:$E$1171=D68,Nummerbuch!$H$5:$H$1171,0),0),0),0))} -> 0.47 | F68: {=COUNT(Nummerbuch!$B$5:$B$1004,IF(Nummerbuch!$B$5:$B$1004=A68,IF(Nummerbuch!$D$5:$D$1004=C68,IF(Nummerbuch!$E$5:$E$1004=D68,0))))} -> 1 | J68: Erl | K68: L | L68: B | M68: 3a | N68: {=SUM(IF(Nummerbuch!$B$5:$B$1171=J68,IF(Nummerbuch!$C$5:$C$1171=K68,IF(Nummerbuch!$D$5:$D$1171=L68,IF(Nummerbuch!$E$5:$E$1171=M68,Nummerbuch!$H$5:$H$1171,0),0),0),0))} -> 0 | O68: {=COUNT(Nummerbuch!$B$5:$B$1004,IF(Nummerbuch!$B$5:$B$1004=J68,IF(Nummerbuch!$D$5:$D$1004=L68,IF(Nummerbuch!$E$5:$E$1004=M68,0))))} -> 0
A69: Bu | B69: L | C69: BR | D69: 3b | E69: {=SUM(IF(Nummerbuch!$B$5:$B$1171=A69,IF(Nummerbuch!$C$5:$C$1171=B69,IF(Nummerbuch!$D$5:$D$1171=C69,IF(Nummerbuch!$E$5:$E$1171=D69,Nummerbuch!$H$5:$H$1171,0),0),0),0))} -> 0 | F69: {=COUNT(Nummerbuch!$B$5:$B$1004,IF(Nummerbuch!$B$5:$B$1004=A69,IF(Nummerbuch!$D$5:$D$1004=C69,IF(Nummerbuch!$E$5:$E$1004=D69,0))))} -> 0 | J69: Erl | K69: L | L69: B | M69: 3b | N69: {=SUM(IF(Nummerbuch!$B$5:$B$1171=J69,IF(Nummerbuch!$C$5:$C$1171=K69,IF(Nummerbuch!$D$5:$D$1171=L69,IF(Nummerbuch!$E$5:$E$1171=M69,Nummerbuch!$H$5:$H$1171,0),0),0),0))} -> 0 | O69: {=COUNT(Nummerbuch!$B$5:$B$1004,IF(Nummerbuch!$B$5:$B$1004=J69,IF(Nummerbuch!$D$5:$D$1004=L69,IF(Nummerbuch!$E$5:$E$1004=M69,0))))} -> 0
A70: Bu | B70: L | C70: BR | D70: 4 | E70: {=SUM(IF(Nummerbuch!$B$5:$B$1171=A70,IF(Nummerbuch!$C$5:$C$1171=B70,IF(Nummerbuch!$D$5:$D$1171=C70,IF(Nummerbuch!$E$5:$E$1171=D70,Nummerbuch!$H$5:$H$1171,0),0),0),0))} -> 0 | F70: {=COUNT(Nummerbuch!$B$5:$B$1004,IF(Nummerbuch!$B$5:$B$1004=A70,IF(Nummerbuch!$D$5:$D$1004=C70,IF(Nummerbuch!$E$5:$E$1004=D70,0))))} -> 0 | J70: Erl | K70: L | L70: B | M70: 4 | N70: {=SUM(IF(Nummerbuch!$B$5:$B$1171=J70,IF(Nummerbuch!$C$5:$C$1171=K70,IF(Nummerbuch!$D$5:$D$1171=L70,IF(Nummerbuch!$E$5:$E$1171=M70,Nummerbuch!$H$5:$H$1171,0),0),0),0))} -> 0 | O70: {=COUNT(Nummerbuch!$B$5:$B$1004,IF(Nummerbuch!$B$5:$B$1004=J70,IF(Nummerbuch!$D$5:$D$1004=L70,IF(Nummerbuch!$E$5:$E$1004=M70,0))))} -> 0
A71: Bu | B71: L | C71: BR | D71: 5 | E71: {=SUM(IF(Nummerbuch!$B$5:$B$1171=A71,IF(Nummerbuch!$C$5:$C$1171=B71,IF(Nummerbuch!$D$5:$D$1171=C71,IF(Nummerbuch!$E$5:$E$1171=D71,Nummerbuch!$H$5:$H$1171,0),0),0),0))} -> 0.98 | F71: {=COUNT(Nummerbuch!$B$5:$B$1004,IF(Nummerbuch!$B$5:$B$1004=A71,IF(Nummerbuch!$D$5:$D$1004=C71,IF(Nummerbuch!$E$5:$E$1004=D71,0))))} -> 1 | J71: Erl | K71: L | L71: B | M71: 5 | N71: {=SUM(IF(Nummerbuch!$B$5:$B$1171=J71,IF(Nummerbuch!$C$5:$C$1171=K71,IF(Nummerbuch!$D$5:$D$1171=L71,IF(Nummerbuch!$E$5:$E$1171=M71,Nummerbuch!$H$5:$H$1171,0),0),0),0))} -> 0 | O71: {=COUNT(Nummerbuch!$B$5:$B$1004,IF(Nummerbuch!$B$5:$B$1004=J71,IF(Nummerbuch!$D$5:$D$1004=L71,IF(Nummerbuch!$E$5:$E$1004=M71,0))))} -> 0
A72: Bu | B72: L | C72: BR | D72: 6 | E72: {=SUM(IF(Nummerbuch!$B$5:$B$1171=A72,IF(Nummerbuch!$C$5:$C$1171=B72,IF(Nummerbuch!$D$5:$D$1171=C72,IF(Nummerbuch!$E$5:$E$1171=D72,Nummerbuch!$H$5:$H$1171,0),0),0),0))} -> 0 | F72: {=COUNT(Nummerbuch!$B$5:$B$1004,IF(Nummerbuch!$B$5:$B$1004=A72,IF(Nummerbuch!$D$5:$D$1004=C72,IF(Nummerbuch!$E$5:$E$1004=D72,0))))} -> 0 | G72: =SUM(F66:F72) -> 2 | H72: =SUM(E66:E72) -> 1.45 | J72: Erl | K72: L | L72: B | M72: 6 | N72: {=SUM(IF(Nummerbuch!$B$5:$B$1171=J72,IF(Nummerbuch!$C$5:$C$1171=K72,IF(Nummerbuch!$D$5:$D$1171=L72,IF(Nummerbuch!$E$5:$E$1171=M72,Nummerbuch!$H$5:$H$1171,0),0),0),0))} -> 0 | O72: {=COUNT(Nummerbuch!$B$5:$B$1004,IF(Nummerbuch!$B$5:$B$1004=J72,IF(Nummerbuch!$D$5:$D$1004=L72,IF(Nummerbuch!$E$5:$E$1004=M72,0))))} -> 0 | P72: =SUM(O66:O72) -> 0 | Q72: =SUM(N66:N72) -> 0
A73: Bu | B73: L | C73: C | D73: 2a | E73: {=SUM(IF(Nummerbuch!$B$5:$B$1171=A73,IF(Nummerbuch!$C$5:$C$1171=B73,IF(Nummerbuch!$D$5:$D$1171=C73,IF(Nummerbuch!$E$5:$E$1171=D73,Nummerbuch!$H$5:$H$1171,0),0),0),0))} -> 0 | F73: {=COUNT(Nummerbuch!$B$5:$B$1004,IF(Nummerbuch!$B$5:$B$1004=A73,IF(Nummerbuch!$D$5:$D$1004=C73,IF(Nummerbuch!$E$5:$E$1004=D73,0))))} -> 0 | J73: Erl | K73: L | L73: C | M73: 2a | N73: {=SUM(IF(Nummerbuch!$B$5:$B$1171=J73,IF(Nummerbuch!$C$5:$C$1171=K73,IF(Nummerbuch!$D$5:$D$1171=L73,IF(Nummerbuch!$E$5:$E$1171=M73,Nummerbuch!$H$5:$H$1171,0),0),0),0))} -> 0 | O73: {=COUNT(Nummerbuch!$B$5:$B$1004,IF(Nummerbuch!$B$5:$B$1004=J73,IF(Nummerbuch!$D$5:$D$1004=L73,IF(Nummerbuch!$E$5:$E$1004=M73,0))))} -> 0
A74: Bu | B74: L | C74: C | D74: 2b | E74: {=SUM(IF(Nummerbuch!$B$5:$B$1171=A74,IF(Nummerbuch!$C$5:$C$1171=B74,IF(Nummerbuch!$D$5:$D$1171=C74,IF(Nummerbuch!$E$5:$E$1171=D74,Nummerbuch!$H$5:$H$1171,0),0),0),0))} -> 0.43 | F74: {=COUNT(Nummerbuch!$B$5:$B$1004,IF(Nummerbuch!$B$5:$B$1004=A74,IF(Nummerbuch!$D$5:$D$1004=C74,IF(Nummerbuch!$E$5:$E$1004=D74,0))))} -> 1 | J74: Erl | K74: L | L74: C | M74: 2b | N74: {=SUM(IF(Nummerbuch!$B$5:$B$1171=J74,IF(Nummerbuch!$C$5:$C$1171=K74,IF(Nummerbuch!$D$5:$D$1171=L74,IF(Nummerbuch!$E$5:$E$1171=M74,Nummerbuch!$H$5:$H$1171,0),0),0),0))} -> 0 | O74: {=COUNT(Nummerbuch!$B$5:$B$1004,IF(Nummerbuch!$B$5:$B$1004=J74,IF(Nummerbuch!$D$5:$D$1004=L74,IF(Nummerbuch!$E$5:$E$1004=M74,0))))} -> 0
A75: Bu | B75: L | C75: C | D75: 3a | E75: {=SUM(IF(Nummerbuch!$B$5:$B$1171=A75,IF(Nummerbuch!$C$5:$C$1171=B75,IF(Nummerbuch!$D$5:$D$1171=C75,IF(Nummerbuch!$E$5:$E$1171=D75,Nummerbuch!$H$5:$H$1171,0),0),0),0))} -> 0 | F75: {=COUNT(Nummerbuch!$B$5:$B$1004,IF(Nummerbuch!$B$5:$B$1004=A75,IF(Nummerbuch!$D$5:$D$1004=C75,IF(Nummerbuch!$E$5:$E$1004=D75,0))))} -> 0 | J75: Erl | K75: L | L75: C | M75: 3a | N75: {=SUM(IF(Nummerbuch!$B$5:$B$1171=J75,IF(Nummerbuch!$C$5:$C$1171=K75,IF(Nummerbuch!$D$5:$D$1171=L75,IF(Nummerbuch!$E$5:$E$1171=M75,Nummerbuch!$H$5:$H$1171,0),0),0),0))} -> 0 | O75: {=COUNT(Nummerbuch!$B$5:$B$1004,IF(Nummerbuch!$B$5:$B$1004=J75,IF(Nummerbuch!$D$5:$D$1004=L75,IF(Nummerbuch!$E$5:$E$1004=M75,0))))} -> 0
A76: Bu | B76: L | C76: C | D76: 3b | E76: {=SUM(IF(Nummerbuch!$B$5:$B$1171=A76,IF(Nummerbuch!$C$5:$C$1171=B76,IF(Nummerbuch!$D$5:$D$1171=C76,IF(Nummerbuch!$E$5:$E$1171=D76,Nummerbuch!$H$5:$H$1171,0),0),0),0))} -> 0 | F76: {=COUNT(Nummerbuch!$B$5:$B$1004,IF(Nummerbuch!$B$5:$B$1004=A76,IF(Nummerbuch!$D$5:$D$1004=C76,IF(Nummerbuch!$E$5:$E$1004=D76,0))))} -> 0 | J76: Erl | K76: L | L76: C | M76: 3b | N76: {=SUM(IF(Nummerbuch!$B$5:$B$1171=J76,IF(Nummerbuch!$C$5:$C$1171=K76,IF(Nummerbuch!$D$5:$D$1171=L76,IF(Nummerbuch!$E$5:$E$1171=M76,Nummerbuch!$H$5:$H$1171,0),0),0),0))} -> 0 | O76: {=COUNT(Nummerbuch!$B$5:$B$1004,IF(Nummerbuch!$B$5:$B$1004=J76,IF(Nummerbuch!$D$5:$D$1004=L76,IF(Nummerbuch!$E$5:$E$1004=M76,0))))} -> 0
A77: Bu | B77: L | C77: C | D77: 4 | E77: {=SUM(IF(Nummerbuch!$B$5:$B$1171=A77,IF(Nummerbuch!$C$5:$C$1171=B77,IF(Nummerbuch!$D$5:$D$1171=C77,IF(Nummerbuch!$E$5:$E$1171=D77,Nummerbuch!$H$5:$H$1171,0),0),0),0))} -> 0 | F77: {=COUNT(Nummerbuch!$B$5:$B$1004,IF(Nummerbuch!$B$5:$B$1004=A77,IF(Nummerbuch!$D$5:$D$1004=C77,IF(Nummerbuch!$E$5:$E$1004=D77,0))))} -> 0 | J77: Erl | K77: L | L77: C | M77: 4 | N77: {=SUM(IF(Nummerbuch!$B$5:$B$1171=J77,IF(Nummerbuch!$C$5:$C$1171=K77,IF(Nummerbuch!$D$5:$D$1171=L77,IF(Nummerbuch!$E$5:$E$1171=M77,Nummerbuch!$H$5:$H$1171,0),0),0),0))} -> 0 | O77: {=COUNT(Nummerbuch!$B$5:$B$1004,IF(Nummerbuch!$B$5:$B$1004=J77,IF(Nummerbuch!$D$5:$D$1004=L77,IF(Nummerbuch!$E$5:$E$1004=M77,0))))} -> 0
A78: Bu | B78: L | C78: C | D78: 5 | E78: {=SUM(IF(Nummerbuch!$B$5:$B$1171=A78,IF(Nummerbuch!$C$5:$C$1171=B78,IF(Nummerbuch!$D$5:$D$1171=C78,IF(Nummerbuch!$E$5:$E$1171=D78,Nummerbuch!$H$5:$H$1171,0),0),0),0))} -> 0 | F78: {=COUNT(Nummerbuch!$B$5:$B$1004,IF(Nummerbuch!$B$5:$B$1004=A78,IF(Nummerbuch!$D$5:$D$1004=C78,IF(Nummerbuch!$E$5:$E$1004=D78,0))))} -> 0 | J78: Erl | K78: L | L78: C | M78: 5 | N78: {=SUM(IF(Nummerbuch!$B$5:$B$1171=J78,IF(Nummerbuch!$C$5:$C$1171=K78,IF(Nummerbuch!$D$5:$D$1171=L78,IF(Nummerbuch!$E$5:$E$1171=M78,Nummerbuch!$H$5:$H$1171,0),0),0),0))} -> 0 | O78: {=COUNT(Nummerbuch!$B$5:$B$1004,IF(Nummerbuch!$B$5:$B$1004=J78,IF(Nummerbuch!$D$5:$D$1004=L78,IF(Nummerbuch!$E$5:$E$1004=M78,0))))} -> 0
A79: Bu | B79: L | C79: C | D79: 6 | E79: {=SUM(IF(Nummerbuch!$B$5:$B$1171=A79,IF(Nummerbuch!$C$5:$C$1171=B79,IF(Nummerbuch!$D$5:$D$1171=C79,IF(Nummerbuch!$E$5:$E$1171=D79,Nummerbuch!$H$5:$H$1171,0),0),0),0))} -> 0 | F79: {=COUNT(Nummerbuch!$B$5:$B$1004,IF(Nummerbuch!$B$5:$B$1004=A79,IF(Nummerbuch!$D$5:$D$1004=C79,IF(Nummerbuch!$E$5:$E$1004=D79,0))))} -> 0 | G79: =SUM(F73:F79) -> 1 | H79: =SUM(E73:E79) -> 0.43 | J79: Erl | K79: L | L79: C | M79: 6 | N79: {=SUM(IF(Nummerbuch!$B$5:$B$1171=J79,IF(Nummerbuch!$C$5:$C$1171=K79,IF(Nummerbuch!$D$5:$D$1171=L79,IF(Nummerbuch!$E$5:$E$1171=M79,Nummerbuch!$H$5:$H$1171,0),0),0),0))} -> 0 | O79: {=COUNT(Nummerbuch!$B$5:$B$1004,IF(Nummerbuch!$B$5:$B$1004=J79,IF(Nummerbuch!$D$5:$D$1004=L79,IF(Nummerbuch!$E$5:$E$1004=M79,0))))} -> 0 | P79: =SUM(O73:O79) -> 0 | Q79: =SUM(N73:N79) -> 0
A80: Bu | B80: L | C80: OA | D80: 2a | E80: {=SUM(IF(Nummerbuch!$B$5:$B$1171=A80,IF(Nummerbuch!$C$5:$C$1171=B80,IF(Nummerbuch!$D$5:$D$1171=C80,IF(Nummerbuch!$E$5:$E$1171=D80,Nummerbuch!$H$5:$H$1171,0),0),0),0))} -> 0.16 | F80: {=COUNT(Nummerbuch!$B$5:$B$1004,IF(Nummerbuch!$B$5:$B$1004=A80,IF(Nummerbuch!$D$5:$D$1004=C80,IF(Nummerbuch!$E$5:$E$1004=D80,0))))} -> 1 | J80: Erl | K80: L | L80: OA | M80: 2a | N80: {=SUM(IF(Nummerbuch!$B$5:$B$1171=J80,IF(Nummerbuch!$C$5:$C$1171=K80,IF(Nummerbuch!$D$5:$D$1171=L80,IF(Nummerbuch!$E$5:$E$1171=M80,Nummerbuch!$H$5:$H$1171,0),0),0),0))} -> 0 | O80: {=COUNT(Nummerbuch!$B$5:$B$1004,IF(Nummerbuch!$B$5:$B$1004=J80,IF(Nummerbuch!$D$5:$D$1004=L80,IF(Nummerbuch!$E$5:$E$1004=M80,0))))} -> 0
A81: Bu | B81: L | C81: OA | D81: 2b | E81: {=SUM(IF(Nummerbuch!$B$5:$B$1171=A81,IF(Nummerbuch!$C$5:$C$1171=B81,IF(Nummerbuch!$D$5:$D$1171=C81,IF(Nummerbuch!$E$5:$E$1171=D81,Nummerbuch!$H$5:$H$1171,0),0),0),0))} -> 0 | F81: {=COUNT(Nummerbuch!$B$5:$B$1004,IF(Nummerbuch!$B$5:$B$1004=A81,IF(Nummerbuch!$D$5:$D$1004=C81,IF(Nummerbuch!$E$5:$E$1004=D81,0))))} -> 0 | J81: Erl | K81: L | L81: OA | M81: 2b | N81: {=SUM(IF(Nummerbuch!$B$5:$B$1171=J81,IF(Nummerbuch!$C$5:$C$1171=K81,IF(Nummerbuch!$D$5:$D$1171=L81,IF(Nummerbuch!$E$5:$E$1171=M81,Nummerbuch!$H$5:$H$1171,0),0),0),0))} -> 0 | O81: {=COUNT(Nummerbuch!$B$5:$B$1004,IF(Nummerbuch!$B$5:$B$1004=J81,IF(Nummerbuch!$D$5:$D$1004=L81,IF(Nummerbuch!$E$5:$E$1004=M81,0))))} -> 0
A82: Bu | B82: L | C82: OA | D82: 3a | E82: {=SUM(IF(Nummerbuch!$B$5:$B$1171=A82,IF(Nummerbuch!$C$5:$C$1171=B82,IF(Nummerbuch!$D$5:$D$1171=C82,IF(Nummerbuch!$E$5:$E$1171=D82,Nummerbuch!$H$5:$H$1171,0),0),0),0))} -> 0 | F82: {=COUNT(Nummerbuch!$B$5:$B$1004,IF(Nummerbuch!$B$5:$B$1004=A82,IF(Nummerbuch!$D$5:$D$1004=C82,IF(Nummerbuch!$E$5:$E$1004=D82,0))))} -> 0 | J82: Erl | K82: L | L82: OA | M82: 3a | N82: {=SUM(IF(Nummerbuch!$B$5:$B$1171=J82,IF(Nummerbuch!$C$5:$C$1171=K82,IF(Nummerbuch!$D$5:$D$1171=L82,IF(Nummerbuch!$E$5:$E$1171=M82,Nummerbuch!$H$5:$H$1171,0),0),0),0))} -> 0 | O82: {=COUNT(Nummerbuch!$B$5:$B$1004,IF(Nummerbuch!$B$5:$B$1004=J82,IF(Nummerbuch!$D$5:$D$1004=L82,IF(Nummerbuch!$E$5:$E$1004=M82,0))))} -> 0
A83: Bu | B83: L | C83: OA | D83: 3b | E83: {=SUM(IF(Nummerbuch!$B$5:$B$1171=A83,IF(Nummerbuch!$C$5:$C$1171=B83,IF(Nummerbuch!$D$5:$D$1171=C83,IF(Nummerbuch!$E$5:$E$1171=D83,Nummerbuch!$H$5:$H$1171,0),0),0),0))} -> 0 | F83: {=COUNT(Nummerbuch!$B$5:$B$1004,IF(Nummerbuch!$B$5:$B$1004=A83,IF(Nummerbuch!$D$5:$D$1004=C83,IF(Nummerbuch!$E$5:$E$1004=D83,0))))} -> 0 | J83: Erl | K83: L | L83: OA | M83: 3b | N83: {=SUM(IF(Nummerbuch!$B$5:$B$1171=J83,IF(Nummerbuch!$C$5:$C$1171=K83,IF(Nummerbuch!$D$5:$D$1171=L83,IF(Nummerbuch!$E$5:$E$1171=M83,Nummerbuch!$H$5:$H$1171,0),0),0),0))} -> 0 | O83: {=COUNT(Nummerbuch!$B$5:$B$1004,IF(Nummerbuch!$B$5:$B$1004=J83,IF(Nummerbuch!$D$5:$D$1004=L83,IF(Nummerbuch!$E$5:$E$1004=M83,0))))} -> 0
A84: Bu | B84: L | C84: OA | D84: 4 | E84: {=SUM(IF(Nummerbuch!$B$5:$B$1171=A84,IF(Nummerbuch!$C$5:$C$1171=B84,IF(Nummerbuch!$D$5:$D$1171=C84,IF(Nummerbuch!$E$5:$E$1171=D84,Nummerbuch!$H$5:$H$1171,0),0),0),0))} -> 0 | F84: {=COUNT(Nummerbuch!$B$5:$B$1004,IF(Nummerbuch!$B$5:$B$1004=A84,IF(Nummerbuch!$D$5:$D$1004=C84,IF(Nummerbuch!$E$5:$E$1004=D84,0))))} -> 0 | J84: Erl | K84: L | L84: OA | M84: 4 | N84: {=SUM(IF(Nummerbuch!$B$5:$B$1171=J84,IF(Nummerbuch!$C$5:$C$1171=K84,IF(Nummerbuch!$D$5:$D$1171=L84,IF(Nummerbuch!$E$5:$E$1171=M84,Nummerbuch!$H$5:$H$1171,0),0),0),0))} -> 0 | O84: {=COUNT(Nummerbuch!$B$5:$B$1004,IF(Nummerbuch!$B$5:$B$1004=J84,IF(Nummerbuch!$D$5:$D$1004=L84,IF(Nummerbuch!$E$5:$E$1004=M84,0))))} -> 0
A85: Bu | B85: L | C85: OA | D85: 5 | E85: {=SUM(IF(Nummerbuch!$B$5:$B$1171=A85,IF(Nummerbuch!$C$5:$C$1171=B85,IF(Nummerbuch!$D$5:$D$1171=C85,IF(Nummerbuch!$E$5:$E$1171=D85,Nummerbuch!$H$5:$H$1171,0),0),0),0))} -> 0 | F85: {=COUNT(Nummerbuch!$B$5:$B$1004,IF(Nummerbuch!$B$5:$B$1004=A85,IF(Nummerbuch!$D$5:$D$1004=C85,IF(Nummerbuch!$E$5:$E$1004=D85,0))))} -> 0 | J85: Erl | K85: L | L85: OA | M85: 5 | N85: {=SUM(IF(Nummerbuch!$B$5:$B$1171=J85,IF(Nummerbuch!$C$5:$C$1171=K85,IF(Nummerbuch!$D$5:$D$1171=L85,IF(Nummerbuch!$E$5:$E$1171=M85,Nummerbuch!$H$5:$H$1171,0),0),0),0))} -> 0 | O85: {=COUNT(Nummerbuch!$B$5:$B$1004,IF(Nummerbuch!$B$5:$B$1004=J85,IF(Nummerbuch!$D$5:$D$1004=L85,IF(Nummerbuch!$E$5:$E$1004=M85,0))))} -> 0
A86: Bu | B86: L | C86: OA | D86: 6 | E86: {=SUM(IF(Nummerbuch!$B$5:$B$1171=A86,IF(Nummerbuch!$C$5:$C$1171=B86,IF(Nummerbuch!$D$5:$D$1171=C86,IF(Nummerbuch!$E$5:$E$1171=D86,Nummerbuch!$H$5:$H$1171,0),0),0),0))} -> 0 | F86: {=COUNT(Nummerbuch!$B$5:$B$1004,IF(Nummerbuch!$B$5:$B$1004=A86,IF(Nummerbuch!$D$5:$D$1004=C86,IF(Nummerbuch!$E$5:$E$1004=D86,0))))} -> 0 | G86: =SUM(F80:F86) -> 1 | H86: =SUM(E80:E86) -> 0.16 | J86: Erl | K86: L | L86: OA | M86: 6 | N86: {=SUM(IF(Nummerbuch!$B$5:$B$1171=J86,IF(Nummerbuch!$C$5:$C$1171=K86,IF(Nummerbuch!$D$5:$D$1171=L86,IF(Nummerbuch!$E$5:$E$1171=M86,Nummerbuch!$H$5:$H$1171,0),0),0),0))} -> 0 | O86: {=COUNT(Nummerbuch!$B$5:$B$1004,IF(Nummerbuch!$B$5:$B$1004=J86,IF(Nummerbuch!$D$5:$D$1004=L86,IF(Nummerbuch!$E$5:$E$1004=M86,0))))} -> 0 | P86: =SUM(O80:O86) -> 0 | Q86: =SUM(N80:N86) -> 0
A87: SEi | B87: L | C87: F | D87: 3a | E87: {=SUM(IF(Nummerbuch!$B$5:$B$1171=A87,IF(Nummerbuch!$C$5:$C$1171=B87,IF(Nummerbuch!$D$5:$D$1171=C87,IF(Nummerbuch!$E$5:$E$1171=D87,Nummerbuch!$H$5:$H$1171,0),0),0),0))} -> 0 | F87: {=COUNT(Nummerbuch!$B$5:$B$1004,IF(Nummerbuch!$B$5:$B$1004=A87,IF(Nummerbuch!$D$5:$D$1004=C87,IF(Nummerbuch!$E$5:$E$1004=D87,0))))} -> 0 | J87: Es | K87: L | L87: A | M87: 2a | N87: {=SUM(IF(Nummerbuch!$B$5:$B$1171=J87,IF(Nummerbuch!$C$5:$C$1171=K87,IF(Nummerbuch!$D$5:$D$1171=L87,IF(Nummerbuch!$E$5:$E$1171=M87,Nummerbuch!$H$5:$H$1171,0),0),0),0))} -> 0 | O87: {=COUNT(Nummerbuch!$B$5:$B$1004,IF(Nummerbuch!$B$5:$B$1004=J87,IF(Nummerbuch!$D$5:$D$1004=L87,IF(Nummerbuch!$E$5:$E$1004=M87,0))))} -> 0
A88: SEi | B88: L | C88: F | D88: 3b | E88: {=SUM(IF(Nummerbuch!$B$5:$B$1171=A88,IF(Nummerbuch!$C$5:$C$1171=B88,IF(Nummerbuch!$D$5:$D$1171=C88,IF(Nummerbuch!$E$5:$E$1171=D88,Nummerbuch!$H$5:$H$1171,0),0),0),0))} -> 0 | F88: {=COUNT(Nummerbuch!$B$5:$B$1004,IF(Nummerbuch!$B$5:$B$1004=A88,IF(Nummerbuch!$D$5:$D$1004=C88,IF(Nummerbuch!$E$5:$E$1004=D88,0))))} -> 0 | J88: Es | K88: L | L88: A | M88: 2b | N88: {=SUM(IF(Nummerbuch!$B$5:$B$1171=J88,IF(Nummerbuch!$C$5:$C$1171=K88,IF(Nummerbuch!$D$5:$D$1171=L88,IF(Nummerbuch!$E$5:$E$1171=M88,Nummerbuch!$H$5:$H$1171,0),0),0),0))} -> 0 | O88: {=COUNT(Nummerbuch!$B$5:$B$1004,IF(Nummerbuch!$B$5:$B$1004=J88,IF(Nummerbuch!$D$5:$D$1004=L88,IF(Nummerbuch!$E$5:$E$1004=M88,0))))} -> 0
A89: SEi | B89: L | C89: F | D89: 4 | E89: {=SUM(IF(Nummerbuch!$B$5:$B$1171=A89,IF(Nummerbuch!$C$5:$C$1171=B89,IF(Nummerbuch!$D$5:$D$1171=C89,IF(Nummerbuch!$E$5:$E$1171=D89,Nummerbuch!$H$5:$H$1171,0),0),0),0))} -> 0 | F89: {=COUNT(Nummerbuch!$B$5:$B$1004,IF(Nummerbuch!$B$5:$B$1004=A89,IF(Nummerbuch!$D$5:$D$1004=C89,IF(Nummerbuch!$E$5:$E$1004=D89,0))))} -> 0 | J89: Es | K89: L | L89: A | M89: 3a | N89: {=SUM(IF(Nummerbuch!$B$5:$B$1171=J89,IF(Nummerbuch!$C$5:$C$1171=K89,IF(Nummerbuch!$D$5:$D$1171=L89,IF(Nummerbuch!$E$5:$E$1171=M89,Nummerbuch!$H$5:$H$1171,0),0),0),0))} -> 0 | O89: {=COUNT(Nummerbuch!$B$5:$B$1004,IF(Nummerbuch!$B$5:$B$1004=J89,IF(Nummerbuch!$D$5:$D$1004=L89,IF(Nummerbuch!$E$5:$E$1004=M89,0))))} -> 0
A90: SEi | B90: L | C90: F | D90: 5 | E90: {=SUM(IF(Nummerbuch!$B$5:$B$1171=A90,IF(Nummerbuch!$C$5:$C$1171=B90,IF(Nummerbuch!$D$5:$D$1171=C90,IF(Nummerbuch!$E$5:$E$1171=D90,Nummerbuch!$H$5:$H$1171,0),0),0),0))} -> 0 | F90: {=COUNT(Nummerbuch!$B$5:$B$1004,IF(Nummerbuch!$B$5:$B$1004=A90,IF(Nummerbuch!$D$5:$D$1004=C90,IF(Nummerbuch!$E$5:$E$1004=D90,0))))} -> 0 | J90: Es | K90: L | L90: A | M90: 3b | N90: {=SUM(IF(Nummerbuch!$B$5:$B$1171=J90,IF(Nummerbuch!$C$5:$C$1171=K90,IF(Nummerbuch!$D$5:$D$1171=L90,IF(Nummerbuch!$E$5:$E$1171=M90,Nummerbuch!$H$5:$H$1171,0),0),0),0))} -> 0 | O90: {=COUNT(Nummerbuch!$B$5:$B$1004,IF(Nummerbuch!$B$5:$B$1004=J90,IF(Nummerbuch!$D$5:$D$1004=L90,IF(Nummerbuch!$E$5:$E$1004=M90,0))))} -> 0
A91: SEi | B91: L | C91: F | D91: 6 | E91: {=SUM(IF(Nummerbuch!$B$5:$B$1171=A91,IF(Nummerbuch!$C$5:$C$1171=B91,IF(Nummerbuch!$D$5:$D$1171=C91,IF(Nummerbuch!$E$5:$E$1171=D91,Nummerbuch!$H$5:$H$1171,0),0),0),0))} -> 0 | F91: {=COUNT(Nummerbuch!$B$5:$B$1004,IF(Nummerbuch!$B$5:$B$1004=A91,IF(Nummerbuch!$D$5:$D$1004=C91,IF(Nummerbuch!$E$5:$E$1004=D91,0))))} -> 0 | G91: =SUM(F85:F91) -> 0 | H91: =SUM(E85:E91) -> 0 | J91: Es | K91: L | L91: A | M91: 4 | N91: {=SUM(IF(Nummerbuch!$B$5:$B$1171=J91,IF(Nummerbuch!$C$5:$C$1171=K91,IF(Nummerbuch!$D$5:$D$1171=L91,IF(Nummerbuch!$E$5:$E$1171=M91,Nummerbuch!$H$5:$H$1171,0),0),0),0))} -> 0 | O91: {=COUNT(Nummerbuch!$B$5:$B$1004,IF(Nummerbuch!$B$5:$B$1004=J91,IF(Nummerbuch!$D$5:$D$1004=L91,IF(Nummerbuch!$E$5:$E$1004=M91,0))))} -> 0
A92: SEi | B92: L | C92: A | D92: 2a | E92: {=SUM(IF(Nummerbuch!$B$5:$B$1171=A92,IF(Nummerbuch!$C$5:$C$1171=B92,IF(Nummerbuch!$D$5:$D$1171=C92,IF(Nummerbuch!$E$5:$E$1171=D92,Nummerbuch!$H$5:$H$1171,0),0),0),0))} -> 0 | F92: {=COUNT(Nummerbuch!$B$5:$B$1004,IF(Nummerbuch!$B$5:$B$1004=A92,IF(Nummerbuch!$D$5:$D$1004=C92,IF(Nummerbuch!$E$5:$E$1004=D92,0))))} -> 0 | J92: Es | K92: L | L92: A | M92: 5 | N92: {=SUM(IF(Nummerbuch!$B$5:$B$1171=J92,IF(Nummerbuch!$C$5:$C$1171=K92,IF(Nummerbuch!$D$5:$D$1171=L92,IF(Nummerbuch!$E$5:$E$1171=M92,Nummerbuch!$H$5:$H$1171,0),0),0),0))} -> 0 | O92: {=COUNT(Nummerbuch!$B$5:$B$1004,IF(Nummerbuch!$B$5:$B$1004=J92,IF(Nummerbuch!$D$5:$D$1004=L92,IF(Nummerbuch!$E$5:$E$1004=M92,0))))} -> 0
A93: SEi | B93: L | C93: A | D93: 2b | E93: {=SUM(IF(Nummerbuch!$B$5:$B$1171=A93,IF(Nummerbuch!$C$5:$C$1171=B93,IF(Nummerbuch!$D$5:$D$1171=C93,IF(Nummerbuch!$E$5:$E$1171=D93,Nummerbuch!$H$5:$H$1171,0),0),0),0))} -> 0 | F93: {=COUNT(Nummerbuch!$B$5:$B$1004,IF(Nummerbuch!$B$5:$B$1004=A93,IF(Nummerbuch!$D$5:$D$1004=C93,IF(Nummerbuch!$E$5:$E$1004=D93,0))))} -> 0 | J93: Es | K93: L | L93: A | M93: 6 | N93: {=SUM(IF(Nummerbuch!$B$5:$B$1171=J93,IF(Nummerbuch!$C$5:$C$1171=K93,IF(Nummerbuch!$D$5:$D$1171=L93,IF(Nummerbuch!$E$5:$E$1171=M93,Nummerbuch!$H$5:$H$1171,0),0),0),0))} -> 0 | O93: {=COUNT(Nummerbuch!$B$5:$B$1004,IF(Nummerbuch!$B$5:$B$1004=J93,IF(Nummerbuch!$D$5:$D$1004=L93,IF(Nummerbuch!$E$5:$E$1004=M93,0))))} -> 0 | P93: =SUM(O87:O93) -> 0 | Q93: =SUM(N87:N93) -> 0
A94: SEi | B94: L | C94: A | D94: 3a | E94: {=SUM(IF(Nummerbuch!$B$5:$B$1171=A94,IF(Nummerbuch!$C$5:$C$1171=B94,IF(Nummerbuch!$D$5:$D$1171=C94,IF(Nummerbuch!$E$5:$E$1171=D94,Nummerbuch!$H$5:$H$1171,0),0),0),0))} -> 0 | F94: {=COUNT(Nummerbuch!$B$5:$B$1004,IF(Nummerbuch!$B$5:$B$1004=A94,IF(Nummerbuch!$D$5:$D$1004=C94,IF(Nummerbuch!$E$5:$E$1004=D94,0))))} -> 0 | J94: Es | K94: L | L94: B | M94: 2a | N94: {=SUM(IF(Nummerbuch!$B$5:$B$1171=J94,IF(Nummerbuch!$C$5:$C$1171=K94,IF(Nummerbuch!$D$5:$D$1171=L94,IF(Nummerbuch!$E$5:$E$1171=M94,Nummerbuch!$H$5:$H$1171,0),0),0),0))} -> 0 | O94: {=COUNT(Nummerbuch!$B$5:$B$1004,IF(Nummerbuch!$B$5:$B$1004=J94,IF(Nummerbuch!$D$5:$D$1004=L94,IF(Nummerbuch!$E$5:$E$1004=M94,0))))} -> 0
A95: SEi | B95: L | C95: A | D95: 3b | E95: {=SUM(IF(Nummerbuch!$B$5:$B$1171=A95,IF(Nummerbuch!$C$5:$C$1171=B95,IF(Nummerbuch!$D$5:$D$1171=C95,IF(Nummerbuch!$E$5:$E$1171=D95,Nummerbuch!$H$5:$H$1171,0),0),0),0))} -> 0 | F95: {=COUNT(Nummerbuch!$B$5:$B$1004,IF(Nummerbuch!$B$5:$B$1004=A95,IF(Nummerbuch!$D$5:$D$1004=C95,IF(Nummerbuch!$E$5:$E$1004=D95,0))))} -> 0 | J95: Es | K95: L | L95: B | M95: 2b | N95: {=SUM(IF(Nummerbuch!$B$5:$B$1171=J95,IF(Nummerbuch!$C$5:$C$1171=K95,IF(Nummerbuch!$D$5:$D$1171=L95,IF(Nummerbuch!$E$5:$E$1171=M95,Nummerbuch!$H$5:$H$1171,0),0),0),0))} -> 0 | O95: {=COUNT(Nummerbuch!$B$5:$B$1004,IF(Nummerbuch!$B$5:$B$1004=J95,IF(Nummerbuch!$D$5:$D$1004=L95,IF(Nummerbuch!$E$5:$E$1004=M95,0))))} -> 0
A96: SEi | B96: L | C96: A | D96: 4 | E96: {=SUM(IF(Nummerbuch!$B$5:$B$1171=A96,IF(Nummerbuch!$C$5:$C$1171=B96,IF(Nummerbuch!$D$5:$D$1171=C96,IF(Nummerbuch!$E$5:$E$1171=D96,Nummerbuch!$H$5:$H$1171,0),0),0),0))} -> 0 | F96: {=COUNT(Nummerbuch!$B$5:$B$1004,IF(Nummerbuch!$B$5:$B$1004=A96,IF(Nummerbuch!$D$5:$D$1004=C96,IF(Nummerbuch!$E$5:$E$1004=D96,0))))} -> 0 | J96: Es | K96: L | L96: B | M96: 3a | N96: {=SUM(IF(Nummerbuch!$B$5:$B$1171=J96,IF(Nummerbuch!$C$5:$C$1171=K96,IF(Nummerbuch!$D$5:$D$1171=L96,IF(Nummerbuch!$E$5:$E$1171=M96,Nummerbuch!$H$5:$H$1171,0),0),0),0))} -> 0 | O96: {=COUNT(Nummerbuch!$B$5:$B$1004,IF(Nummerbuch!$B$5:$B$1004=J96,IF(Nummerbuch!$D$5:$D$1004=L96,IF(Nummerbuch!$E$5:$E$1004=M96,0))))} -> 0
A97: SEi | B97: L | C97: A | D97: 5 | E97: {=SUM(IF(Nummerbuch!$B$5:$B$1171=A97,IF(Nummerbuch!$C$5:$C$1171=B97,IF(Nummerbuch!$D$5:$D$1171=C97,IF(Nummerbuch!$E$5:$E$1171=D97,Nummerbuch!$H$5:$H$1171,0),0),0),0))} -> 0 | F97: {=COUNT(Nummerbuch!$B$5:$B$1004,IF(Nummerbuch!$B$5:$B$1004=A97,IF(Nummerbuch!$D$5:$D$1004=C97,IF(Nummerbuch!$E$5:$E$1004=D97,0))))} -> 0 | J97: Es | K97: L | L97: B | M97: 3b | N97: {=SUM(IF(Nummerbuch!$B$5:$B$1171=J97,IF(Nummerbuch!$C$5:$C$1171=K97,IF(Nummerbuch!$D$5:$D$1171=L97,IF(Nummerbuch!$E$5:$E$1171=M97,Nummerbuch!$H$5:$H$1171,0),0),0),0))} -> 0 | O97: {=COUNT(Nummerbuch!$B$5:$B$1004,IF(Nummerbuch!$B$5:$B$1004=J97,IF(Nummerbuch!$D$5:$D$1004=L97,IF(Nummerbuch!$E$5:$E$1004=M97,0))))} -> 0
A98: SEi | B98: L | C98: A | D98: 6 | E98: {=SUM(IF(Nummerbuch!$B$5:$B$1171=A98,IF(Nummerbuch!$C$5:$C$1171=B98,IF(Nummerbuch!$D$5:$D$1171=C98,IF(Nummerbuch!$E$5:$E$1171=D98,Nummerbuch!$H$5:$H$1171,0),0),0),0))} -> 0 | F98: {=COUNT(Nummerbuch!$B$5:$B$1004,IF(Nummerbuch!$B$5:$B$1004=A98,IF(Nummerbuch!$D$5:$D$1004=C98,IF(Nummerbuch!$E$5:$E$1004=D98,0))))} -> 0 | G98: =SUM(F92:F98) -> 0 | H98: =SUM(E92:E98) -> 0 | J98: Es | K98: L | L98: B | M98: 4 | N98: {=SUM(IF(Nummerbuch!$B$5:$B$1171=J98,IF(Nummerbuch!$C$5:$C$1171=K98,IF(Nummerbuch!$D$5:$D$1171=L98,IF(Nummerbuch!$E$5:$E$1171=M98,Nummerbuch!$H$5:$H$1171,0),0),0),0))} -> 0 | O98: {=COUNT(Nummerbuch!$B$5:$B$1004,IF(Nummerbuch!$B$5:$B$1004=J98,IF(Nummerbuch!$D$5:$D$1004=L98,IF(Nummerbuch!$E$5:$E$1004=M98,0))))} -> 0
A99: SEi | B99: L | C99: B | D99: 2a | E99: {=SUM(IF(Nummerbuch!$B$5:$B$1171=A99,IF(Nummerbuch!$C$5:$C$1171=B99,IF(Nummerbuch!$D$5:$D$1171=C99,IF(Nummerbuch!$E$5:$E$1171=D99,Nummerbuch!$H$5:$H$1171,0),0),0),0))} -> 0 | F99: {=COUNT(Nummerbuch!$B$5:$B$1004,IF(Nummerbuch!$B$5:$B$1004=A99,IF(Nummerbuch!$D$5:$D$1004=C99,IF(Nummerbuch!$E$5:$E$1004=D99,0))))} -> 0 | J99: Es | K99: L | L99: B | M99: 5 | N99: {=SUM(IF(Nummerbuch!$B$5:$B$1171=J99,IF(Nummerbuch!$C$5:$C$1171=K99,IF(Nummerbuch!$D$5:$D$1171=L99,IF(Nummerbuch!$E$5:$E$1171=M99,Nummerbuch!$H$5:$H$1171,0),0),0),0))} -> 0 | O99: {=COUNT(Nummerbuch!$B$5:$B$1004,IF(Nummerbuch!$B$5:$B$1004=J99,IF(Nummerbuch!$D$5:$D$1004=L99,IF(Nummerbuch!$E$5:$E$1004=M99,0))))} -> 0
A100: SEi | B100: L | C100: B | D100: 2b | E100: {=SUM(IF(Nummerbuch!$B$5:$B$1171=A100,IF(Nummerbuch!$C$5:$C$1171=B100,IF(Nummerbuch!$D$5:$D$1171=C100,IF(Nummerbuch!$E$5:$E$1171=D100,Nummerbuch!$H$5:$H$1171,0),0),0),0))} -> 0.33 | F100: {=COUNT(Nummerbuch!$B$5:$B$1004,IF(Nummerbuch!$B$5:$B$1004=A100,IF(Nummerbuch!$D$5:$D$1004=C100,IF(Nummerbuch!$E$5:$E$1004=D100,0))))} -> 1 | J100: Es | K100: L | L100: B | M100: 6 | N100: {=SUM(IF(Nummerbuch!$B$5:$B$1171=J100,IF(Nummerbuch!$C$5:$C$1171=K100,IF(Nummerbuch!$D$5:$D$1171=L100,IF(Nummerbuch!$E$5:$E$1171=M100,Nummerbuch!$H$5:$H$1171,0),0),0),0))} -> 0 | O100: {=COUNT(Nummerbuch!$B$5:$B$1004,IF(Nummerbuch!$B$5:$B$1004=J100,IF(Nummerbuch!$D$5:$D$1004=L100,IF(Nummerbuch!$E$5:$E$1004=M100,0))))} -> 0 | P100: =SUM(O94:O100) -> 0 | Q100: =SUM(N94:N100) -> 0
...

Sheet Sa.NdHw
A1: Zusammenstellung Nadelholz weiß | I1: Info
A2: BA | B2: So | C2: Gü | D2: ST | E2: fm | F2: Stck | G2: SaSt. | H2: Sa.Güteklasse | I2: Bemerkungen
A3: Fi | B3: L | C3: A | D3: 3a | E3: {=SUM(IF(Nummerbuch!$B$5:$B$1171=A3,IF(Nummerbuch!$C$5:$C$1171=B3,IF(Nummerbuch!$D$5:$D$1171=C3,IF(Nummerbuch!$E$5:$E$1171=D3,Nummerbuch!$H$5:$H$1171,0),0),0),0))} -> 0 | F3: {=COUNT(Nummerbuch!$B$5:$B$1004,IF(Nummerbuch!$B$5:$B$1004=A3,IF(Nummerbuch!$D$5:$D$1004=C3,IF(Nummerbuch!$E$5:$E$1004=D3,0))))} -> 0
A4: Fi | B4: L | C4: A | D4: 3b | E4: {=SUM(IF(Nummerbuch!$B$5:$B$1171=A4,IF(Nummerbuch!$C$5:$C$1171=B4,IF(Nummerbuch!$D$5:$D$1171=C4,IF(Nummerbuch!$E$5:$E$1171=D4,Nummerbuch!$H$5:$H$1171,0),0),0),0))} -> 0 | F4: {=COUNT(Nummerbuch!$B$5:$B$1004,IF(Nummerbuch!$B$5:$B$1004=A4,IF(Nummerbuch!$D$5:$D$1004=C4,IF(Nummerbuch!$E$5:$E$1004=D4,0))))} -> 0
A5: Fi | B5: L | C5: A | D5: 4 | E5: {=SUM(IF(Nummerbuch!$B$5:$B$1171=A5,IF(Nummerbuch!$C$5:$C$1171=B5,IF(Nummerbuch!$D$5:$D$1171=C5,IF(Nummerbuch!$E$5:$E$1171=D5,Nummerbuch!$H$5:$H$1171,0),0),0),0))} -> 0 | F5: {=COUNT(Nummerbuch!$B$5:$B$1004,IF(Nummerbuch!$B$5:$B$1004=A5,IF(Nummerbuch!$D$5:$D$1004=C5,IF(Nummerbuch!$E$5:$E$1004=D5,0))))} -> 0
A6: Fi | B6: L | C6: A | D6: 5 | E6: {=SUM(IF(Nummerbuch!$B$5:$B$1171=A6,IF(Nummerbuch!$C$5:$C$1171=B6,IF(Nummerbuch!$D$5:$D$1171=C6,IF(Nummerbuch!$E$5:$E$1171=D6,Nummerbuch!$H$5:$H$1171,0),0),0),0))} -> 0 | F6: {=COUNT(Nummerbuch!$B$5:$B$1004,IF(Nummerbuch!$B$5:$B$1004=A6,IF(Nummerbuch!$D$5:$D$1004=C6,IF(Nummerbuch!$E$5:$E$1004=D6,0))))} -> 0
A7: Fi | B7: L | C7: A | D7: 6 | E7: {=SUM(IF(Nummerbuch!$B$5:$B$1171=A7,IF(Nummerbuch!$C$5:$C$1171=B7,IF(Nummerbuch!$D$5:$D$1171=C7,IF(Nummerbuch!$E$5:$E$1171=D7,Nummerbuch!$H$5:$H$1171,0),0),0),0))} -> 0 | F7: {=COUNT(Nummerbuch!$B$5:$B$1004,IF(Nummerbuch!$B$5:$B$1004=A7,IF(Nummerbuch!$D$5:$D$1004=C7,IF(Nummerbuch!$E$5:$E$1004=D7,0))))} -> 0 | G7: =SUM(F3:F7) -> 0 | H7: =SUM(E3:E7) -> 0
A8: Fi | B8: L | C8: B | D8: 1a | E8: {=SUM(IF(Nummerbuch!$B$5:$B$1171=A8,IF(Nummerbuch!$C$5:$C$1171=B8,IF(Nummerbuch!$D$5:$D$1171=C8,IF(Nummerbuch!$E$5:$E$1171=D8,Nummerbuch!$H$5:$H$1171,0),0),0),0))} -> 0 | F8: {=COUNT(Nummerbuch!$B$5:$B$1004,IF(Nummerbuch!$B$5:$B$1004=A8,IF(Nummerbuch!$D$5:$D$1004=C8,IF(Nummerbuch!$E$5:$E$1004=D8,0))))} -> 0
A9: Fi | B9: L | C9: B | D9: 1b1 | E9: {=SUM(IF(Nummerbuch!$B$5:$B$1171=A9,IF(Nummerbuch!$C$5:$C$1171=B9,IF(Nummerbuch!$D$5:$D$1171=C9,IF(Nummerbuch!$E$5:$E$1171=D9,Nummerbuch!$H$5:$H$1171,0),0),0),0))} -> 0.34 | F9: {=COUNT(Nummerbuch!$B$5:$B$1004,IF(Nummerbuch!$B$5:$B$1004=A9,IF(Nummerbuch!$D$5:$D$1004=C9,IF(Nummerbuch!$E$5:$E$1004=D9,0))))} -> 1
A10: Fi | B10: L | C10: B | D10: 1b2 | E10: {=SUM(IF(Nummerbuch!$B$5:$B$1171=A10,IF(Nummerbuch!$C$5:$C$1171=B10,IF(Nummerbuch!$D$5:$D$1171=C10,IF(Nummerbuch!$E$5:$E$1171=D10,Nummerbuch!$H$5:$H$1171,0),0),0),0))} -> 0 | F10: {=COUNT(Nummerbuch!$B$5:$B$1004,IF(Nummerbuch!$B$5:$B$1004=A10,IF(Nummerbuch!$D$5:$D$1004=C10,IF(Nummerbuch!$E$5:$E$1004=D10,0))))} -> 0
A11: Fi | B11: L | C11: B | D11: 2a | E11: {=SUM(IF(Nummerbuch!$B$5:$B$1171=A11,IF(Nummerbuch!$C$5:$C$1171=B11,IF(Nummerbuch!$D$5:$D$1171=C11,IF(Nummerbuch!$E$5:$E$1171=D11,Nummerbuch!$H$5:$H$1171,0),0),0),0))} -> 0.9 | F11: {=COUNT(Nummerbuch!$B$5:$B$1004,IF(Nummerbuch!$B$5:$B$1004=A11,IF(Nummerbuch!$D$5:$D$1004=C11,IF(Nummerbuch!$E$5:$E$1004=D11,0))))} -> 1
A12: Fi | B12: L | C12: B | D12: 2b | E12: {=SUM(IF(Nummerbuch!$B$5:$B$1171=A12,IF(Nummerbuch!$C$5:$C$1171=B12,IF(Nummerbuch!$D$5:$D$1171=C12,IF(Nummerbuch!$E$5:$E$1171=D12,Nummerbuch!$H$5:$H$1171,0),0),0),0))} -> 1.23 | F12: {=COUNT(Nummerbuch!$B$5:$B$1004,IF(Nummerbuch!$B$5:$B$1004=A12,IF(Nummerbuch!$D$5:$D$1004=C12,IF(Nummerbuch!$E$5:$E$1004=D12,0))))} -> 1
A13: Fi | B13: L | C13: B | D13: 3a | E13: {=SUM(IF(Nummerbuch!$B$5:$B$1171=A13,IF(Nummerbuch!$C$5:$C$1171=B13,IF(Nummerbuch!$D$5:$D$1171=C13,IF(Nummerbuch!$E$5:$E$1171=D13,Nummerbuch!$H$5:$H$1171,0),0),0),0))} -> 0 | F13: {=COUNT(Nummerbuch!$B$5:$B$1004,IF(Nummerbuch!$B$5:$B$1004=A13,IF(Nummerbuch!$D$5:$D$1004=C13,IF(Nummerbuch!$E$5:$E$1004=D13,0))))} -> 0
A14: Fi | B14: L | C14: B | D14: 3b | E14: {=SUM(IF(Nummerbuch!$B$5:$B$1171=A14,IF(Nummerbuch!$C$5:$C$1171=B14,IF(Nummerbuch!$D$5:$D$1171=C14,IF(Nummerbuch!$E$5:$E$1171=D14,Nummerbuch!$H$5:$H$1171,0),0),0),0))} -> 0 | F14: {=COUNT(Nummerbuch!$B$5:$B$1004,IF(Nummerbuch!$B$5:$B$1004=A14,IF(Nummerbuch!$D$5:$D$1004=C14,IF(Nummerbuch!$E$5:$E$1004=D14,0))))} -> 0
A15: Fi | B15: L | C15: B | D15: 4 | E15: {=SUM(IF(Nummerbuch!$B$5:$B$1171=A15,IF(Nummerbuch!$C$5:$C$1171=B15,IF(Nummerbuch!$D$5:$D$1171=C15,IF(Nummerbuch!$E$5:$E$1171=D15,Nummerbuch!$H$5:$H$1171,0),0),0),0))} -> 0 | F15: {=COUNT(Nummerbuch!$B$5:$B$1004,IF(Nummerbuch!$B$5:$B$1004=A15,IF(Nummerbuch!$D$5:$D$1004=C15,IF(Nummerbuch!$E$5:$E$1004=D15,0))))} -> 0
A16: Fi | B16: L | C16: B | D16: 5 | E16: {=SUM(IF(Nummerbuch!$B$5:$B$1171=A16,IF(Nummerbuch!$C$5:$C$1171=B16,IF(Nummerbuch!$D$5:$D$1171=C16,IF(Nummerbuch!$E$5:$E$1171=D16,Nummerbuch!$H$5:$H$1171,0),0),0),0))} -> 0 | F16: {=COUNT(Nummerbuch!$B$5:$B$1004,IF(Nummerbuch!$B$5:$B$1004=A16,IF(Nummerbuch!$D$5:$D$1004=C16,IF(Nummerbuch!$E$5:$E$1004=D16,0))))} -> 0
A17: Fi | B17: L | C17: B | D17: 6 | E17: {=SUM(IF(Nummerbuch!$B$5:$B$1171=A17,IF(Nummerbuch!$C$5:$C$1171=B17,IF(Nummerbuch!$D$5:$D$1171=C17,IF(Nummerbuch!$E$5:$E$1171=D17,Nummerbuch!$H$5:$H$1171,0),0),0),0))} -> 0 | F17: {=COUNT(Nummerbuch!$B$5:$B$1004,IF(Nummerbuch!$B$5:$B$1004=A17,IF(Nummerbuch!$D$5:$D$1004=C17,IF(Nummerbuch!$E$5:$E$1004=D17,0))))} -> 0 | G17: =SUM(F8:F17) -> 3 | H17: =SUM(E8:E17) -> 2.47
A18: Fi | B18: L | C18: C | D18: 1a | E18: {=SUM(IF(Nummerbuch!$B$5:$B$1171=A18,IF(Nummerbuch!$C$5:$C$1171=B18,IF(Nummerbuch!$D$5:$D$1171=C18,IF(Nummerbuch!$E$5:$E$1171=D18,Nummerbuch!$H$5:$H$1171,0),0),0),0))} -> 0 | F18: {=COUNT(Nummerbuch!$B$5:$B$1004,IF(Nummerbuch!$B$5:$B$1004=A18,IF(Nummerbuch!$D$5:$D$1004=C18,IF(Nummerbuch!$E$5:$E$1004=D18,0))))} -> 0
A19: Fi | B19: L | C19: C | D19: 1b1 | E19: {=SUM(IF(Nummerbuch!$B$5:$B$1171=A19,IF(Nummerbuch!$C$5:$C$1171=B19,IF(Nummerbuch!$D$5:$D$1171=C19,IF(Nummerbuch!$E$5:$E$1171=D19,Nummerbuch!$H$5:$H$1171,0),0),0),0))} -> 0 | F19: {=COUNT(Nummerbuch!$B$5:$B$1004,IF(Nummerbuch!$B$5:$B$1004=A19,IF(Nummerbuch!$D$5:$D$1004=C19,IF(Nummerbuch!$E$5:$E$1004=D19,0))))} -> 0
A20: Fi | B20: L | C20: C | D20: 1b2 | E20: {=SUM(IF(Nummerbuch!$B$5:$B$1171=A20,IF(Nummerbuch!$C$5:$C$1171=B20,IF(Nummerbuch!$D$5:$D$1171=C20,IF(Nummerbuch!$E$5:$E$1171=D20,Nummerbuch!$H$5:$H$1171,0),0),0),0))} -> 0 | F20: {=COUNT(Nummerbuch!$B$5:$B$1004,IF(Nummerbuch!$B$5:$B$1004=A20,IF(Nummerbuch!$D$5:$D$1004=C20,IF(Nummerbuch!$E$5:$E$1004=D20,0))))} -> 0
A21: Fi | B21: L | C21: C | D21: 2a | E21: {=SUM(IF(Nummerbuch!$B$5:$B$1171=A21,IF(Nummerbuch!$C$5:$C$1171=B21,IF(Nummerbuch!$D$5:$D$1171=C21,IF(Nummerbuch!$E$5:$E$1171=D21,Nummerbuch!$H$5:$H$1171,0),0),0),0))} -> 0 | F21: {=COUNT(Nummerbuch!$B$5:$B$1004,IF(Nummerbuch!$B$5:$B$1004=A21,IF(Nummerbuch!$D$5:$D$1004=C21,IF(Nummerbuch!$E$5:$E$1004=D21,0))))} -> 0
A22: Fi | B22: L | C22: C | D22: 2b | E22: {=SUM(IF(Nummerbuch!$B$5:$B$1171=A22,IF(Nummerbuch!$C$5:$C$1171=B22,IF(Nummerbuch!$D$5:$D$1171=C22,IF(Nummerbuch!$E$5:$E$1171=D22,Nummerbuch!$H$5:$H$1171,0),0),0),0))} -> 1.11 | F22: {=COUNT(Nummerbuch!$B$5:$B$1004,IF(Nummerbuch!$B$5:$B$1004=A22,IF(Nummerbuch!$D$5:$D$1004=C22,IF(Nummerbuch!$E$5:$E$1004=D22,0))))} -> 1
A23: Fi | B23: L | C23: C | D23: 3a | E23: {=SUM(IF(Nummerbuch!$B$5:$B$1171=A23,IF(Nummerbuch!$C$5:$C$1171=B23,IF(Nummerbuch!$D$5:$D$1171=C23,IF(Nummerbuch!$E$5:$E$1171=D23,Nummerbuch!$H$5:$H$1171,0),0),0),0))} -> 1.66 | F23: {=COUNT(Nummerbuch!$B$5:$B$1004,IF(Nummerbuch!$B$5:$B$1004=A23,IF(Nummerbuch!$D$5:$D$1004=C23,IF(Nummerbuch!$E$5:$E$1004=D23,0))))} -> 1
A24: Fi | B24: L | C24: C | D24: 3b | E24: {=SUM(IF(Nummerbuch!$B$5:$B$1171=A24,IF(Nummerbuch!$C$5:$C$1171=B24,IF(Nummerbuch!$D$5:$D$1171=C24,IF(Nummerbuch!$E$5:$E$1171=D24,Nummerbuch!$H$5:$H$1171,0),0),0),0))} -> 0 | F24: {=COUNT(Nummerbuch!$B$5:$B$1004,IF(Nummerbuch!$B$5:$B$1004=A24,IF(Nummerbuch!$D$5:$D$1004=C24,IF(Nummerbuch!$E$5:$E$1004=D24,0))))} -> 0
A25: Fi | B25: L | C25: C | D25: 4 | E25: {=SUM(IF(Nummerbuch!$B$5:$B$1171=A25,IF(Nummerbuch!$C$5:$C$1171=B25,IF(Nummerbuch!$D$5:$D$1171=C25,IF(Nummerbuch!$E$5:$E$1171=D25,Nummerbuch!$H$5:$H$1171,0),0),0),0))} -> 0 | F25: {=COUNT(Nummerbuch!$B$5:$B$1004,IF(Nummerbuch!$B$5:$B$1004=A25,IF(Nummerbuch!$D$5:$D$1004=C25,IF(Nummerbuch!$E$5:$E$1004=D25,0))))} -> 0
A26: Fi | B26: L | C26: C | D26: 5 | E26: {=SUM(IF(Nummerbuch!$B$5:$B$1171=A26,IF(Nummerbuch!$C$5:$C$1171=B26,IF(Nummerbuch!$D$5:$D$1171=C26,IF(Nummerbuch!$E$5:$E$1171=D26,Nummerbuch!$H$5:$H$1171,0),0),0),0))} -> 0 | F26: {=COUNT(Nummerbuch!$B$5:$B$1004,IF(Nummerbuch!$B$5:$B$1004=A26,IF(Nummerbuch!$D$5:$D$1004=C26,IF(Nummerbuch!$E$5:$E$1004=D26,0))))} -> 0
A27: Fi | B27: L | C27: C | D27: 6 | E27: {=SUM(IF(Nummerbuch!$B$5:$B$1171=A27,IF(Nummerbuch!$C$5:$C$1171=B27,IF(Nummerbuch!$D$5:$D$1171=C27,IF(Nummerbuch!$E$5:$E$1171=D27,Nummerbuch!$H$5:$H$1171,0),0),0),0))} -> 0 | F27: {=COUNT(Nummerbuch!$B$5:$B$1004,IF(Nummerbuch!$B$5:$B$1004=A27,IF(Nummerbuch!$D$5:$D$1004=C27,IF(Nummerbuch!$E$5:$E$1004=D27,0))))} -> 0 | G27: =SUM(F18:F27) -> 2 | H27: =SUM(E18:E27) -> 2.77
A28: Fi | B28: L | C28: D | D28: 1a | E28: {=SUM(IF(Nummerbuch!$B$5:$B$1171=A28,IF(Nummerbuch!$C$5:$C$1171=B28,IF(Nummerbuch!$D$5:$D$1171=C28,IF(Nummerbuch!$E$5:$E$1171=D28,Nummerbuch!$H$5:$H$1171,0),0),0),0))} -> 0 | F28: {=COUNT(Nummerbuch!$B$5:$B$1004,IF(Nummerbuch!$B$5:$B$1004=A28,IF(Nummerbuch!$D$5:$D$1004=C28,IF(Nummerbuch!$E$5:$E$1004=D28,0))))} -> 0
A29: Fi | B29: L | C29: D | D29: 1b1 | E29: {=SUM(IF(Nummerbuch!$B$5:$B$1171=A29,IF(Nummerbuch!$C$5:$C$1171=B29,IF(Nummerbuch!$D$5:$D$1171=C29,IF(Nummerbuch!$E$5:$E$1171=D29,Nummerbuch!$H$5:$H$1171,0),0),0),0))} -> 0 | F29: {=COUNT(Nummerbuch!$B$5:$B$1004,IF(Nummerbuch!$B$5:$B$1004=A29,IF(Nummerbuch!$D$5:$D$1004=C29,IF(Nummerbuch!$E$5:$E$1004=D29,0))))} -> 0
A30: Fi | B30: L | C30: D | D30: 1b2 | E30: {=SUM(IF(Nummerbuch!$B$5:$B$1171=A30,IF(Nummerbuch!$C$5:$C$1171=B30,IF(Nummerbuch!$D$5:$D$1171=C30,IF(Nummerbuch!$E$5:$E$1171=D30,Nummerbuch!$H$5:$H$1171,0),0),0),0))} -> 0 | F30: {=COUNT(Nummerbuch!$B$5:$B$1004,IF(Nummerbuch!$B$5:$B$1004=A30,IF(Nummerbuch!$D$5:$D$1004=C30,IF(Nummerbuch!$E$5:$E$1004=D30,0))))} -> 0
A31: Fi | B31: L | C31: D | D31: 2a | E31: {=SUM(IF(Nummerbuch!$B$5:$B$1171=A31,IF(Nummerbuch!$C$5:$C$1171=B31,IF(Nummerbuch!$D$5:$D$1171=C31,IF(Nummerbuch!$E$5:$E$1171=D31,Nummerbuch!$H$5:$H$1171,0),0),0),0))} -> 0 | F31: {=COUNT(Nummerbuch!$B$5:$B$1004,IF(Nummerbuch!$B$5:$B$1004=A31,IF(Nummerbuch!$D$5:$D$1004=C31,IF(Nummerbuch!$E$5:$E$1004=D31,0))))} -> 0
A32: Fi | B32: L | C32: D | D32: 2b | E32: {=SUM(IF(Nummerbuch!$B$5:$B$1171=A32,IF(Nummerbuch!$C$5:$C$1171=B32,IF(Nummerbuch!$D$5:$D$1171=C32,IF(Nummerbuch!$E$5:$E$1171=D32,Nummerbuch!$H$5:$H$1171,0),0),0),0))} -> 0 | F32: {=COUNT(Nummerbuch!$B$5:$B$1004,IF(Nummerbuch!$B$5:$B$1004=A32,IF(Nummerbuch!$D$5:$D$1004=C32,IF(Nummerbuch!$E$5:$E$1004=D32,0))))} -> 0
A33: Fi | B33: L | C33: D | D33: 3a | E33: {=SUM(IF(Nummerbuch!$B$5:$B$1171=A33,IF(Nummerbuch!$C$5:$C$1171=B33,IF(Nummerbuch!$D$5:$D$1171=C33,IF(Nummerbuch!$E$5:$E$1171=D33,Nummerbuch!$H$5:$H$1171,0),0),0),0))} -> 0 | F33: {=COUNT(Nummerbuch!$B$5:$B$1004,IF(Nummerbuch!$B$5:$B$1004=A33,IF(Nummerbuch!$D$5:$D$1004=C33,IF(Nummerbuch!$E$5:$E$1004=D33,0))))} -> 0
A34: Fi | B34: L | C34: D | D34: 3b | E34: {=SUM(IF(Nummerbuch!$B$5:$B$1171=A34,IF(Nummerbuch!$C$5:$C$1171=B34,IF(Nummerbuch!$D$5:$D$1171=C34,IF(Nummerbuch!$E$5:$E$1171=D34,Nummerbuch!$H$5:$H$1171,0),0),0),0))} -> 0 | F34: {=COUNT(Nummerbuch!$B$5:$B$1004,IF(Nummerbuch!$B$5:$B$1004=A34,IF(Nummerbuch!$D$5:$D$1004=C34,IF(Nummerbuch!$E$5:$E$1004=D34,0))))} -> 0
A35: Fi | B35: L | C35: D | D35: 4 | E35: {=SUM(IF(Nummerbuch!$B$5:$B$1171=A35,IF(Nummerbuch!$C$5:$C$1171=B35,IF(Nummerbuch!$D$5:$D$1171=C35,IF(Nummerbuch!$E$5:$E$1171=D35,Nummerbuch!$H$5:$H$1171,0),0),0),0))} -> 0 | F35: {=COUNT(Nummerbuch!$B$5:$B$1004,IF(Nummerbuch!$B$5:$B$1004=A35,IF(Nummerbuch!$D$5:$D$1004=C35,IF(Nummerbuch!$E$5:$E$1004=D35,0))))} -> 0
A36: Fi | B36: L | C36: D | D36: 5 | E36: {=SUM(IF(Nummerbuch!$B$5:$B$1171=A36,IF(Nummerbuch!$C$5:$C$1171=B36,IF(Nummerbuch!$D$5:$D$1171=C36,IF(Nummerbuch!$E$5:$E$1171=D36,Nummerbuch!$H$5:$H$1171,0),0),0),0))} -> 0 | F36: {=COUNT(Nummerbuch!$B$5:$B$1004,IF(Nummerbuch!$B$5:$B$1004=A36,IF(Nummerbuch!$D$5:$D$1004=C36,IF(Nummerbuch!$E$5:$E$1004=D36,0))))} -> 0
A37: Fi | B37: L | C37: D | D37: 6 | E37: {=SUM(IF(Nummerbuch!$B$5:$B$1171=A37,IF(Nummerbuch!$C$5:$C$1171=B37,IF(Nummerbuch!$D$5:$D$1171=C37,IF(Nummerbuch!$E$5:$E$1171=D37,Nummerbuch!$H$5:$H$1171,0),0),0),0))} -> 0 | F37: {=COUNT(Nummerbuch!$B$5:$B$1004,IF(Nummerbuch!$B$5:$B$1004=A37,IF(Nummerbuch!$D$5:$D$1004=C37,IF(Nummerbuch!$E$5:$E$1004=D37,0))))} -> 0 | G37: =SUM(F28:F37) -> 0 | H37: =SUM(E28:E37) -> 0
A38: Fi | B38: L | C38: OA | D38: 1a | E38: {=SUM(IF(Nummerbuch!$B$5:$B$1171=A38,IF(Nummerbuch!$C$5:$C$1171=B38,IF(Nummerbuch!$D$5:$D$1171=C38,IF(Nummerbuch!$E$5:$E$1171=D38,Nummerbuch!$H$5:$H$1171,0),0),0),0))} -> 0 | F38: {=COUNT(Nummerbuch!$B$5:$B$1004,IF(Nummerbuch!$B$5:$B$1004=A38,IF(Nummerbuch!$D$5:$D$1004=C38,IF(Nummerbuch!$E$5:$E$1004=D38,0))))} -> 0
A39: Fi | B39: L | C39: OA | D39: 1b1 | E39: {=SUM(IF(Nummerbuch!$B$5:$B$1171=A39,IF(Nummerbuch!$C$5:$C$1171=B39,IF(Nummerbuch!$D$5:$D$1171=C39,IF(Nummerbuch!$E$5:$E$1171=D39,Nummerbuch!$H$5:$H$1171,0),0),0),0))} -> 0 | F39: {=COUNT(Nummerbuch!$B$5:$B$1004,IF(Nummerbuch!$B$5:$B$1004=A39,IF(Nummerbuch!$D$5:$D$1004=C39,IF(Nummerbuch!$E$5:$E$1004=D39,0))))} -> 0
A40: Fi | B40: L | C40: OA | D40: 1b2 | E40: {=SUM(IF(Nummerbuch!$B$5:$B$1171=A40,IF(Nummerbuch!$C$5:$C$1171=B40,IF(Nummerbuch!$D$5:$D$1171=C40,IF(Nummerbuch!$E$5:$E$1171=D40,Nummerbuch!$H$5:$H$1171,0),0),0),0))} -> 0 | F40: {=COUNT(Nummerbuch!$B$5:$B$1004,IF(Nummerbuch!$B$5:$B$1004=A40,IF(Nummerbuch!$D$5:$D$1004=C40,IF(Nummerbuch!$E$5:$E$1004=D40,0))))} -> 0
A41: Fi | B41: L | C41: OA | D41: 2a | E41: {=SUM(IF(Nummerbuch!$B$5:$B$1171=A41,IF(Nummerbuch!$C$5:$C$1171=B41,IF(Nummerbuch!$D$5:$D$1171=C41,IF(Nummerbuch!$E$5:$E$1171=D41,Nummerbuch!$H$5:$H$1171,0),0),0),0))} -> 0 | F41: {=COUNT(Nummerbuch!$B$5:$B$1004,IF(Nummerbuch!$B$5:$B$1004=A41,IF(Nummerbuch!$D$5:$D$1004=C41,IF(Nummerbuch!$E$5:$E$1004=D41,0))))} -> 0
A42: Fi | B42: L | C42: OA | D42: 2b | E42: {=SUM(IF(Nummerbuch!$B$5:$B$1171=A42,IF(Nummerbuch!$C$5:$C$1171=B42,IF(Nummerbuch!$D$5:$D$1171=C42,IF(Nummerbuch!$E$5:$E$1171=D42,Nummerbuch!$H$5:$H$1171,0),0),0),0))} -> 0 | F42: {=COUNT(Nummerbuch!$B$5:$B$1004,IF(Nummerbuch!$B$5:$B$1004=A42,IF(Nummerbuch!$D$5:$D$1004=C42,IF(Nummerbuch!$E$5:$E$1004=D42,0))))} -> 0
A43: Fi | B43: L | C43: OA | D43: 3a | E43: {=SUM(IF(Nummerbuch!$B$5:$B$1171=A43,IF(Nummerbuch!$C$5:$C$1171=B43,IF(Nummerbuch!$D$5:$D$1171=C43,IF(Nummerbuch!$E$5:$E$1171=D43,Nummerbuch!$H$5:$H$1171,0),0),0),0))} -> 0 | F43: {=COUNT(Nummerbuch!$B$5:$B$1004,IF(Nummerbuch!$B$5:$B$1004=A43,IF(Nummerbuch!$D$5:$D$1004=C43,IF(Nummerbuch!$E$5:$E$1004=D43,0))))} -> 0
A44: Fi | B44: L | C44: OA | D44: 3b | E44: {=SUM(IF(Nummerbuch!$B$5:$B$1171=A44,IF(Nummerbuch!$C$5:$C$1171=B44,IF(Nummerbuch!$D$5:$D$1171=C44,IF(Nummerbuch!$E$5:$E$1171=D44,Nummerbuch!$H$5:$H$1171,0),0),0),0))} -> 0 | F44: {=COUNT(Nummerbuch!$B$5:$B$1004,IF(Nummerbuch!$B$5:$B$1004=A44,IF(Nummerbuch!$D$5:$D$1004=C44,IF(Nummerbuch!$E$5:$E$1004=D44,0))))} -> 0
A45: Fi | B45: L | C45: OA | D45: 4 | E45: {=SUM(IF(Nummerbuch!$B$5:$B$1171=A45,IF(Nummerbuch!$C$5:$C$1171=B45,IF(Nummerbuch!$D$5:$D$1171=C45,IF(Nummerbuch!$E$5:$E$1171=D45,Nummerbuch!$H$5:$H$1171,0),0),0),0))} -> 0 | F45: {=COUNT(Nummerbuch!$B$5:$B$1004,IF(Nummerbuch!$B$5:$B$1004=A45,IF(Nummerbuch!$D$5:$D$1004=C45,IF(Nummerbuch!$E$5:$E$1004=D45,0))))} -> 0
A46: Fi | B46: L | C46: OA | D46: 5 | E46: {=SUM(IF(Nummerbuch!$B$5:$B$1171=A46,IF(Nummerbuch!$C$5:$C$1171=B46,IF(Nummerbuch!$D$5:$D$1171=C46,IF(Nummerbuch!$E$5:$E$1171=D46,Nummerbuch!$H$5:$H$1171,0),0),0),0))} -> 0 | F46: {=COUNT(Nummerbuch!$B$5:$B$1004,IF(Nummerbuch!$B$5:$B$1004=A46,IF(Nummerbuch!$D$5:$D$1004=C46,IF(Nummerbuch!$E$5:$E$1004=D46,0))))} -> 0
A47: Fi | B47: L | C47: OA | D47: 6 | E47: {=SUM(IF(Nummerbuch!$B$5:$B$1171=A47,IF(Nummerbuch!$C$5:$C$1171=B47,IF(Nummerbuch!$D$5:$D$1171=C47,IF(Nummerbuch!$E$5:$E$1171=D47,Nummerbuch!$H$5:$H$1171,0),0),0),0))} -> 0 | F47: {=COUNT(Nummerbuch!$B$5:$B$1004,IF(Nummerbuch!$B$5:$B$1004=A47,IF(Nummerbuch!$D$5:$D$1004=C47,IF(Nummerbuch!$E$5:$E$1004=D47,0))))} -> 0 | G47: =SUM(F38:F47) -> 0 | H47: =SUM(E38:E46) -> 0
A48: Ta | B48: L | C48: A | D48: 2b | E48: {=SUM(IF(Nummerbuch!$B$5:$B$1171=A48,IF(Nummerbuch!$C$5:$C$1171=B48,IF(Nummerbuch!$D$5:$D$1171=C48,IF(Nummerbuch!$E$5:$E$1171=D48,Nummerbuch!$H$5:$H$1171,0),0),0),0))} -> 0 | F48: {=COUNT(Nummerbuch!$B$5:$B$1004,IF(Nummerbuch!$B$5:$B$1004=A48,IF(Nummerbuch!$D$5:$D$1004=C48,IF(Nummerbuch!$E$5:$E$1004=D48,0))))} -> 0
A49: Ta | B49: L | C49: A | D49: 3a | E49: {=SUM(IF(Nummerbuch!$B$5:$B$1171=A49,IF(Nummerbuch!$C$5:$C$1171=B49,IF(Nummerbuch!$D$5:$D$1171=C49,IF(Nummerbuch!$E$5:$E$1171=D49,Nummerbuch!$H$5:$H$1171,0),0),0),0))} -> 0 | F49: {=COUNT(Nummerbuch!$B$5:$B$1004,IF(Nummerbuch!$B$5:$B$1004=A49,IF(Nummerbuch!$D$5:$D$1004=C49,IF(Nummerbuch!$E$5:$E$1004=D49,0))))} -> 0
A50: Ta | B50: L | C50: A | D50: 3b | E50: {=SUM(IF(Nummerbuch!$B$5:$B$1171=A50,IF(Nummerbuch!$C$5:$C$1171=B50,IF(Nummerbuch!$D$5:$D$1171=C50,IF(Nummerbuch!$E$5:$E$1171=D50,Nummerbuch!$H$5:$H$1171,0),0),0),0))} -> 0 | F50: {=COUNT(Nummerbuch!$B$5:$B$1004,IF(Nummerbuch!$B$5:$B$1004=A50,IF(Nummerbuch!$D$5:$D$1004=C50,IF(Nummerbuch!$E$5:$E$1004=D50,0))))} -> 0
A51: Ta | B51: L | C51: A | D51: 4 | E51: {=SUM(IF(Nummerbuch!$B$5:$B$1171=A51,IF(Nummerbuch!$C$5:$C$1171=B51,IF(Nummerbuch!$D$5:$D$1171=C51,IF(Nummerbuch!$E$5:$E$1171=D51,Nummerbuch!$H$5:$H$1171,0),0),0),0))} -> 0 | F51: {=COUNT(Nummerbuch!$B$5:$B$1004,IF(Nummerbuch!$B$5:$B$1004=A51,IF(Nummerbuch!$D$5:$D$1004=C51,IF(Nummerbuch!$E$5:$E$1004=D51,0))))} -> 0
A52: Ta | B52: L | C52: A | D52: 5 | E52: {=SUM(IF(Nummerbuch!$B$5:$B$1171=A52,IF(Nummerbuch!$C$5:$C$1171=B52,IF(Nummerbuch!$D$5:$D$1171=C52,IF(Nummerbuch!$E$5:$E$1171=D52,Nummerbuch!$H$5:$H$1171,0),0),0),0))} -> 0 | F52: {=COUNT(Nummerbuch!$B$5:$B$1004,IF(Nummerbuch!$B$5:$B$1004=A52,IF(Nummerbuch!$D$5:$D$1004=C52,IF(Nummerbuch!$E$5:$E$1004=D52,0))))} -> 0
A53: Ta | B53: L | C53: A | D53: 6 | E53: {=SUM(IF(Nummerbuch!$B$5:$B$1171=A53,IF(Nummerbuch!$C$5:$C$1171=B53,IF(Nummerbuch!$D$5:$D$1171=C53,IF(Nummerbuch!$E$5:$E$1171=D53,Nummerbuch!$H$5:$H$1171,0),0),0),0))} -> 0 | F53: {=COUNT(Nummerbuch!$B$5:$B$1004,IF(Nummerbuch!$B$5:$B$1004=A53,IF(Nummerbuch!$D$5:$D$1004=C53,IF(Nummerbuch!$E$5:$E$1004=D53,0))))} -> 0 | G53: =SUM(F48:F53) -> 0 | H53: =SUM(E48:E53) -> 0
A54: Ta | B54: L | C54: B | D54: 1a | E54: {=SUM(IF(Nummerbuch!$B$5:$B$1171=A54,IF(Nummerbuch!$C$5:$C$1171=B54,IF(Nummerbuch!$D$5:$D$1171=C54,IF(Nummerbuch!$E$5:$E$1171=D54,Nummerbuch!$H$5:$H$1171,0),0),0),0))} -> 0 | F54: {=COUNT(Nummerbuch!$B$5:$B$1004,IF(Nummerbuch!$B$5:$B$1004=A54,IF(Nummerbuch!$D$5:$D$1004=C54,IF(Nummerbuch!$E$5:$E$1004=D54,0))))} -> 0
A55: Ta | B55: L | C55: B | D55: 1b1 | E55: {=SUM(IF(Nummerbuch!$B$5:$B$1171=A55,IF(Nummerbuch!$C$5:$C$1171=B55,IF(Nummerbuch!$D$5:$D$1171=C55,IF(Nummerbuch!$E$5:$E$1171=D55,Nummerbuch!$H$5:$H$1171,0),0),0),0))} -> 0 | F55: {=COUNT(Nummerbuch!$B$5:$B$1004,IF(Nummerbuch!$B$5:$B$1004=A55,IF(Nummerbuch!$D$5:$D$1004=C55,IF(Nummerbuch!$E$5:$E$1004=D55,0))))} -> 0
A56: Ta | B56: L | C56: B | D56: 1b2 | E56: {=SUM(IF(Nummerbuch!$B$5:$B$1171=A56,IF(Nummerbuch!$C$5:$C$1171=B56,IF(Nummerbuch!$D$5:$D$1171=C56,IF(Nummerbuch!$E$5:$E$1171=D56,Nummerbuch!$H$5:$H$1171,0),0),0),0))} -> 0 | F56: {=COUNT(Nummerbuch!$B$5:$B$1004,IF(Nummerbuch!$B$5:$B$1004=A56,IF(Nummerbuch!$D$5:$D$1004=C56,IF(Nummerbuch!$E$5:$E$1004=D56,0))))} -> 0
A57: Ta | B57: L | C57: B | D57: 2a | E57: {=SUM(IF(Nummerbuch!$B$5:$B$1171=A57,IF(Nummerbuch!$C$5:$C$1171=B57,IF(Nummerbuch!$D$5:$D$1171=C57,IF(Nummerbuch!$E$5:$E$1171=D57,Nummerbuch!$H$5:$H$1171,0),0),0),0))} -> 0.53 | F57: {=COUNT(Nummerbuch!$B$5:$B$1004,IF(Nummerbuch!$B$5:$B$1004=A57,IF(Nummerbuch!$D$5:$D$1004=C57,IF(Nummerbuch!$E$5:$E$1004=D57,0))))} -> 1
A58: Ta | B58: L | C58: B | D58: 2b | E58: {=SUM(IF(Nummerbuch!$B$5:$B$1171=A58,IF(Nummerbuch!$C$5:$C$1171=B58,IF(Nummerbuch!$D$5:$D$1171=C58,IF(Nummerbuch!$E$5:$E$1171=D58,Nummerbuch!$H$5:$H$1171,0),0),0),0))} -> 0 | F58: {=COUNT(Nummerbuch!$B$5:$B$1004,IF(Nummerbuch!$B$5:$B$1004=A58,IF(Nummerbuch!$D$5:$D$1004=C58,IF(Nummerbuch!$E$5:$E$1004=D58,0))))} -> 0
A59: Ta | B59: L | C59: B | D59: 3a | E59: {=SUM(IF(Nummerbuch!$B$5:$B$1171=A59,IF(Nummerbuch!$C$5:$C$1171=B59,IF(Nummerbuch!$D$5:$D$1171=C59,IF(Nummerbuch!$E$5:$E$1171=D59,Nummerbuch!$H$5:$H$1171,0),0),0),0))} -> 0 | F59: {=COUNT(Nummerbuch!$B$5:$B$1004,IF(Nummerbuch!$B$5:$B$1004=A59,IF(Nummerbuch!$D$5:$D$1004=C59,IF(Nummerbuch!$E$5:$E$1004=D59,0))))} -> 0
A60: Ta | B60: L | C60: B | D60: 3b | E60: {=SUM(IF(Nummerbuch!$B$5:$B$1171=A60,IF(Nummerbuch!$C$5:$C$1171=B60,IF(Nummerbuch!$D$5:$D$1171=C60,IF(Nummerbuch!$E$5:$E$1171=D60,Nummerbuch!$H$5:$H$1171,0),0),0),0))} -> 0 | F60: {=COUNT(Nummerbuch!$B$5:$B$1004,IF(Nummerbuch!$B$5:$B$1004=A60,IF(Nummerbuch!$D$5:$D$1004=C60,IF(Nummerbuch!$E$5:$E$1004=D60,0))))} -> 0
A61: Ta | B61: L | C61: B | D61: 4 | E61: {=SUM(IF(Nummerbuch!$B$5:$B$1171=A61,IF(Nummerbuch!$C$5:$C$1171=B61,IF(Nummerbuch!$D$5:$D$1171=C61,IF(Nummerbuch!$E$5:$E$1171=D61,Nummerbuch!$H$5:$H$1171,0),0),0),0))} -> 0 | F61: {=COUNT(Nummerbuch!$B$5:$B$1004,IF(Nummerbuch!$B$5:$B$1004=A61,IF(Nummerbuch!$D$5:$D$1004=C61,IF(Nummerbuch!$E$5:$E$1004=D61,0))))} -> 0
A62: Ta | B62: L | C62: B | D62: 5 | E62: {=SUM(IF(Nummerbuch!$B$5:$B$1171=A62,IF(Nummerbuch!$C$5:$C$1171=B62,IF(Nummerbuch!$D$5:$D$1171=C62,IF(Nummerbuch!$E$5:$E$1171=D62,Nummerbuch!$H$5:$H$1171,0),0),0),0))} -> 0 | F62: {=COUNT(Nummerbuch!$B$5:$B$1004,IF(Nummerbuch!$B$5:$B$1004=A62,IF(Nummerbuch!$D$5:$D$1004=C62,IF(Nummerbuch!$E$5:$E$1004=D62,0))))} -> 0
A63: Ta | B63: L | C63: B | D63: 6 | E63: {=SUM(IF(Nummerbuch!$B$5:$B$1171=A63,IF(Nummerbuch!$C$5:$C$1171=B63,IF(Nummerbuch!$D$5:$D$1171=C63,IF(Nummerbuch!$E$5:$E$1171=D63,Nummerbuch!$H$5:$H$1171,0),0),0),0))} -> 0 | F63: {=COUNT(Nummerbuch!$B$5:$B$1004,IF(Nummerbuch!$B$5:$B$1004=A63,IF(Nummerbuch!$D$5:$D$1004=C63,IF(Nummerbuch!$E$5:$E$1004=D63,0))))} -> 0 | G63: =SUM(F54:F63) -> 1 | H63: =SUM(E54:E63) -> 0.53
A64: Ta | B64: L | C64: C | D64: 1a | E64: {=SUM(IF(Nummerbuch!$B$5:$B$1171=A64,IF(Nummerbuch!$C$5:$C$1171=B64,IF(Nummerbuch!$D$5:$D$1171=C64,IF(Nummerbuch!$E$5:$E$1171=D64,Nummerbuch!$H$5:$H$1171,0),0),0),0))} -> 0 | F64: {=COUNT(Nummerbuch!$B$5:$B$1004,IF(Nummerbuch!$B$5:$B$1004=A64,IF(Nummerbuch!$D$5:$D$1004=C64,IF(Nummerbuch!$E$5:$E$1004=D64,0))))} -> 0
A65: Ta | B65: L | C65: C | D65: 1b1 | E65: {=SUM(IF(Nummerbuch!$B$5:$B$1171=A65,IF(Nummerbuch!$C$5:$C$1171=B65,IF(Nummerbuch!$D$5:$D$1171=C65,IF(Nummerbuch!$E$5:$E$1171=D65,Nummerbuch!$H$5:$H$1171,0),0),0),0))} -> 0 | F65: {=COUNT(Nummerbuch!$B$5:$B$1004,IF(Nummerbuch!$B$5:$B$1004=A65,IF(Nummerbuch!$D$5:$D$1004=C65,IF(Nummerbuch!$E$5:$E$1004=D65,0))))} -> 0
A66: Ta | B66: L | C66: C | D66: 1b2 | E66: {=SUM(IF(Nummerbuch!$B$5:$B$1171=A66,IF(Nummerbuch!$C$5:$C$1171=B66,IF(Nummerbuch!$D$5:$D$1171=C66,IF(Nummerbuch!$E$5:$E$1171=D66,Nummerbuch!$H$5:$H$1171,0),0),0),0))} -> 0 | F66: {=COUNT(Nummerbuch!$B$5:$B$1004,IF(Nummerbuch!$B$5:$B$1004=A66,IF(Nummerbuch!$D$5:$D$1004=C66,IF(Nummerbuch!$E$5:$E$1004=D66,0))))} -> 0
A67: Ta | B67: L | C67: C | D67: 2a | E67: {=SUM(IF(Nummerbuch!$B$5:$B$1171=A67,IF(Nummerbuch!$C$5:$C$1171=B67,IF(Nummerbuch!$D$5:$D$1171=C67,IF(Nummerbuch!$E$5:$E$1171=D67,Nummerbuch!$H$5:$H$1171,0),0),0),0))} -> 0 | F67: {=COUNT(Nummerbuch!$B$5:$B$1004,IF(Nummerbuch!$B$5:$B$1004=A67,IF(Nummerbuch!$D$5:$D$1004=C67,IF(Nummerbuch!$E$5:$E$1004=D67,0))))} -> 0
A68: Ta | B68: L | C68: C | D68: 2b | E68: {=SUM(IF(Nummerbuch!$B$5:$B$1171=A68,IF(Nummerbuch!$C$5:$C$1171=B68,IF(Nummerbuch!$D$5:$D$1171=C68,IF(Nummerbuch!$E$5:$E$1171=D68,Nummerbuch!$H$5:$H$1171,0),0),0),0))} -> 0 | F68: {=COUNT(Nummerbuch!$B$5:$B$1004,IF(Nummerbuch!$B$5:$B$1004=A68,IF(Nummerbuch!$D$5:$D$1004=C68,IF(Nummerbuch!$E$5:$E$1004=D68,0))))} -> 0
A69: Ta | B69: L | C69: C | D69: 3a | E69: {=SUM(IF(Nummerbuch!$B$5:$B$1171=A69,IF(Nummerbuch!$C$5:$C$1171=B69,IF(Nummerbuch!$D$5:$D$1171=C69,IF(Nummerbuch!$E$5:$E$1171=D69,Nummerbuch!$H$5:$H$1171,0),0),0),0))} -> 0 | F69: {=COUNT(Nummerbuch!$B$5:$B$1004,IF(Nummerbuch!$B$5:$B$1004=A69,IF(Nummerbuch!$D$5:$D$1004=C69,IF(Nummerbuch!$E$5:$E$1004=D69,0))))} -> 0
A70: Ta | B70: L | C70: C | D70: 3b | E70: {=SUM(IF(Nummerbuch!$B$5:$B$1171=A70,IF(Nummerbuch!$C$5:$C$1171=B70,IF(Nummerbuch!$D$5:$D$1171=C70,IF(Nummerbuch!$E$5:$E$1171=D70,Nummerbuch!$H$5:$H$1171,0),0),0),0))} -> 0 | F70: {=COUNT(Nummerbuch!$B$5:$B$1004,IF(Nummerbuch!$B$5:$B$1004=A70,IF(Nummerbuch!$D$5:$D$1004=C70,IF(Nummerbuch!$E$5:$E$1004=D70,0))))} -> 0
A71: Ta | B71: L | C71: C | D71: 4 | E71: {=SUM(IF(Nummerbuch!$B$5:$B$1171=A71,IF(Nummerbuch!$C$5:$C$1171=B71,IF(Nummerbuch!$D$5:$D$1171=C71,IF(Nummerbuch!$E$5:$E$1171=D71,Nummerbuch!$H$5:$H$1171,0),0),0),0))} -> 0 | F71: {=COUNT(Nummerbuch!$B$5:$B$1004,IF(Nummerbuch!$B$5:$B$1004=A71,IF(Nummerbuch!$D$5:$D$1004=C71,IF(Nummerbuch!$E$5:$E$1004=D71,0))))} -> 0
A72: Ta | B72: L | C72: C | D72: 5 | E72: {=SUM(IF(Nummerbuch!$B$5:$B$1171=A72,IF(Nummerbuch!$C$5:$C$1171=B72,IF(Nummerbuch!$D$5:$D$1171=C72,IF(Nummerbuch!$E$5:$E$1171=D72,Nummerbuch!$H$5:$H$1171,0),0),0),0))} -> 0 | F72: {=COUNT(Nummerbuch!$B$5:$B$1004,IF(Nummerbuch!$B$5:$B$1004=A72,IF(Nummerbuch!$D$5:$D$1004=C72,IF(Nummerbuch!$E$5:$E$1004=D72,0))))} -> 0
A73: Ta | B73: L | C73: C | D73: 6 | E73: {=SUM(IF(Nummerbuch!$B$5:$B$1171=A73,IF(Nummerbuch!$C$5:$C$1171=B73,IF(Nummerbuch!$D$5:$D$1171=C73,IF(Nummerbuch!$E$5:$E$1171=D73,Nummerbuch!$H$5:$H$1171,0),0),0),0))} -> 0 | F73: {=COUNT(Nummerbuch!$B$5:$B$1004,IF(Nummerbuch!$B$5:$B$1004=A73,IF(Nummerbuch!$D$5:$D$1004=C73,IF(Nummerbuch!$E$5:$E$1004=D73,0))))} -> 0 | G73: =SUM(F64:F73) -> 0 | H73: =SUM(E64:E73) -> 0
A74: Ta | B74: L | C74: D | D74: 1a | E74: {=SUM(IF(Nummerbuch!$B$5:$B$1171=A74,IF(Nummerbuch!$C$5:$C$1171=B74,IF(Nummerbuch!$D$5:$D$1171=C74,IF(Nummerbuch!$E$5:$E$1171=D74,Nummerbuch!$H$5:$H$1171,0),0),0),0))} -> 0 | F74: {=COUNT(Nummerbuch!$B$5:$B$1004,IF(Nummerbuch!$B$5:$B$1004=A74,IF(Nummerbuch!$D$5:$D$1004=C74,IF(Nummerbuch!$E$5:$E$1004=D74,0))))} -> 0
A75: Ta | B75: L | C75: D | D75: 1b1 | E75: {=SUM(IF(Nummerbuch!$B$5:$B$1171=A75,IF(Nummerbuch!$C$5:$C$1171=B75,IF(Nummerbuch!$D$5:$D$1171=C75,IF(Nummerbuch!$E$5:$E$1171=D75,Nummerbuch!$H$5:$H$1171,0),0),0),0))} -> 0 | F75: {=COUNT(Nummerbuch!$B$5:$B$1004,IF(Nummerbuch!$B$5:$B$1004=A75,IF(Nummerbuch!$D$5:$D$1004=C75,IF(Nummerbuch!$E$5:$E$1004=D75,0))))} -> 0
A76: Ta | B76: L | C76: D | D76: 1b2 | E76: {=SUM(IF(Nummerbuch!$B$5:$B$1171=A76,IF(Nummerbuch!$C$5:$C$1171=B76,IF(Nummerbuch!$D$5:$D$1171=C76,IF(Nummerbuch!$E$5:$E$1171=D76,Nummerbuch!$H$5:$H$1171,0),0),0),0))} -> 0 | F76: {=COUNT(Nummerbuch!$B$5:$B$1004,IF(Nummerbuch!$B$5:$B$1004=A76,IF(Nummerbuch!$D$5:$D$1004=C76,IF(Nummerbuch!$E$5:$E$1004=D76,0))))} -> 0
A77: Ta | B77: L | C77: D | D77: 2a | E77: {=SUM(IF(Nummerbuch!$B$5:$B$1171=A77,IF(Nummerbuch!$C$5:$C$1171=B77,IF(Nummerbuch!$D$5:$D$1171=C77,IF(Nummerbuch!$E$5:$E$1171=D77,Nummerbuch!$H$5:$H$1171,0),0),0),0))} -> 0 | F77: {=COUNT(Nummerbuch!$B$5:$B$1004,IF(Nummerbuch!$B$5:$B$1004=A77,IF(Nummerbuch!$D$5:$D$1004=C77,IF(Nummerbuch!$E$5:$E$1004=D77,0))))} -> 0
A78: Ta | B78: L | C78: D | D78: 2b | E78: {=SUM(IF(Nummerbuch!$B$5:$B$1171=A78,IF(Nummerbuch!$C$5:$C$1171=B78,IF(Nummerbuch!$D$5:$D$1171=C78,IF(Nummerbuch!$E$5:$E$1171=D78,Nummerbuch!$H$5:$H$1171,0),0),0),0))} -> 0 | F78: {=COUNT(Nummerbuch!$B$5:$B$1004,IF(Nummerbuch!$B$5:$B$1004=A78,IF(Nummerbuch!$D$5:$D$1004=C78,IF(Nummerbuch!$E$5:$E$1004=D78,0))))} -> 0
A79: Ta | B79: L | C79: D | D79: 3a | E79: {=SUM(IF(Nummerbuch!$B$5:$B$1171=A79,IF(Nummerbuch!$C$5:$C$1171=B79,IF(Nummerbuch!$D$5:$D$1171=C79,IF(Nummerbuch!$E$5:$E$1171=D79,Nummerbuch!$H$5:$H$1171,0),0),0),0))} -> 0 | F79: {=COUNT(Nummerbuch!$B$5:$B$1004,IF(Nummerbuch!$B$5:$B$1004=A79,IF(Nummerbuch!$D$5:$D$1004=C79,IF(Nummerbuch!$E$5:$E$1004=D79,0))))} -> 0
A80: Ta | B80: L | C80: D | D80: 3b | E80: {=SUM(IF(Nummerbuch!$B$5:$B$1171=A80,IF(Nummerbuch!$C$5:$C$1171=B80,IF(Nummerbuch!$D$5:$D$1171=C80,IF(Nummerbuch!$E$5:$E$1171=D80,Nummerbuch!$H$5:$H$1171,0),0),0),0))} -> 0 | F80: {=COUNT(Nummerbuch!$B$5:$B$1004,IF(Nummerbuch!$B$5:$B$1004=A80,IF(Nummerbuch!$D$5:$D$1004=C80,IF(Nummerbuch!$E$5:$E$1004=D80,0))))} -> 0
A81: Ta | B81: L | C81: D | D81: 4 | E81: {=SUM(IF(Nummerbuch!$B$5:$B$1171=A81,IF(Nummerbuch!$C$5:$C$1171=B81,IF(Nummerbuch!$D$5:$D$1171=C81,IF(Nummerbuch!$E$5:$E$1171=D81,Nummerbuch!$H$5:$H$1171,0),0),0),0))} -> 0 | F81: {=COUNT(Nummerbuch!$B$5:$B$1004,IF(Nummerbuch!$B$5:$B$1004=A81,IF(Nummerbuch!$D$5:$D$1004=C81,IF(Nummerbuch!$E$5:$E$1004=D81,0))))} -> 0
A82: Ta | B82: L | C82: D | D82: 5 | E82: {=SUM(IF(Nummerbuch!$B$5:$B$1171=A82,IF(Nummerbuch!$C$5:$C$1171=B82,IF(Nummerbuch!$D$5:$D$1171=C82,IF(Nummerbuch!$E$5:$E$1171=D82,Nummerbuch!$H$5:$H$1171,0),0),0),0))} -> 0 | F82: {=COUNT(Nummerbuch!$B$5:$B$1004,IF(Nummerbuch!$B$5:$B$1004=A82,IF(Nummerbuch!$D$5:$D$1004=C82,IF(Nummerbuch!$E$5:$E$1004=D82,0))))} -> 0
A83: Ta | B83: L | C83: D | D83: 6 | E83: {=SUM(IF(Nummerbuch!$B$5:$B$1171=A83,IF(Nummerbuch!$C$5:$C$1171=B83,IF(Nummerbuch!$D$5:$D$1171=C83,IF(Nummerbuch!$E$5:$E$1171=D83,Nummerbuch!$H$5:$H$1171,0),0),0),0))} -> 0 | F83: {=COUNT(Nummerbuch!$B$5:$B$1004,IF(Nummerbuch!$B$5:$B$1004=A83,IF(Nummerbuch!$D$5:$D$1004=C83,IF(Nummerbuch!$E$5:$E$1004=D83,0))))} -> 0 | G83: =SUM(F74:F83) -> 0 | H83: =SUM(E74:E83) -> 0
A84: Ta | B84: L | C84: OA | D84: 1a | E84: {=SUM(IF(Nummerbuch!$B$5:$B$1171=A84,IF(Nummerbuch!$C$5:$C$1171=B84,IF(Nummerbuch!$D$5:$D$1171=C84,IF(Nummerbuch!$E$5:$E$1171=D84,Nummerbuch!$H$5:$H$1171,0),0),0),0))} -> 0 | F84: {=COUNT(Nummerbuch!$B$5:$B$1004,IF(Nummerbuch!$B$5:$B$1004=A84,IF(Nummerbuch!$D$5:$D$1004=C84,IF(Nummerbuch!$E$5:$E$1004=D84,0))))} -> 0
A85: Ta | B85: L | C85: OA | D85: 1b1 | E85: {=SUM(IF(Nummerbuch!$B$5:$B$1171=A85,IF(Nummerbuch!$C$5:$C$1171=B85,IF(Nummerbuch!$D$5:$D$1171=C85,IF(Nummerbuch!$E$5:$E$1171=D85,Nummerbuch!$H$5:$H$1171,0),0),0),0))} -> 0 | F85: {=COUNT(Nummerbuch!$B$5:$B$1004,IF(Nummerbuch!$B$5:$B$1004=A85,IF(Nummerbuch!$D$5:$D$1004=C85,IF(Nummerbuch!$E$5:$E$1004=D85,0))))} -> 0
A86: Ta | B86: L | C86: OA | D86: 1b2 | E86: {=SUM(IF(Nummerbuch!$B$5:$B$1171=A86,IF(Nummerbuch!$C$5:$C$1171=B86,IF(Nummerbuch!$D$5:$D$1171=C86,IF(Nummerbuch!$E$5:$E$1171=D86,Nummerbuch!$H$5:$H$1171,0),0),0),0))} -> 0 | F86: {=COUNT(Nummerbuch!$B$5:$B$1004,IF(Nummerbuch!$B$5:$B$1004=A86,IF(Nummerbuch!$D$5:$D$1004=C86,IF(Nummerbuch!$E$5:$E$1004=D86,0))))} -> 0
A87: Ta | B87: L | C87: OA | D87: 2a | E87: {=SUM(IF(Nummerbuch!$B$5:$B$1171=A87,IF(Nummerbuch!$C$5:$C$1171=B87,IF(Nummerbuch!$D$5:$D$1171=C87,IF(Nummerbuch!$E$5:$E$1171=D87,Nummerbuch!$H$5:$H$1171,0),0),0),0))} -> 0 | F87: {=COUNT(Nummerbuch!$B$5:$B$1004,IF(Nummerbuch!$B$5:$B$1004=A87,IF(Nummerbuch!$D$5:$D$1004=C87,IF(Nummerbuch!$E$5:$E$1004=D87,0))))} -> 0
A88: Ta | B88: L | C88: OA | D88: 2b | E88: {=SUM(IF(Nummerbuch!$B$5:$B$1171=A88,IF(Nummerbuch!$C$5:$C$1171=B88,IF(Nummerbuch!$D$5:$D$1171=C88,IF(Nummerbuch!$E$5:$E$1171=D88,Nummerbuch!$H$5:$H$1171,0),0),0),0))} -> 0 | F88: {=COUNT(Nummerbuch!$B$5:$B$1004,IF(Nummerbuch!$B$5:$B$1004=A88,IF(Nummerbuch!$D$5:$D$1004=C88,IF(Nummerbuch!$E$5:$E$1004=D88,0))))} -> 0
A89: Ta | B89: L | C89: OA | D89: 3a | E89: {=SUM(IF(Nummerbuch!$B$5:$B$1171=A89,IF(Nummerbuch!$C$5:$C$1171=B89,IF(Nummerbuch!$D$5:$D$1171=C89,IF(Nummerbuch!$E$5:$E$1171=D89,Nummerbuch!$H$5:$H$1171,0),0),0),0))} -> 0 | F89: {=COUNT(Nummerbuch!$B$5:$B$1004,IF(Nummerbuch!$B$5:$B$1004=A89,IF(Nummerbuch!$D$5:$D$1004=C89,IF(Nummerbuch!$E$5:$E$1004=D89,0))))} -> 0
A90: Ta | B90: L | C90: OA | D90: 3b | E90: {=SUM(IF(Nummerbuch!$B$5:$B$1171=A90,IF(Nummerbuch!$C$5:$C$1171=B90,IF(Nummerbuch!$D$5:$D$1171=C90,IF(Nummerbuch!$E$5:$E$1171=D90,Nummerbuch!$H$5:$H$1171,0),0),0),0))} -> 0 | F90: {=COUNT(Nummerbuch!$B$5:$B$1004,IF(Nummerbuch!$B$5:$B$1004=A90,IF(Nummerbuch!$D$5:$D$1004=C90,IF(Nummerbuch!$E$5:$E$1004=D90,0))))} -> 0
A91: Ta | B91: L | C91: OA | D91: 4 | E91: {=SUM(IF(Nummerbuch!$B$5:$B$1171=A91,IF(Nummerbuch!$C$5:$C$1171=B91,IF(Nummerbuch!$D$5:$D$1171=C91,IF(Nummerbuch!$E$5:$E$1171=D91,Nummerbuch!$H$5:$H$1171,0),0),0),0))} -> 0 | F91: {=COUNT(Nummerbuch!$B$5:$B$1004,IF(Nummerbuch!$B$5:$B$1004=A91,IF(Nummerbuch!$D$5:$D$1004=C91,IF(Nummerbuch!$E$5:$E$1004=D91,0))))} -> 0
A92: Ta | B92: L | C92: OA | D92: 5 | E92: {=SUM(IF(Nummerbuch!$B$5:$B$1171=A92,IF(Nummerbuch!$C$5:$C$1171=B92,IF(Nummerbuch!$D$5:$D$1171=C92,IF(Nummerbuch!$E$5:$E$1171=D92,Nummerbuch!$H$5:$H$1171,0),0),0),0))} -> 0 | F92: {=COUNT(Nummerbuch!$B$5:$B$1004,IF(Nummerbuch!$B$5:$B$1004=A92,IF(Nummerbuch!$D$5:$D$1004=C92,IF(Nummerbuch!$E$5:$E$1004=D92,0))))} -> 0
A93: Ta | B93: L | C93: OA | D93: 6 | E93: {=SUM(IF(Nummerbuch!$B$5:$B$1171=A93,IF(Nummerbuch!$C$5:$C$1171=B93,IF(Nummerbuch!$D$5:$D$1171=C93,IF(Nummerbuch!$E$5:$E$1171=D93,Nummerbuch!$H$5:$H$1171,0),0),0),0))} -> 0 | F93: {=COUNT(Nummerbuch!$B$5:$B$1004,IF(Nummerbuch!$B$5:$B$1004=A93,IF(Nummerbuch!$D$5:$D$1004=C93,IF(Nummerbuch!$E$5:$E$1004=D93,0))))} -> 0 | G93: =SUM(F84:F93) -> 0 | H93: =SUM(E84:E93) -> 0
A94: Pro | B94: L | C94: B | D94: 1a | E94: {=SUM(IF(Nummerbuch!$B$5:$B$1171=A94,IF(Nummerbuch!$C$5:$C$1171=B94,IF(Nummerbuch!$D$5:$D$1171=C94,IF(Nummerbuch!$E$5:$E$1171=D94,Nummerbuch!$H$5:$H$1171,0),0),0),0))} -> 0 | F94: {=COUNT(Nummerbuch!$B$5:$B$1004,IF(Nummerbuch!$B$5:$B$1004=A94,IF(Nummerbuch!$D$5:$D$1004=C94,IF(Nummerbuch!$E$5:$E$1004=D94,0))))} -> 0
A95: Pro | B95: L | C95: B | D95: 1b1 | E95: {=SUM(IF(Nummerbuch!$B$5:$B$1171=A95,IF(Nummerbuch!$C$5:$C$1171=B95,IF(Nummerbuch!$D$5:$D$1171=C95,IF(Nummerbuch!$E$5:$E$1171=D95,Nummerbuch!$H$5:$H$1171,0),0),0),0))} -> 0 | F95: {=COUNT(Nummerbuch!$B$5:$B$1004,IF(Nummerbuch!$B$5:$B$1004=A95,IF(Nummerbuch!$D$5:$D$1004=C95,IF(Nummerbuch!$E$5:$E$1004=D95,0))))} -> 0
A96: Pro | B96: L | C96: B | D96: 1b2 | E96: {=SUM(IF(Nummerbuch!$B$5:$B$1171=A96,IF(Nummerbuch!$C$5:$C$1171=B96,IF(Nummerbuch!$D$5:$D$1171=C96,IF(Nummerbuch!$E$5:$E$1171=D96,Nummerbuch!$H$5:$H$1171,0),0),0),0))} -> 0 | F96: {=COUNT(Nummerbuch!$B$5:$B$1004,IF(Nummerbuch!$B$5:$B$1004=A96,IF(Nummerbuch!$D$5:$D$1004=C96,IF(Nummerbuch!$E$5:$E$1004=D96,0))))} -> 0
A97: Pro | B97: L | C97: B | D97: 2a | E97: {=SUM(IF(Nummerbuch!$B$5:$B$1171=A97,IF(Nummerbuch!$C$5:$C$1171=B97,IF(Nummerbuch!$D$5:$D$1171=C97,IF(Nummerbuch!$E$5:$E$1171=D97,Nummerbuch!$H$5:$H$1171,0),0),0),0))} -> 0 | F97: {=COUNT(Nummerbuch!$B$5:$B$1004,IF(Nummerbuch!$B$5:$B$1004=A97,IF(Nummerbuch!$D$5:$D$1004=C97,IF(Nummerbuch!$E$5:$E$1004=D97,0))))} -> 0
A98: Pro | B98: L | C98: B | D98: 2b | E98: {=SUM(IF(Nummerbuch!$B$5:$B$1171=A98,IF(Nummerbuch!$C$5:$C$1171=B98,IF(Nummerbuch!$D$5:$D$1171=C98,IF(Nummerbuch!$E$5:$E$1171=D98,Nummerbuch!$H$5:$H$1171,0),0),0),0))} -> 0 | F98: {=COUNT(Nummerbuch!$B$5:$B$1004,IF(Nummerbuch!$B$5:$B$1004=A98,IF(Nummerbuch!$D$5:$D$1004=C98,IF(Nummerbuch!$E$5:$E$1004=D98,0))))} -> 0
A99: Pro | B99: L | C99: B | D99: 3a | E99: {=SUM(IF(Nummerbuch!$B$5:$B$1171=A99,IF(Nummerbuch!$C$5:$C$1171=B99,IF(Nummerbuch!$D$5:$D$1171=C99,IF(Nummerbuch!$E$5:$E$1171=D99,Nummerbuch!$H$5:$H$1171,0),0),0),0))} -> 0 | F99: {=COUNT(Nummerbuch!$B$5:$B$1004,IF(Nummerbuch!$B$5:$B$1004=A99,IF(Nummerbuch!$D$5:$D$1004=C99,IF(Nummerbuch!$E$5:$E$1004=D99,0))))} -> 0
A100: Pro | B100: L | C100: B | D100: 3b | E100: {=SUM(IF(Nummerbuch!$B$5:$B$1171=A100,IF(Nummerbuch!$C$5:$C$1171=B100,IF(Nummerbuch!$D$5:$D$1171=C100,IF(Nummerbuch!$E$5:$E$1171=D100,Nummerbuch!$H$5:$H$1171,0),0),0),0))} -> 0 | F100: {=COUNT(Nummerbuch!$B$5:$B$1004,IF(Nummerbuch!$B$5:$B$1004=A100,IF(Nummerbuch!$D$5:$D$1004=C100,IF(Nummerbuch!$E$5:$E$1004=D100,0))))} -> 0
...

Sheet Sa.NdHr
A1: Zusammenstellung Nadelholz rot | I1: Info
A2: BA | B2: So | C2: Gü | D2: ST | E2: fm | F2: Stck | G2: SaSt. | H2: Sa.Güteklasse | I2: Bemerkungen
A3: Dou | B3: L | C3: A | D3: 2b | E3: {=SUM(IF(Nummerbuch!$B$5:$B$1171=A3,IF(Nummerbuch!$C$5:$C$1171=B3,IF(Nummerbuch!$D$5:$D$1171=C3,IF(Nummerbuch!$E$5:$E$1171=D3,Nummerbuch!$H$5:$H$1171,0),0),0),0))} -> 0 | F3: {=COUNT(Nummerbuch!$B$5:$B$1004,IF(Nummerbuch!$B$5:$B$1004=A3,IF(Nummerbuch!$D$5:$D$1004=C3,IF(Nummerbuch!$E$5:$E$1004=D3,0))))} -> 0
A4: Dou | B4: L | C4: A | D4: 3a | E4: {=SUM(IF(Nummerbuch!$B$5:$B$1171=A4,IF(Nummerbuch!$C$5:$C$1171=B4,IF(Nummerbuch!$D$5:$D$1171=C4,IF(Nummerbuch!$E$5:$E$1171=D4,Nummerbuch!$H$5:$H$1171,0),0),0),0))} -> 0 | F4: {=COUNT(Nummerbuch!$B$5:$B$1004,IF(Nummerbuch!$B$5:$B$1004=A4,IF(Nummerbuch!$D$5:$D$1004=C4,IF(Nummerbuch!$E$5:$E$1004=D4,0))))} -> 0
A5: Dou | B5: L | C5: A | D5: 3b | E5: {=SUM(IF(Nummerbuch!$B$5:$B$1171=A5,IF(Nummerbuch!$C$5:$C$1171=B5,IF(Nummerbuch!$D$5:$D$1171=C5,IF(Nummerbuch!$E$5:$E$1171=D5,Nummerbuch!$H$5:$H$1171,0),0),0),0))} -> 0 | F5: {=COUNT(Nummerbuch!$B$5:$B$1004,IF(Nummerbuch!$B$5:$B$1004=A5,IF(Nummerbuch!$D$5:$D$1004=C5,IF(Nummerbuch!$E$5:$E$1004=D5,0))))} -> 0
A6: Dou | B6: L | C6: A | D6: 4 | E6: {=SUM(IF(Nummerbuch!$B$5:$B$1171=A6,IF(Nummerbuch!$C$5:$C$1171=B6,IF(Nummerbuch!$D$5:$D$1171=C6,IF(Nummerbuch!$E$5:$E$1171=D6,Nummerbuch!$H$5:$H$1171,0),0),0),0))} -> 0 | F6: {=COUNT(Nummerbuch!$B$5:$B$1004,IF(Nummerbuch!$B$5:$B$1004=A6,IF(Nummerbuch!$D$5:$D$1004=C6,IF(Nummerbuch!$E$5:$E$1004=D6,0))))} -> 0
A7: Dou | B7: L | C7: A | D7: 5 | E7: {=SUM(IF(Nummerbuch!$B$5:$B$1171=A7,IF(Nummerbuch!$C$5:$C$1171=B7,IF(Nummerbuch!$D$5:$D$1171=C7,IF(Nummerbuch!$E$5:$E$1171=D7,Nummerbuch!$H$5:$H$1171,0),0),0),0))} -> 0 | F7: {=COUNT(Nummerbuch!$B$5:$B$1004,IF(Nummerbuch!$B$5:$B$1004=A7,IF(Nummerbuch!$D$5:$D$1004=C7,IF(Nummerbuch!$E$5:$E$1004=D7,0))))} -> 0
A8: Dou | B8: L | C8: A | D8: 6 | E8: {=SUM(IF(Nummerbuch!$B$5:$B$1171=A8,IF(Nummerbuch!$C$5:$C$1171=B8,IF(Nummerbuch!$D$5:$D$1171=C8,IF(Nummerbuch!$E$5:$E$1171=D8,Nummerbuch!$H$5:$H$1171,0),0),0),0))} -> 0 | F8: {=COUNT(Nummerbuch!$B$5:$B$1004,IF(Nummerbuch!$B$5:$B$1004=A8,IF(Nummerbuch!$D$5:$D$1004=C8,IF(Nummerbuch!$E$5:$E$1004=D8,0))))} -> 0 | G8: =SUM(F3:F8) -> 0 | H8: =SUM(E3:E8) -> 0
A9: Dou | B9: L | C9: B | D9: 1a | E9: {=SUM(IF(Nummerbuch!$B$5:$B$1171=A9,IF(Nummerbuch!$C$5:$C$1171=B9,IF(Nummerbuch!$D$5:$D$1171=C9,IF(Nummerbuch!$E$5:$E$1171=D9,Nummerbuch!$H$5:$H$1171,0),0),0),0))} -> 0 | F9: {=COUNT(Nummerbuch!$B$5:$B$1004,IF(Nummerbuch!$B$5:$B$1004=A9,IF(Nummerbuch!$D$5:$D$1004=C9,IF(Nummerbuch!$E$5:$E$1004=D9,0))))} -> 0
A10: Dou | B10: L | C10: B | D10: 1b1 | E10: {=SUM(IF(Nummerbuch!$B$5:$B$1171=A10,IF(Nummerbuch!$C$5:$C$1171=B10,IF(Nummerbuch!$D$5:$D$1171=C10,IF(Nummerbuch!$E$5:$E$1171=D10,Nummerbuch!$H$5:$H$1171,0),0),0),0))} -> 0 | F10: {=COUNT(Nummerbuch!$B$5:$B$1004,IF(Nummerbuch!$B$5:$B$1004=A10,IF(Nummerbuch!$D$5:$D$1004=C10,IF(Nummerbuch!$E$5:$E$1004=D10,0))))} -> 0
A11: Dou | B11: L | C11: B | D11: 1b2 | E11: {=SUM(IF(Nummerbuch!$B$5:$B$1171=A11,IF(Nummerbuch!$C$5:$C$1171=B11,IF(Nummerbuch!$D$5:$D$1171=C11,IF(Nummerbuch!$E$5:$E$1171=D11,Nummerbuch!$H$5:$H$1171,0),0),0),0))} -> 0 | F11: {=COUNT(Nummerbuch!$B$5:$B$1004,IF(Nummerbuch!$B$5:$B$1004=A11,IF(Nummerbuch!$D$5:$D$1004=C11,IF(Nummerbuch!$E$5:$E$1004=D11,0))))} -> 0
A12: Dou | B12: L | C12: B | D12: 2a | E12: {=SUM(IF(Nummerbuch!$B$5:$B$1171=A12,IF(Nummerbuch!$C$5:$C$1171=B12,IF(Nummerbuch!$D$5:$D$1171=C12,IF(Nummerbuch!$E$5:$E$1171=D12,Nummerbuch!$H$5:$H$1171,0),0),0),0))} -> 0.59 | F12: {=COUNT(Nummerbuch!$B$5:$B$1004,IF(Nummerbuch!$B$5:$B$1004=A12,IF(Nummerbuch!$D$5:$D$1004=C12,IF(Nummerbuch!$E$5:$E$1004=D12,0))))} -> 1
A13: Dou | B13: L | C13: B | D13: 2b | E13: {=SUM(IF(Nummerbuch!$B$5:$B$1171=A13,IF(Nummerbuch!$C$5:$C$1171=B13,IF(Nummerbuch!$D$5:$D$1171=C13,IF(Nummerbuch!$E$5:$E$1171=D13,Nummerbuch!$H$5:$H$1171,0),0),0),0))} -> 0 | F13: {=COUNT(Nummerbuch!$B$5:$B$1004,IF(Nummerbuch!$B$5:$B$1004=A13,IF(Nummerbuch!$D$5:$D$1004=C13,IF(Nummerbuch!$E$5:$E$1004=D13,0))))} -> 0
A14: Dou | B14: L | C14: B | D14: 3a | E14: {=SUM(IF(Nummerbuch!$B$5:$B$1171=A14,IF(Nummerbuch!$C$5:$C$1171=B14,IF(Nummerbuch!$D$5:$D$1171=C14,IF(Nummerbuch!$E$5:$E$1171=D14,Nummerbuch!$H$5:$H$1171,0),0),0),0))} -> 1.45 | F14: {=COUNT(Nummerbuch!$B$5:$B$1004,IF(Nummerbuch!$B$5:$B$1004=A14,IF(Nummerbuch!$D$5:$D$1004=C14,IF(Nummerbuch!$E$5:$E$1004=D14,0))))} -> 1
A15: Dou | B15: L | C15: B | D15: 3b | E15: {=SUM(IF(Nummerbuch!$B$5:$B$1171=A15,IF(Nummerbuch!$C$5:$C$1171=B15,IF(Nummerbuch!$D$5:$D$1171=C15,IF(Nummerbuch!$E$5:$E$1171=D15,Nummerbuch!$H$5:$H$1171,0),0),0),0))} -> 0 | F15: {=COUNT(Nummerbuch!$B$5:$B$1004,IF(Nummerbuch!$B$5:$B$1004=A15,IF(Nummerbuch!$D$5:$D$1004=C15,IF(Nummerbuch!$E$5:$E$1004=D15,0))))} -> 0
A16: Dou | B16: L | C16: B | D16: 4 | E16: {=SUM(IF(Nummerbuch!$B$5:$B$1171=A16,IF(Nummerbuch!$C$5:$C$1171=B16,IF(Nummerbuch!$D$5:$D$1171=C16,IF(Nummerbuch!$E$5:$E$1171=D16,Nummerbuch!$H$5:$H$1171,0),0),0),0))} -> 3.02 | F16: {=COUNT(Nummerbuch!$B$5:$B$1004,IF(Nummerbuch!$B$5:$B$1004=A16,IF(Nummerbuch!$D$5:$D$1004=C16,IF(Nummerbuch!$E$5:$E$1004=D16,0))))} -> 1
A17: Dou | B17: L | C17: B | D17: 5 | E17: {=SUM(IF(Nummerbuch!$B$5:$B$1171=A17,IF(Nummerbuch!$C$5:$C$1171=B17,IF(Nummerbuch!$D$5:$D$1171=C17,IF(Nummerbuch!$E$5:$E$1171=D17,Nummerbuch!$H$5:$H$1171,0),0),0),0))} -> 0 | F17: {=COUNT(Nummerbuch!$B$5:$B$1004,IF(Nummerbuch!$B$5:$B$1004=A17,IF(Nummerbuch!$D$5:$D$1004=C17,IF(Nummerbuch!$E$5:$E$1004=D17,0))))} -> 0
A18: Dou | B18: L | C18: B | D18: 6 | E18: {=SUM(IF(Nummerbuch!$B$5:$B$1171=A18,IF(Nummerbuch!$C$5:$C$1171=B18,IF(Nummerbuch!$D$5:$D$1171=C18,IF(Nummerbuch!$E$5:$E$1171=D18,Nummerbuch!$H$5:$H$1171,0),0),0),0))} -> 0 | F18: {=COUNT(Nummerbuch!$B$5:$B$1004,IF(Nummerbuch!$B$5:$B$1004=A18,IF(Nummerbuch!$D$5:$D$1004=C18,IF(Nummerbuch!$E$5:$E$1004=D18,0))))} -> 0 | G18: =SUM(F9:F18) -> 3 | H18: =SUM(E9:E18) -> 5.06
A19: Dou | B19: L | C19: C | D19: 1a | E19: {=SUM(IF(Nummerbuch!$B$5:$B$1171=A19,IF(Nummerbuch!$C$5:$C$1171=B19,IF(Nummerbuch!$D$5:$D$1171=C19,IF(Nummerbuch!$E$5:$E$1171=D19,Nummerbuch!$H$5:$H$1171,0),0),0),0))} -> 0 | F19: {=COUNT(Nummerbuch!$B$5:$B$1004,IF(Nummerbuch!$B$5:$B$1004=A19,IF(Nummerbuch!$D$5:$D$1004=C19,IF(Nummerbuch!$E$5:$E$1004=D19,0))))} -> 0
A20: Dou | B20: L | C20: C | D20: 1b1 | E20: {=SUM(IF(Nummerbuch!$B$5:$B$1171=A20,IF(Nummerbuch!$C$5:$C$1171=B20,IF(Nummerbuch!$D$5:$D$1171=C20,IF(Nummerbuch!$E$5:$E$1171=D20,Nummerbuch!$H$5:$H$1171,0),0),0),0))} -> 0 | F20: {=COUNT(Nummerbuch!$B$5:$B$1004,IF(Nummerbuch!$B$5:$B$1004=A20,IF(Nummerbuch!$D$5:$D$1004=C20,IF(Nummerbuch!$E$5:$E$1004=D20,0))))} -> 0
A21: Dou | B21: L | C21: C | D21: 1b2 | E21: {=SUM(IF(Nummerbuch!$B$5:$B$1171=A21,IF(Nummerbuch!$C$5:$C$1171=B21,IF(Nummerbuch!$D$5:$D$1171=C21,IF(Nummerbuch!$E$5:$E$1171=D21,Nummerbuch!$H$5:$H$1171,0),0),0),0))} -> 0 | F21: {=COUNT(Nummerbuch!$B$5:$B$1004,IF(Nummerbuch!$B$5:$B$1004=A21,IF(Nummerbuch!$D$5:$D$1004=C21,IF(Nummerbuch!$E$5:$E$1004=D21,0))))} -> 0
A22: Dou | B22: L | C22: C | D22: 2a | E22: {=SUM(IF(Nummerbuch!$B$5:$B$1171=A22,IF(Nummerbuch!$C$5:$C$1171=B22,IF(Nummerbuch!$D$5:$D$1171=C22,IF(Nummerbuch!$E$5:$E$1171=D22,Nummerbuch!$H$5:$H$1171,0),0),0),0))} -> 0 | F22: {=COUNT(Nummerbuch!$B$5:$B$1004,IF(Nummerbuch!$B$5:$B$1004=A22,IF(Nummerbuch!$D$5:$D$1004=C22,IF(Nummerbuch!$E$5:$E$1004=D22,0))))} -> 0
A23: Dou | B23: L | C23: C | D23: 2b | E23: {=SUM(IF(Nummerbuch!$B$5:$B$1171=A23,IF(Nummerbuch!$C$5:$C$1171=B23,IF(Nummerbuch!$D$5:$D$1171=C23,IF(Nummerbuch!$E$5:$E$1171=D23,Nummerbuch!$H$5:$H$1171,0),0),0),0))} -> 0.86 | F23: {=COUNT(Nummerbuch!$B$5:$B$1004,IF(Nummerbuch!$B$5:$B$1004=A23,IF(Nummerbuch!$D$5:$D$1004=C23,IF(Nummerbuch!$E$5:$E$1004=D23,0))))} -> 1
A24: Dou | B24: L | C24: C | D24: 3a | E24: {=SUM(IF(Nummerbuch!$B$5:$B$1171=A24,IF(Nummerbuch!$C$5:$C$1171=B24,IF(Nummerbuch!$D$5:$D$1171=C24,IF(Nummerbuch!$E$5:$E$1171=D24,Nummerbuch!$H$5:$H$1171,0),0),0),0))} -> 0 | F24: {=COUNT(Nummerbuch!$B$5:$B$1004,IF(Nummerbuch!$B$5:$B$1004=A24,IF(Nummerbuch!$D$5:$D$1004=C24,IF(Nummerbuch!$E$5:$E$1004=D24,0))))} -> 0
A25: Dou | B25: L | C25: C | D25: 3b | E25: {=SUM(IF(Nummerbuch!$B$5:$B$1171=A25,IF(Nummerbuch!$C$5:$C$1171=B25,IF(Nummerbuch!$D$5:$D$1171=C25,IF(Nummerbuch!$E$5:$E$1171=D25,Nummerbuch!$H$5:$H$1171,0),0),0),0))} -> 0 | F25: {=COUNT(Nummerbuch!$B$5:$B$1004,IF(Nummerbuch!$B$5:$B$1004=A25,IF(Nummerbuch!$D$5:$D$1004=C25,IF(Nummerbuch!$E$5:$E$1004=D25,0))))} -> 0
A26: Dou | B26: L | C26: C | D26: 4 | E26: {=SUM(IF(Nummerbuch!$B$5:$B$1171=A26,IF(Nummerbuch!$C$5:$C$1171=B26,IF(Nummerbuch!$D$5:$D$1171=C26,IF(Nummerbuch!$E$5:$E$1171=D26,Nummerbuch!$H$5:$H$1171,0),0),0),0))} -> 0 | F26: {=COUNT(Nummerbuch!$B$5:$B$1004,IF(Nummerbuch!$B$5:$B$1004=A26,IF(Nummerbuch!$D$5:$D$1004=C26,IF(Nummerbuch!$E$5:$E$1004=D26,0))))} -> 0
A27: Dou | B27: L | C27: C | D27: 5 | E27: {=SUM(IF(Nummerbuch!$B$5:$B$1171=A27,IF(Nummerbuch!$C$5:$C$1171=B27,IF(Nummerbuch!$D$5:$D$1171=C27,IF(Nummerbuch!$E$5:$E$1171=D27,Nummerbuch!$H$5:$H$1171,0),0),0),0))} -> 0 | F27: {=COUNT(Nummerbuch!$B$5:$B$1004,IF(Nummerbuch!$B$5:$B$1004=A27,IF(Nummerbuch!$D$5:$D$1004=C27,IF(Nummerbuch!$E$5:$E$1004=D27,0))))} -> 0
A28: Dou | B28: L | C28: C | D28: 6 | E28: {=SUM(IF(Nummerbuch!$B$5:$B$1171=A28,IF(Nummerbuch!$C$5:$C$1171=B28,IF(Nummerbuch!$D$5:$D$1171=C28,IF(Nummerbuch!$E$5:$E$1171=D28,Nummerbuch!$H$5:$H$1171,0),0),0),0))} -> 0 | F28: {=COUNT(Nummerbuch!$B$5:$B$1004,IF(Nummerbuch!$B$5:$B$1004=A28,IF(Nummerbuch!$D$5:$D$1004=C28,IF(Nummerbuch!$E$5:$E$1004=D28,0))))} -> 0 | G28: =SUM(F19:F28) -> 1 | H28: =SUM(E19:E28) -> 0.86
A29: Dou | B29: L | C29: D | D29: 1a | E29: {=SUM(IF(Nummerbuch!$B$5:$B$1171=A29,IF(Nummerbuch!$C$5:$C$1171=B29,IF(Nummerbuch!$D$5:$D$1171=C29,IF(Nummerbuch!$E$5:$E$1171=D29,Nummerbuch!$H$5:$H$1171,0),0),0),0))} -> 0 | F29: {=COUNT(Nummerbuch!$B$5:$B$1004,IF(Nummerbuch!$B$5:$B$1004=A29,IF(Nummerbuch!$D$5:$D$1004=C29,IF(Nummerbuch!$E$5:$E$1004=D29,0))))} -> 0
A30: Dou | B30: L | C30: D | D30: 1b1 | E30: {=SUM(IF(Nummerbuch!$B$5:$B$1171=A30,IF(Nummerbuch!$C$5:$C$1171=B30,IF(Nummerbuch!$D$5:$D$1171=C30,IF(Nummerbuch!$E$5:$E$1171=D30,Nummerbuch!$H$5:$H$1171,0),0),0),0))} -> 0 | F30: {=COUNT(Nummerbuch!$B$5:$B$1004,IF(Nummerbuch!$B$5:$B$1004=A30,IF(Nummerbuch!$D$5:$D$1004=C30,IF(Nummerbuch!$E$5:$E$1004=D30,0))))} -> 0
A31: Dou | B31: L | C31: D | D31: 1b2 | E31: {=SUM(IF(Nummerbuch!$B$5:$B$1171=A31,IF(Nummerbuch!$C$5:$C$1171=B31,IF(Nummerbuch!$D$5:$D$1171=C31,IF(Nummerbuch!$E$5:$E$1171=D31,Nummerbuch!$H$5:$H$1171,0),0),0),0))} -> 0 | F31: {=COUNT(Nummerbuch!$B$5:$B$1004,IF(Nummerbuch!$B$5:$B$1004=A31,IF(Nummerbuch!$D$5:$D$1004=C31,IF(Nummerbuch!$E$5:$E$1004=D31,0))))} -> 0
A32: Dou | B32: L | C32: D | D32: 2a | E32: {=SUM(IF(Nummerbuch!$B$5:$B$1171=A32,IF(Nummerbuch!$C$5:$C$1171=B32,IF(Nummerbuch!$D$5:$D$1171=C32,IF(Nummerbuch!$E$5:$E$1171=D32,Nummerbuch!$H$5:$H$1171,0),0),0),0))} -> 0 | F32: {=COUNT(Nummerbuch!$B$5:$B$1004,IF(Nummerbuch!$B$5:$B$1004=A32,IF(Nummerbuch!$D$5:$D$1004=C32,IF(Nummerbuch!$E$5:$E$1004=D32,0))))} -> 0
A33: Dou | B33: L | C33: D | D33: 2b | E33: {=SUM(IF(Nummerbuch!$B$5:$B$1171=A33,IF(Nummerbuch!$C$5:$C$1171=B33,IF(Nummerbuch!$D$5:$D$1171=C33,IF(Nummerbuch!$E$5:$E$1171=D33,Nummerbuch!$H$5:$H$1171,0),0),0),0))} -> 0 | F33: {=COUNT(Nummerbuch!$B$5:$B$1004,IF(Nummerbuch!$B$5:$B$1004=A33,IF(Nummerbuch!$D$5:$D$1004=C33,IF(Nummerbuch!$E$5:$E$1004=D33,0))))} -> 0
A34: Dou | B34: L | C34: D | D34: 3a | E34: {=SUM(IF(Nummerbuch!$B$5:$B$1171=A34,IF(Nummerbuch!$C$5:$C$1171=B34,IF(Nummerbuch!$D$5:$D$1171=C34,IF(Nummerbuch!$E$5:$E$1171=D34,Nummerbuch!$H$5:$H$1171,0),0),0),0))} -> 0 | F34: {=COUNT(Nummerbuch!$B$5:$B$1004,IF(Nummerbuch!$B$5:$B$1004=A34,IF(Nummerbuch!$D$5:$D$1004=C34,IF(Nummerbuch!$E$5:$E$1004=D34,0))))} -> 0
A35: Dou | B35: L | C35: D | D35: 3b | E35: {=SUM(IF(Nummerbuch!$B$5:$B$1171=A35,IF(Nummerbuch!$C$5:$C$1171=B35,IF(Nummerbuch!$D$5:$D$1171=C35,IF(Nummerbuch!$E$5:$E$1171=D35,Nummerbuch!$H$5:$H$1171,0),0),0),0))} -> 0 | F35: {=COUNT(Nummerbuch!$B$5:$B$1004,IF(Nummerbuch!$B$5:$B$1004=A35,IF(Nummerbuch!$D$5:$D$1004=C35,IF(Nummerbuch!$E$5:$E$1004=D35,0))))} -> 0
A36: Dou | B36: L | C36: D | D36: 4 | E36: {=SUM(IF(Nummerbuch!$B$5:$B$1171=A36,IF(Nummerbuch!$C$5:$C$1171=B36,IF(Nummerbuch!$D$5:$D$1171=C36,IF(Nummerbuch!$E$5:$E$1171=D36,Nummerbuch!$H$5:$H$1171,0),0),0),0))} -> 0 | F36: {=COUNT(Nummerbuch!$B$5:$B$1004,IF(Nummerbuch!$B$5:$B$1004=A36,IF(Nummerbuch!$D$5:$D$1004=C36,IF(Nummerbuch!$E$5:$E$1004=D36,0))))} -> 0
A37: Dou | B37: L | C37: D | D37: 5 | E37: {=SUM(IF(Nummerbuch!$B$5:$B$1171=A37,IF(Nummerbuch!$C$5:$C$1171=B37,IF(Nummerbuch!$D$5:$D$1171=C37,IF(Nummerbuch!$E$5:$E$1171=D37,Nummerbuch!$H$5:$H$1171,0),0),0),0))} -> 0 | F37: {=COUNT(Nummerbuch!$B$5:$B$1004,IF(Nummerbuch!$B$5:$B$1004=A37,IF(Nummerbuch!$D$5:$D$1004=C37,IF(Nummerbuch!$E$5:$E$1004=D37,0))))} -> 0
A38: Dou | B38: L | C38: D | D38: 6 | E38: {=SUM(IF(Nummerbuch!$B$5:$B$1171=A38,IF(Nummerbuch!$C$5:$C$1171=B38,IF(Nummerbuch!$D$5:$D$1171=C38,IF(Nummerbuch!$E$5:$E$1171=D38,Nummerbuch!$H$5:$H$1171,0),0),0),0))} -> 0 | F38: {=COUNT(Nummerbuch!$B$5:$B$1004,IF(Nummerbuch!$B$5:$B$1004=A38,IF(Nummerbuch!$D$5:$D$1004=C38,IF(Nummerbuch!$E$5:$E$1004=D38,0))))} -> 0 | G38: =SUM(F29:F38) -> 0 | H38: =SUM(E29:E38) -> 0
A39: Dou | B39: L | C39: OA | D39: 1a | E39: {=SUM(IF(Nummerbuch!$B$5:$B$1171=A39,IF(Nummerbuch!$C$5:$C$1171=B39,IF(Nummerbuch!$D$5:$D$1171=C39,IF(Nummerbuch!$E$5:$E$1171=D39,Nummerbuch!$H$5:$H$1171,0),0),0),0))} -> 0 | F39: {=COUNT(Nummerbuch!$B$5:$B$1004,IF(Nummerbuch!$B$5:$B$1004=A39,IF(Nummerbuch!$D$5:$D$1004=C39,IF(Nummerbuch!$E$5:$E$1004=D39,0))))} -> 0
A40: Dou | B40: L | C40: OA | D40: 1b1 | E40: {=SUM(IF(Nummerbuch!$B$5:$B$1171=A40,IF(Nummerbuch!$C$5:$C$1171=B40,IF(Nummerbuch!$D$5:$D$1171=C40,IF(Nummerbuch!$E$5:$E$1171=D40,Nummerbuch!$H$5:$H$1171,0),0),0),0))} -> 0 | F40: {=COUNT(Nummerbuch!$B$5:$B$1004,IF(Nummerbuch!$B$5:$B$1004=A40,IF(Nummerbuch!$D$5:$D$1004=C40,IF(Nummerbuch!$E$5:$E$1004=D40,0))))} -> 0
A41: Dou | B41: L | C41: OA | D41: 1b2 | E41: {=SUM(IF(Nummerbuch!$B$5:$B$1171=A41,IF(Nummerbuch!$C$5:$C$1171=B41,IF(Nummerbuch!$D$5:$D$1171=C41,IF(Nummerbuch!$E$5:$E$1171=D41,Nummerbuch!$H$5:$H$1171,0),0),0),0))} -> 0 | F41: {=COUNT(Nummerbuch!$B$5:$B$1004,IF(Nummerbuch!$B$5:$B$1004=A41,IF(Nummerbuch!$D$5:$D$1004=C41,IF(Nummerbuch!$E$5:$E$1004=D41,0))))} -> 0
A42: Dou | B42: L | C42: OA | D42: 2a | E42: {=SUM(IF(Nummerbuch!$B$5:$B$1171=A42,IF(Nummerbuch!$C$5:$C$1171=B42,IF(Nummerbuch!$D$5:$D$1171=C42,IF(Nummerbuch!$E$5:$E$1171=D42,Nummerbuch!$H$5:$H$1171,0),0),0),0))} -> 0 | F42: {=COUNT(Nummerbuch!$B$5:$B$1004,IF(Nummerbuch!$B$5:$B$1004=A42,IF(Nummerbuch!$D$5:$D$1004=C42,IF(Nummerbuch!$E$5:$E$1004=D42,0))))} -> 0
A43: Dou | B43: L | C43: OA | D43: 2b | E43: {=SUM(IF(Nummerbuch!$B$5:$B$1171=A43,IF(Nummerbuch!$C$5:$C$1171=B43,IF(Nummerbuch!$D$5:$D$1171=C43,IF(Nummerbuch!$E$5:$E$1171=D43,Nummerbuch!$H$5:$H$1171,0),0),0),0))} -> 0 | F43: {=COUNT(Nummerbuch!$B$5:$B$1004,IF(Nummerbuch!$B$5:$B$1004=A43,IF(Nummerbuch!$D$5:$D$1004=C43,IF(Nummerbuch!$E$5:$E$1004=D43,0))))} -> 0
A44: Dou | B44: L | C44: OA | D44: 3a | E44: {=SUM(IF(Nummerbuch!$B$5:$B$1171=A44,IF(Nummerbuch!$C$5:$C$1171=B44,IF(Nummerbuch!$D$5:$D$1171=C44,IF(Nummerbuch!$E$5:$E$1171=D44,Nummerbuch!$H$5:$H$1171,0),0),0),0))} -> 0 | F44: {=COUNT(Nummerbuch!$B$5:$B$1004,IF(Nummerbuch!$B$5:$B$1004=A44,IF(Nummerbuch!$D$5:$D$1004=C44,IF(Nummerbuch!$E$5:$E$1004=D44,0))))} -> 0
A45: Dou | B45: L | C45: OA | D45: 3b | E45: {=SUM(IF(Nummerbuch!$B$5:$B$1171=A45,IF(Nummerbuch!$C$5:$C$1171=B45,IF(Nummerbuch!$D$5:$D$1171=C45,IF(Nummerbuch!$E$5:$E$1171=D45,Nummerbuch!$H$5:$H$1171,0),0),0),0))} -> 0 | F45: {=COUNT(Nummerbuch!$B$5:$B$1004,IF(Nummerbuch!$B$5:$B$1004=A45,IF(Nummerbuch!$D$5:$D$1004=C45,IF(Nummerbuch!$E$5:$E$1004=D45,0))))} -> 0
A46: Dou | B46: L | C46: OA | D46: 4 | E46: {=SUM(IF(Nummerbuch!$B$5:$B$1171=A46,IF(Nummerbuch!$C$5:$C$1171=B46,IF(Nummerbuch!$D$5:$D$1171=C46,IF(Nummerbuch!$E$5:$E$1171=D46,Nummerbuch!$H$5:$H$1171,0),0),0),0))} -> 0 | F46: {=COUNT(Nummerbuch!$B$5:$B$1004,IF(Nummerbuch!$B$5:$B$1004=A46,IF(Nummerbuch!$D$5:$D$1004=C46,IF(Nummerbuch!$E$5:$E$1004=D46,0))))} -> 0
A47: Dou | B47: L | C47: OA | D47: 5 | E47: {=SUM(IF(Nummerbuch!$B$5:$B$1171=A47,IF(Nummerbuch!$C$5:$C$1171=B47,IF(Nummerbuch!$D$5:$D$1171=C47,IF(Nummerbuch!$E$5:$E$1171=D47,Nummerbuch!$H$5:$H$1171,0),0),0),0))} -> 0 | F47: {=COUNT(Nummerbuch!$B$5:$B$1004,IF(Nummerbuch!$B$5:$B$1004=A47,IF(Nummerbuch!$D$5:$D$1004=C47,IF(Nummerbuch!$E$5:$E$1004=D47,0))))} -> 0
A48: Dou | B48: L | C48: OA | D48: 6 | E48: {=SUM(IF(Nummerbuch!$B$5:$B$1171=A48,IF(Nummerbuch!$C$5:$C$1171=B48,IF(Nummerbuch!$D$5:$D$1171=C48,IF(Nummerbuch!$E$5:$E$1171=D48,Nummerbuch!$H$5:$H$1171,0),0),0),0))} -> 0 | F48: {=COUNT(Nummerbuch!$B$5:$B$1004,IF(Nummerbuch!$B$5:$B$1004=A48,IF(Nummerbuch!$D$5:$D$1004=C48,IF(Nummerbuch!$E$5:$E$1004=D48,0))))} -> 0 | G48: =SUM(F39:F48) -> 0 | H48: =SUM(E39:E48) -> 0
A49: ELä | B49: L | C49: A | D49: 2b | E49: {=SUM(IF(Nummerbuch!$B$5:$B$1171=A49,IF(Nummerbuch!$C$5:$C$1171=B49,IF(Nummerbuch!$D$5:$D$1171=C49,IF(Nummerbuch!$E$5:$E$1171=D49,Nummerbuch!$H$5:$H$1171,0),0),0),0))} -> 0 | F49: {=COUNT(Nummerbuch!$B$5:$B$1004,IF(Nummerbuch!$B$5:$B$1004=A49,IF(Nummerbuch!$D$5:$D$1004=C49,IF(Nummerbuch!$E$5:$E$1004=D49,0))))} -> 0
A50: ELä | B50: L | C50: A | D50: 3a | E50: {=SUM(IF(Nummerbuch!$B$5:$B$1171=A50,IF(Nummerbuch!$C$5:$C$1171=B50,IF(Nummerbuch!$D$5:$D$1171=C50,IF(Nummerbuch!$E$5:$E$1171=D50,Nummerbuch!$H$5:$H$1171,0),0),0),0))} -> 0 | F50: {=COUNT(Nummerbuch!$B$5:$B$1004,IF(Nummerbuch!$B$5:$B$1004=A50,IF(Nummerbuch!$D$5:$D$1004=C50,IF(Nummerbuch!$E$5:$E$1004=D50,0))))} -> 0
A51: ELä | B51: L | C51: A | D51: 3b | E51: {=SUM(IF(Nummerbuch!$B$5:$B$1171=A51,IF(Nummerbuch!$C$5:$C$1171=B51,IF(Nummerbuch!$D$5:$D$1171=C51,IF(Nummerbuch!$E$5:$E$1171=D51,Nummerbuch!$H$5:$H$1171,0),0),0),0))} -> 0 | F51: {=COUNT(Nummerbuch!$B$5:$B$1004,IF(Nummerbuch!$B$5:$B$1004=A51,IF(Nummerbuch!$D$5:$D$1004=C51,IF(Nummerbuch!$E$5:$E$1004=D51,0))))} -> 0
A52: ELä | B52: L | C52: A | D52: 4 | E52: {=SUM(IF(Nummerbuch!$B$5:$B$1171=A52,IF(Nummerbuch!$C$5:$C$1171=B52,IF(Nummerbuch!$D$5:$D$1171=C52,IF(Nummerbuch!$E$5:$E$1171=D52,Nummerbuch!$H$5:$H$1171,0),0),0),0))} -> 0 | F52: {=COUNT(Nummerbuch!$B$5:$B$1004,IF(Nummerbuch!$B$5:$B$1004=A52,IF(Nummerbuch!$D$5:$D$1004=C52,IF(Nummerbuch!$E$5:$E$1004=D52,0))))} -> 0
A53: ELä | B53: L | C53: A | D53: 5 | E53: {=SUM(IF(Nummerbuch!$B$5:$B$1171=A53,IF(Nummerbuch!$C$5:$C$1171=B53,IF(Nummerbuch!$D$5:$D$1171=C53,IF(Nummerbuch!$E$5:$E$1171=D53,Nummerbuch!$H$5:$H$1171,0),0),0),0))} -> 0 | F53: {=COUNT(Nummerbuch!$B$5:$B$1004,IF(Nummerbuch!$B$5:$B$1004=A53,IF(Nummerbuch!$D$5:$D$1004=C53,IF(Nummerbuch!$E$5:$E$1004=D53,0))))} -> 0
A54: ELä | B54: L | C54: A | D54: 6 | E54: {=SUM(IF(Nummerbuch!$B$5:$B$1171=A54,IF(Nummerbuch!$C$5:$C$1171=B54,IF(Nummerbuch!$D$5:$D$1171=C54,IF(Nummerbuch!$E$5:$E$1171=D54,Nummerbuch!$H$5:$H$1171,0),0),0),0))} -> 0 | F54: {=COUNT(Nummerbuch!$B$5:$B$1004,IF(Nummerbuch!$B$5:$B$1004=A54,IF(Nummerbuch!$D$5:$D$1004=C54,IF(Nummerbuch!$E$5:$E$1004=D54,0))))} -> 0 | G54: =SUM(F49:F54) -> 0 | H54: =SUM(E49:E54) -> 0
A55: ELä | B55: L | C55: B | D55: 1a | E55: {=SUM(IF(Nummerbuch!$B$5:$B$1171=A55,IF(Nummerbuch!$C$5:$C$1171=B55,IF(Nummerbuch!$D$5:$D$1171=C55,IF(Nummerbuch!$E$5:$E$1171=D55,Nummerbuch!$H$5:$H$1171,0),0),0),0))} -> 0 | F55: {=COUNT(Nummerbuch!$B$5:$B$1004,IF(Nummerbuch!$B$5:$B$1004=A55,IF(Nummerbuch!$D$5:$D$1004=C55,IF(Nummerbuch!$E$5:$E$1004=D55,0))))} -> 0
A56: ELä | B56: L | C56: B | D56: 1b1 | E56: {=SUM(IF(Nummerbuch!$B$5:$B$1171=A56,IF(Nummerbuch!$C$5:$C$1171=B56,IF(Nummerbuch!$D$5:$D$1171=C56,IF(Nummerbuch!$E$5:$E$1171=D56,Nummerbuch!$H$5:$H$1171,0),0),0),0))} -> 0 | F56: {=COUNT(Nummerbuch!$B$5:$B$1004,IF(Nummerbuch!$B$5:$B$1004=A56,IF(Nummerbuch!$D$5:$D$1004=C56,IF(Nummerbuch!$E$5:$E$1004=D56,0))))} -> 0
A57: ELä | B57: L | C57: B | D57: 1b2 | E57: {=SUM(IF(Nummerbuch!$B$5:$B$1171=A57,IF(Nummerbuch!$C$5:$C$1171=B57,IF(Nummerbuch!$D$5:$D$1171=C57,IF(Nummerbuch!$E$5:$E$1171=D57,Nummerbuch!$H$5:$H$1171,0),0),0),0))} -> 0 | F57: {=COUNT(Nummerbuch!$B$5:$B$1004,IF(Nummerbuch!$B$5:$B$1004=A57,IF(Nummerbuch!$D$5:$D$1004=C57,IF(Nummerbuch!$E$5:$E$1004=D57,0))))} -> 0
A58: ELä | B58: L | C58: B | D58: 2a | E58: {=SUM(IF(Nummerbuch!$B$5:$B$1171=A58,IF(Nummerbuch!$C$5:$C$1171=B58,IF(Nummerbuch!$D$5:$D$1171=C58,IF(Nummerbuch!$E$5:$E$1171=D58,Nummerbuch!$H$5:$H$1171,0),0),0),0))} -> 0 | F58: {=COUNT(Nummerbuch!$B$5:$B$1004,IF(Nummerbuch!$B$5:$B$1004=A58,IF(Nummerbuch!$D$5:$D$1004=C58,IF(Nummerbuch!$E$5:$E$1004=D58,0))))} -> 0
A59: ELä | B59: L | C59: B | D59: 2b | E59: {=SUM(IF(Nummerbuch!$B$5:$B$1171=A59,IF(Nummerbuch!$C$5:$C$1171=B59,IF(Nummerbuch!$D$5:$D$1171=C59,IF(Nummerbuch!$E$5:$E$1171=D59,Nummerbuch!$H$5:$H$1171,0),0),0),0))} -> 0 | F59: {=COUNT(Nummerbuch!$B$5:$B$1004,IF(Nummerbuch!$B$5:$B$1004=A59,IF(Nummerbuch!$D$5:$D$1004=C59,IF(Nummerbuch!$E$5:$E$1004=D59,0))))} -> 0
A60: ELä | B60: L | C60: B | D60: 3a | E60: {=SUM(IF(Nummerbuch!$B$5:$B$1171=A60,IF(Nummerbuch!$C$5:$C$1171=B60,IF(Nummerbuch!$D$5:$D$1171=C60,IF(Nummerbuch!$E$5:$E$1171=D60,Nummerbuch!$H$5:$H$1171,0),0),0),0))} -> 0 | F60: {=COUNT(Nummerbuch!$B$5:$B$1004,IF(Nummerbuch!$B$5:$B$1004=A60,IF(Nummerbuch!$D$5:$D$1004=C60,IF(Nummerbuch!$E$5:$E$1004=D60,0))))} -> 0
A61: ELä | B61: L | C61: B | D61: 3b | E61: {=SUM(IF(Nummerbuch!$B$5:$B$1171=A61,IF(Nummerbuch!$C$5:$C$1171=B61,IF(Nummerbuch!$D$5:$D$1171=C61,IF(Nummerbuch!$E$5:$E$1171=D61,Nummerbuch!$H$5:$H$1171,0),0),0),0))} -> 0 | F61: {=COUNT(Nummerbuch!$B$5:$B$1004,IF(Nummerbuch!$B$5:$B$1004=A61,IF(Nummerbuch!$D$5:$D$1004=C61,IF(Nummerbuch!$E$5:$E$1004=D61,0))))} -> 0
A62: ELä | B62: L | C62: B | D62: 4 | E62: {=SUM(IF(Nummerbuch!$B$5:$B$1171=A62,IF(Nummerbuch!$C$5:$C$1171=B62,IF(Nummerbuch!$D$5:$D$1171=C62,IF(Nummerbuch!$E$5:$E$1171=D62,Nummerbuch!$H$5:$H$1171,0),0),0),0))} -> 0 | F62: {=COUNT(Nummerbuch!$B$5:$B$1004,IF(Nummerbuch!$B$5:$B$1004=A62,IF(Nummerbuch!$D$5:$D$1004=C62,IF(Nummerbuch!$E$5:$E$1004=D62,0))))} -> 0
A63: ELä | B63: L | C63: B | D63: 5 | E63: {=SUM(IF(Nummerbuch!$B$5:$B$1171=A63,IF(Nummerbuch!$C$5:$C$1171=B63,IF(Nummerbuch!$D$5:$D$1171=C63,IF(Nummerbuch!$E$5:$E$1171=D63,Nummerbuch!$H$5:$H$1171,0),0),0),0))} -> 0 | F63: {=COUNT(Nummerbuch!$B$5:$B$1004,IF(Nummerbuch!$B$5:$B$1004=A63,IF(Nummerbuch!$D$5:$D$1004=C63,IF(Nummerbuch!$E$5:$E$1004=D63,0))))} -> 0
A64: ELä | B64: L | C64: B | D64: 6 | E64: {=SUM(IF(Nummerbuch!$B$5:$B$1171=A64,IF(Nummerbuch!$C$5:$C$1171=B64,IF(Nummerbuch!$D$5:$D$1171=C64,IF(Nummerbuch!$E$5:$E$1171=D64,Nummerbuch!$H$5:$H$1171,0),0),0),0))} -> 0 | F64: {=COUNT(Nummerbuch!$B$5:$B$1004,IF(Nummerbuch!$B$5:$B$1004=A64,IF(Nummerbuch!$D$5:$D$1004=C64,IF(Nummerbuch!$E$5:$E$1004=D64,0))))} -> 0 | G64: =SUM(F55:F64) -> 0 | H64: =SUM(E55:E64) -> 0
A65: ELä | B65: L | C65: C | D65: 1a | E65: {=SUM(IF(Nummerbuch!$B$5:$B$1171=A65,IF(Nummerbuch!$C$5:$C$1171=B65,IF(Nummerbuch!$D$5:$D$1171=C65,IF(Nummerbuch!$E$5:$E$1171=D65,Nummerbuch!$H$5:$H$1171,0),0),0),0))} -> 0 | F65: {=COUNT(Nummerbuch!$B$5:$B$1004,IF(Nummerbuch!$B$5:$B$1004=A65,IF(Nummerbuch!$D$5:$D$1004=C65,IF(Nummerbuch!$E$5:$E$1004=D65,0))))} -> 0
A66: ELä | B66: L | C66: C | D66: 1b1 | E66: {=SUM(IF(Nummerbuch!$B$5:$B$1171=A66,IF(Nummerbuch!$C$5:$C$1171=B66,IF(Nummerbuch!$D$5:$D$1171=C66,IF(Nummerbuch!$E$5:$E$1171=D66,Nummerbuch!$H$5:$H$1171,0),0),0),0))} -> 0 | F66: {=COUNT(Nummerbuch!$B$5:$B$1004,IF(Nummerbuch!$B$5:$B$1004=A66,IF(Nummerbuch!$D$5:$D$1004=C66,IF(Nummerbuch!$E$5:$E$1004=D66,0))))} -> 0
A67: ELä | B67: L | C67: C | D67: 1b2 | E67: {=SUM(IF(Nummerbuch!$B$5:$B$1171=A67,IF(Nummerbuch!$C$5:$C$1171=B67,IF(Nummerbuch!$D$5:$D$1171=C67,IF(Nummerbuch!$E$5:$E$1171=D67,Nummerbuch!$H$5:$H$1171,0),0),0),0))} -> 0 | F67: {=COUNT(Nummerbuch!$B$5:$B$1004,IF(Nummerbuch!$B$5:$B$1004=A67,IF(Nummerbuch!$D$5:$D$1004=C67,IF(Nummerbuch!$E$5:$E$1004=D67,0))))} -> 0
A68: ELä | B68: L | C68: C | D68: 2a | E68: {=SUM(IF(Nummerbuch!$B$5:$B$1171=A68,IF(Nummerbuch!$C$5:$C$1171=B68,IF(Nummerbuch!$D$5:$D$1171=C68,IF(Nummerbuch!$E$5:$E$1171=D68,Nummerbuch!$H$5:$H$1171,0),0),0),0))} -> 0 | F68: {=COUNT(Nummerbuch!$B$5:$B$1004,IF(Nummerbuch!$B$5:$B$1004=A68,IF(Nummerbuch!$D$5:$D$1004=C68,IF(Nummerbuch!$E$5:$E$1004=D68,0))))} -> 0
A69: ELä | B69: L | C69: C | D69: 2b | E69: {=SUM(IF(Nummerbuch!$B$5:$B$1171=A69,IF(Nummerbuch!$C$5:$C$1171=B69,IF(Nummerbuch!$D$5:$D$1171=C69,IF(Nummerbuch!$E$5:$E$1171=D69,Nummerbuch!$H$5:$H$1171,0),0),0),0))} -> 0 | F69: {=COUNT(Nummerbuch!$B$5:$B$1004,IF(Nummerbuch!$B$5:$B$1004=A69,IF(Nummerbuch!$D$5:$D$1004=C69,IF(Nummerbuch!$E$5:$E$1004=D69,0))))} -> 0
A70: ELä | B70: L | C70: C | D70: 3a | E70: {=SUM(IF(Nummerbuch!$B$5:$B$1171=A70,IF(Nummerbuch!$C$5:$C$1171=B70,IF(Nummerbuch!$D$5:$D$1171=C70,IF(Nummerbuch!$E$5:$E$1171=D70,Nummerbuch!$H$5:$H$1171,0),0),0),0))} -> 0 | F70: {=COUNT(Nummerbuch!$B$5:$B$1004,IF(Nummerbuch!$B$5:$B$1004=A70,IF(Nummerbuch!$D$5:$D$1004=C70,IF(Nummerbuch!$E$5:$E$1004=D70,0))))} -> 0
A71: ELä | B71: L | C71: C | D71: 3b | E71: {=SUM(IF(Nummerbuch!$B$5:$B$1171=A71,IF(Nummerbuch!$C$5:$C$1171=B71,IF(Nummerbuch!$D$5:$D$1171=C71,IF(Nummerbuch!$E$5:$E$1171=D71,Nummerbuch!$H$5:$H$1171,0),0),0),0))} -> 0 | F71: {=COUNT(Nummerbuch!$B$5:$B$1004,IF(Nummerbuch!$B$5:$B$1004=A71,IF(Nummerbuch!$D$5:$D$1004=C71,IF(Nummerbuch!$E$5:$E$1004=D71,0))))} -> 0
A72: ELä | B72: L | C72: C | D72: 4 | E72: {=SUM(IF(Nummerbuch!$B$5:$B$1171=A72,IF(Nummerbuch!$C$5:$C$1171=B72,IF(Nummerbuch!$D$5:$D$1171=C72,IF(Nummerbuch!$E$5:$E$1171=D72,Nummerbuch!$H$5:$H$1171,0),0),0),0))} -> 0 | F72: {=COUNT(Nummerbuch!$B$5:$B$1004,IF(Nummerbuch!$B$5:$B$1004=A72,IF(Nummerbuch!$D$5:$D$1004=C72,IF(Nummerbuch!$E$5:$E$1004=D72,0))))} -> 0
A73: ELä | B73: L | C73: C | D73: 5 | E73: {=SUM(IF(Nummerbuch!$B$5:$B$1171=A73,IF(Nummerbuch!$C$5:$C$1171=B73,IF(Nummerbuch!$D$5:$D$1171=C73,IF(Nummerbuch!$E$5:$E$1171=D73,Nummerbuch!$H$5:$H$1171,0),0),0),0))} -> 0 | F73: {=COUNT(Nummerbuch!$B$5:$B$1004,IF(Nummerbuch!$B$5:$B$1004=A73,IF(Nummerbuch!$D$5:$D$1004=C73,IF(Nummerbuch!$E$5:$E$1004=D73,0))))} -> 0
A74: ELä | B74: L | C74: C | D74: 6 | E74: {=SUM(IF(Nummerbuch!$B$5:$B$1171=A74,IF(Nummerbuch!$C$5:$C$1171=B74,IF(Nummerbuch!$D$5:$D$1171=C74,IF(Nummerbuch!$E$5:$E$1171=D74,Nummerbuch!$H$5:$H$1171,0),0),0),0))} -> 0 | F74: {=COUNT(Nummerbuch!$B$5:$B$1004,IF(Nummerbuch!$B$5:$B$1004=A74,IF(Nummerbuch!$D$5:$D$1004=C74,IF(Nummerbuch!$E$5:$E$1004=D74,0))))} -> 0 | G74: =SUM(F65:F74) -> 0 | H74: =SUM(E65:E74) -> 0
A75: ELä | B75: L | C75: D | D75: 1a | E75: {=SUM(IF(Nummerbuch!$B$5:$B$1171=A75,IF(Nummerbuch!$C$5:$C$1171=B75,IF(Nummerbuch!$D$5:$D$1171=C75,IF(Nummerbuch!$E$5:$E$1171=D75,Nummerbuch!$H$5:$H$1171,0),0),0),0))} -> 0 | F75: {=COUNT(Nummerbuch!$B$5:$B$1004,IF(Nummerbuch!$B$5:$B$1004=A75,IF(Nummerbuch!$D$5:$D$1004=C75,IF(Nummerbuch!$E$5:$E$1004=D75,0))))} -> 0
A76: ELä | B76: L | C76: D | D76: 1b1 | E76: {=SUM(IF(Nummerbuch!$B$5:$B$1171=A76,IF(Nummerbuch!$C$5:$C$1171=B76,IF(Nummerbuch!$D$5:$D$1171=C76,IF(Nummerbuch!$E$5:$E$1171=D76,Nummerbuch!$H$5:$H$1171,0),0),0),0))} -> 0 | F76: {=COUNT(Nummerbuch!$B$5:$B$1004,IF(Nummerbuch!$B$5:$B$1004=A76,IF(Nummerbuch!$D$5:$D$1004=C76,IF(Nummerbuch!$E$5:$E$1004=D76,0))))} -> 0
A77: ELä | B77: L | C77: D | D77: 1b2 | E77: {=SUM(IF(Nummerbuch!$B$5:$B$1171=A77,IF(Nummerbuch!$C$5:$C$1171=B77,IF(Nummerbuch!$D$5:$D$1171=C77,IF(Nummerbuch!$E$5:$E$1171=D77,Nummerbuch!$H$5:$H$1171,0),0),0),0))} -> 0 | F77: {=COUNT(Nummerbuch!$B$5:$B$1004,IF(Nummerbuch!$B$5:$B$1004=A77,IF(Nummerbuch!$D$5:$D$1004=C77,IF(Nummerbuch!$E$5:$E$1004=D77,0))))} -> 0
A78: ELä | B78: L | C78: D | D78: 2a | E78: {=SUM(IF(Nummerbuch!$B$5:$B$1171=A78,IF(Nummerbuch!$C$5:$C$1171=B78,IF(Nummerbuch!$D$5:$D$1171=C78,IF(Nummerbuch!$E$5:$E$1171=D78,Nummerbuch!$H$5:$H$1171,0),0),0),0))} -> 0 | F78: {=COUNT(Nummerbuch!$B$5:$B$1004,IF(Nummerbuch!$B$5:$B$1004=A78,IF(Nummerbuch!$D$5:$D$1004=C78,IF(Nummerbuch!$E$5:$E$1004=D78,0))))} -> 0
A79: ELä | B79: L | C79: D | D79: 2b | E79: {=SUM(IF(Nummerbuch!$B$5:$B$1171=A79,IF(Nummerbuch!$C$5:$C$1171=B79,IF(Nummerbuch!$D$5:$D$1171=C79,IF(Nummerbuch!$E$5:$E$1171=D79,Nummerbuch!$H$5:$H$1171,0),0),0),0))} -> 0 | F79: {=COUNT(Nummerbuch!$B$5:$B$1004,IF(Nummerbuch!$B$5:$B$1004=A79,IF(Nummerbuch!$D$5:$D$1004=C79,IF(Nummerbuch!$E$5:$E$1004=D79,0))))} -> 0
A80: ELä | B80: L | C80: D | D80: 3a | E80: {=SUM(IF(Nummerbuch!$B$5:$B$1171=A80,IF(Nummerbuch!$C$5:$C$1171=B80,IF(Nummerbuch!$D$5:$D$1171=C80,IF(Nummerbuch!$E$5:$E$1171=D80,Nummerbuch!$H$5:$H$1171,0),0),0),0))} -> 0 | F80: {=COUNT(Nummerbuch!$B$5:$B$1004,IF(Nummerbuch!$B$5:$B$1004=A80,IF(Nummerbuch!$D$5:$D$1004=C80,IF(Nummerbuch!$E$5:$E$1004=D80,0))))} -> 0
A81: ELä | B81: L | C81: D | D81: 3b | E81: {=SUM(IF(Nummerbuch!$B$5:$B$1171=A81,IF(Nummerbuch!$C$5:$C$1171=B81,IF(Nummerbuch!$D$5:$D$1171=C81,IF(Nummerbuch!$E$5:$E$1171=D81,Nummerbuch!$H$5:$H$1171,0),0),0),0))} -> 0 | F81: {=COUNT(Nummerbuch!$B$5:$B$1004,IF(Nummerbuch!$B$5:$B$1004=A81,IF(Nummerbuch!$D$5:$D$1004=C81,IF(Nummerbuch!$E$5:$E$1004=D81,0))))} -> 0
A82: ELä | B82: L | C82: D | D82: 4 | E82: {=SUM(IF(Nummerbuch!$B$5:$B$1171=A82,IF(Nummerbuch!$C$5:$C$1171=B82,IF(Nummerbuch!$D$5:$D$1171=C82,IF(Nummerbuch!$E$5:$E$1171=D82,Nummerbuch!$H$5:$H$1171,0),0),0),0))} -> 0 | F82: {=COUNT(Nummerbuch!$B$5:$B$1004,IF(Nummerbuch!$B$5:$B$1004=A82,IF(Nummerbuch!$D$5:$D$1004=C82,IF(Nummerbuch!$E$5:$E$1004=D82,0))))} -> 0
A83: ELä | B83: L | C83: D | D83: 5 | E83: {=SUM(IF(Nummerbuch!$B$5:$B$1171=A83,IF(Nummerbuch!$C$5:$C$1171=B83,IF(Nummerbuch!$D$5:$D$1171=C83,IF(Nummerbuch!$E$5:$E$1171=D83,Nummerbuch!$H$5:$H$1171,0),0),0),0))} -> 0 | F83: {=COUNT(Nummerbuch!$B$5:$B$1004,IF(Nummerbuch!$B$5:$B$1004=A83,IF(Nummerbuch!$D$5:$D$1004=C83,IF(Nummerbuch!$E$5:$E$1004=D83,0))))} -> 0
A84: ELä | B84: L | C84: D | D84: 6 | E84: {=SUM(IF(Nummerbuch!$B$5:$B$1171=A84,IF(Nummerbuch!$C$5:$C$1171=B84,IF(Nummerbuch!$D$5:$D$1171=C84,IF(Nummerbuch!$E$5:$E$1171=D84,Nummerbuch!$H$5:$H$1171,0),0),0),0))} -> 0 | F84: {=COUNT(Nummerbuch!$B$5:$B$1004,IF(Nummerbuch!$B$5:$B$1004=A84,IF(Nummerbuch!$D$5:$D$1004=C84,IF(Nummerbuch!$E$5:$E$1004=D84,0))))} -> 0 | G84: =SUM(F75:F84) -> 0 | H84: =SUM(E75:E84) -> 0
A85: ELä | B85: L | C85: OA | D85: 1a | E85: {=SUM(IF(Nummerbuch!$B$5:$B$1171=A85,IF(Nummerbuch!$C$5:$C$1171=B85,IF(Nummerbuch!$D$5:$D$1171=C85,IF(Nummerbuch!$E$5:$E$1171=D85,Nummerbuch!$H$5:$H$1171,0),0),0),0))} -> 0 | F85: {=COUNT(Nummerbuch!$B$5:$B$1004,IF(Nummerbuch!$B$5:$B$1004=A85,IF(Nummerbuch!$D$5:$D$1004=C85,IF(Nummerbuch!$E$5:$E$1004=D85,0))))} -> 0
A86: ELä | B86: L | C86: OA | D86: 1b1 | E86: {=SUM(IF(Nummerbuch!$B$5:$B$1171=A86,IF(Nummerbuch!$C$5:$C$1171=B86,IF(Nummerbuch!$D$5:$D$1171=C86,IF(Nummerbuch!$E$5:$E$1171=D86,Nummerbuch!$H$5:$H$1171,0),0),0),0))} -> 0 | F86: {=COUNT(Nummerbuch!$B$5:$B$1004,IF(Nummerbuch!$B$5:$B$1004=A86,IF(Nummerbuch!$D$5:$D$1004=C86,IF(Nummerbuch!$E$5:$E$1004=D86,0))))} -> 0
A87: ELä | B87: L | C87: OA | D87: 1b2 | E87: {=SUM(IF(Nummerbuch!$B$5:$B$1171=A87,IF(Nummerbuch!$C$5:$C$1171=B87,IF(Nummerbuch!$D$5:$D$1171=C87,IF(Nummerbuch!$E$5:$E$1171=D87,Nummerbuch!$H$5:$H$1171,0),0),0),0))} -> 0 | F87: {=COUNT(Nummerbuch!$B$5:$B$1004,IF(Nummerbuch!$B$5:$B$1004=A87,IF(Nummerbuch!$D$5:$D$1004=C87,IF(Nummerbuch!$E$5:$E$1004=D87,0))))} -> 0
A88: ELä | B88: L | C88: OA | D88: 2a | E88: {=SUM(IF(Nummerbuch!$B$5:$B$1171=A88,IF(Nummerbuch!$C$5:$C$1171=B88,IF(Nummerbuch!$D$5:$D$1171=C88,IF(Nummerbuch!$E$5:$E$1171=D88,Nummerbuch!$H$5:$H$1171,0),0),0),0))} -> 0 | F88: {=COUNT(Nummerbuch!$B$5:$B$1004,IF(Nummerbuch!$B$5:$B$1004=A88,IF(Nummerbuch!$D$5:$D$1004=C88,IF(Nummerbuch!$E$5:$E$1004=D88,0))))} -> 0
A89: ELä | B89: L | C89: OA | D89: 2b | E89: {=SUM(IF(Nummerbuch!$B$5:$B$1171=A89,IF(Nummerbuch!$C$5:$C$1171=B89,IF(Nummerbuch!$D$5:$D$1171=C89,IF(Nummerbuch!$E$5:$E$1171=D89,Nummerbuch!$H$5:$H$1171,0),0),0),0))} -> 0 | F89: {=COUNT(Nummerbuch!$B$5:$B$1004,IF(Nummerbuch!$B$5:$B$1004=A89,IF(Nummerbuch!$D$5:$D$1004=C89,IF(Nummerbuch!$E$5:$E$1004=D89,0))))} -> 0
A90: ELä | B90: L | C90: OA | D90: 3a | E90: {=SUM(IF(Nummerbuch!$B$5:$B$1171=A90,IF(Nummerbuch!$C$5:$C$1171=B90,IF(Nummerbuch!$D$5:$D$1171=C90,IF(Nummerbuch!$E$5:$E$1171=D90,Nummerbuch!$H$5:$H$1171,0),0),0),0))} -> 0 | F90: {=COUNT(Nummerbuch!$B$5:$B$1004,IF(Nummerbuch!$B$5:$B$1004=A90,IF(Nummerbuch!$D$5:$D$1004=C90,IF(Nummerbuch!$E$5:$E$1004=D90,0))))} -> 0
A91: ELä | B91: L | C91: OA | D91: 3b | E91: {=SUM(IF(Nummerbuch!$B$5:$B$1171=A91,IF(Nummerbuch!$C$5:$C$1171=B91,IF(Nummerbuch!$D$5:$D$1171=C91,IF(Nummerbuch!$E$5:$E$1171=D91,Nummerbuch!$H$5:$H$1171,0),0),0),0))} -> 0 | F91: {=COUNT(Nummerbuch!$B$5:$B$1004,IF(Nummerbuch!$B$5:$B$1004=A91,IF(Nummerbuch!$D$5:$D$1004=C91,IF(Nummerbuch!$E$5:$E$1004=D91,0))))} -> 0
A92: ELä | B92: L | C92: OA | D92: 4 | E92: {=SUM(IF(Nummerbuch!$B$5:$B$1171=A92,IF(Nummerbuch!$C$5:$C$1171=B92,IF(Nummerbuch!$D$5:$D$1171=C92,IF(Nummerbuch!$E$5:$E$1171=D92,Nummerbuch!$H$5:$H$1171,0),0),0),0))} -> 0 | F92: {=COUNT(Nummerbuch!$B$5:$B$1004,IF(Nummerbuch!$B$5:$B$1004=A92,IF(Nummerbuch!$D$5:$D$1004=C92,IF(Nummerbuch!$E$5:$E$1004=D92,0))))} -> 0
A93: ELä | B93: L | C93: OA | D93: 5 | E93: {=SUM(IF(Nummerbuch!$B$5:$B$1171=A93,IF(Nummerbuch!$C$5:$C$1171=B93,IF(Nummerbuch!$D$5:$D$1171=C93,IF(Nummerbuch!$E$5:$E$1171=D93,Nummerbuch!$H$5:$H$1171,0),0),0),0))} -> 0 | F93: {=COUNT(Nummerbuch!$B$5:$B$1004,IF(Nummerbuch!$B$5:$B$1004=A93,IF(Nummerbuch!$D$5:$D$1004=C93,IF(Nummerbuch!$E$5:$E$1004=D93,0))))} -> 0
A94: ELä | B94: L | C94: OA | D94: 6 | E94: {=SUM(IF(Nummerbuch!$B$5:$B$1171=A94,IF(Nummerbuch!$C$5:$C$1171=B94,IF(Nummerbuch!$D$5:$D$1171=C94,IF(Nummerbuch!$E$5:$E$1171=D94,Nummerbuch!$H$5:$H$1171,0),0),0),0))} -> 0 | F94: {=COUNT(Nummerbuch!$B$5:$B$1004,IF(Nummerbuch!$B$5:$B$1004=A94,IF(Nummerbuch!$D$5:$D$1004=C94,IF(Nummerbuch!$E$5:$E$1004=D94,0))))} -> 0 | G94: =SUM(F85:F94) -> 0 | H94: =SUM(E85:E94) -> 0
A95: JLä | B95: L | C95: A | D95: 2b | E95: {=SUM(IF(Nummerbuch!$B$5:$B$1171=A95,IF(Nummerbuch!$C$5:$C$1171=B95,IF(Nummerbuch!$D$5:$D$1171=C95,IF(Nummerbuch!$E$5:$E$1171=D95,Nummerbuch!$H$5:$H$1171,0),0),0),0))} -> 0 | F95: {=COUNT(Nummerbuch!$B$5:$B$1004,IF(Nummerbuch!$B$5:$B$1004=A95,IF(Nummerbuch!$D$5:$D$1004=C95,IF(Nummerbuch!$E$5:$E$1004=D95,0))))} -> 0
A96: JLä | B96: L | C96: A | D96: 3a | E96: {=SUM(IF(Nummerbuch!$B$5:$B$1171=A96,IF(Nummerbuch!$C$5:$C$1171=B96,IF(Nummerbuch!$D$5:$D$1171=C96,IF(Nummerbuch!$E$5:$E$1171=D96,Nummerbuch!$H$5:$H$1171,0),0),0),0))} -> 0 | F96: {=COUNT(Nummerbuch!$B$5:$B$1004,IF(Nummerbuch!$B$5:$B$1004=A96,IF(Nummerbuch!$D$5:$D$1004=C96,IF(Nummerbuch!$E$5:$E$1004=D96,0))))} -> 0
A97: JLä | B97: L | C97: A | D97: 3b | E97: {=SUM(IF(Nummerbuch!$B$5:$B$1171=A97,IF(Nummerbuch!$C$5:$C$1171=B97,IF(Nummerbuch!$D$5:$D$1171=C97,IF(Nummerbuch!$E$5:$E$1171=D97,Nummerbuch!$H$5:$H$1171,0),0),0),0))} -> 0 | F97: {=COUNT(Nummerbuch!$B$5:$B$1004,IF(Nummerbuch!$B$5:$B$1004=A97,IF(Nummerbuch!$D$5:$D$1004=C97,IF(Nummerbuch!$E$5:$E$1004=D97,0))))} -> 0
A98: JLä | B98: L | C98: A | D98: 4 | E98: {=SUM(IF(Nummerbuch!$B$5:$B$1171=A98,IF(Nummerbuch!$C$5:$C$1171=B98,IF(Nummerbuch!$D$5:$D$1171=C98,IF(Nummerbuch!$E$5:$E$1171=D98,Nummerbuch!$H$5:$H$1171,0),0),0),0))} -> 0 | F98: {=COUNT(Nummerbuch!$B$5:$B$1004,IF(Nummerbuch!$B$5:$B$1004=A98,IF(Nummerbuch!$D$5:$D$1004=C98,IF(Nummerbuch!$E$5:$E$1004=D98,0))))} -> 0
A99: JLä | B99: L | C99: A | D99: 5 | E99: {=SUM(IF(Nummerbuch!$B$5:$B$1171=A99,IF(Nummerbuch!$C$5:$C$1171=B99,IF(Nummerbuch!$D$5:$D$1171=C99,IF(Nummerbuch!$E$5:$E$1171=D99,Nummerbuch!$H$5:$H$1171,0),0),0),0))} -> 0 | F99: {=COUNT(Nummerbuch!$B$5:$B$1004,IF(Nummerbuch!$B$5:$B$1004=A99,IF(Nummerbuch!$D$5:$D$1004=C99,IF(Nummerbuch!$E$5:$E$1004=D99,0))))} -> 0
A100: JLä | B100: L | C100: A | D100: 6 | E100: {=SUM(IF(Nummerbuch!$B$5:$B$1171=A100,IF(Nummerbuch!$C$5:$C$1171=B100,IF(Nummerbuch!$D$5:$D$1171=C100,IF(Nummerbuch!$E$5:$E$1171=D100,Nummerbuch!$H$5:$H$1171,0),0),0),0))} -> 0 | F100: {=COUNT(Nummerbuch!$B$5:$B$1004,IF(Nummerbuch!$B$5:$B$1004=A100,IF(Nummerbuch!$D$5:$D$1004=C100,IF(Nummerbuch!$E$5:$E$1004=D100,0))))} -> 0 | G100: =SUM(F95:F100) -> 0 | H100: =SUM(E95:E100) -> 0
...

Sheet BA-Schlüssel
A1: Baumartenschlüssel | C1: Info
A3: Baumart | B3: Bezeichnung | C3: BAGr. | D3: BAGr.
A4: Abk. | C4: intern | D4: Bund
A5: Tei | B5: Traubeneiche | C5: Ei | D5: Ei
A6: Sei | B6: Stieleiche | C6: Ei | D6: Ei
A7: ÜEi | B7: übrige Eichen | C7: Ei | D7: Ei
A8: Rei | B8: Roteiche | C8: Ei | D8: Ei
A9: Bu | B9: Buche | C9: Bu | D9: Bu
A10: Pap | B10: Pappel | C10: SLbh | D10: Bu
A11: Ulm | B11: Ulme | C11: SLbh | D11: Bu
A12: Es | B12: Esche | C12: SLbh | D12: Bu
A13: Bah | B13: Bergahorn | C13: SLbh | D13: Bu
A14: Sah | B14: Spitzahorn | C14: SLbh | D14: Bu
A15: Kir | B15: Kirsche | C15: SLbh | D15: Bu
A16: Lin | B16: Linde | C16: SLbh | D16: Bu
... A45: ALä | B45: andere Lärchen | C45: JLä | D45: Ki

Sheet Sorten-, Stärkeschlüssel
A1: Code | B1: Verwendungssorten | C1: Abkürzung | D1: Stärkeklassen | G1: Info!A1
A2: 1 | B2: Furnierholz | C2: F | D2: 10 | E2: 1a
A3: 2 | B3: Teilfurnier, Messerholz | C3: TF | D3: 11 | E3: 1a
A4: 3 | B4: Schälholz | C4: SH | D4: 12 | E4: 1a
A5: 4 | B5: Lamellenholz | C5: LA | D5: 13 | E5: 1a
A6: 5 | B6: Blochholz | C6: BL | D6: 14 | E6: 1a
A7: 6 | B7: Schneide-, Bauholz | C7: SB | D7: 15 | E7: 1b1
A8: 7 | B8: Schwellenholz | C8: SW | D8: 16 | E8: 1b1
A9: 8 | B9: Rammpfahlholz | C9: R | D9: 17 | E9: 1b2
A10: 9 | B10: Mastenholz | C10: M | D10: 18 | E10: 1b2
A11: 10 | B11: Profilspanerholz | C11: PS | D11: 19 | E11: 1b2
A12: 11 | B12: Verpackungs-, Palettenholz | C12: VP | D12: 20 | E12: 2a
A13: 12 | B13: Parkettholz | C13: PK | D13: 21 | E13: 2a
... A21: 20 | B21: Brenn-/Energieholz | C21: S, IL,HS,NH | D21: 29 | E21: 2b
D22: 30 | E22: 3a
D23: 31 | E23: 3a
D24: 32 | E24: 3a
D25: 33 | E25: 3a
D26: 34 | E26: 3a
D27: 35 | E27: 3b
D28: 36 | E28: 3b
D29: 37 | E29: 3b
D30: 38 | E30: 3b
D31: 39 | E31: 3b
D32: 40 | E32: 4
D33: 41 | E33: 4
D34: 42 | E34: 4
D35: 43 | E35: 4
D36: 44 | E36: 4
D37: 45 | E37: 4
D38: 46 | E38: 4
D39: 47 | E39: 4
D40: 48 | E40: 4
D41: 49 | E41: 4
D42: 50 | E42: 5
D43: 51 | E43: 5
... D87: 95 | E87: 6

Sheet Stichprobe IL
A1: Technische Produktion | F1: Vollvermessung | G1: x | H1: MB-Nr.: | I1: 103 | J1: WJ: | K1: =A!C14 -> 2019
A2: Forstrevier: | D2: =A!C10 -> NN | F2: Stichprobe | H2: Abt.: | I2: 101
A3: Waldbesitzer: | D3: =A!C6 -> NN | G3: Nr. | H3: Länge | I3: Durchm. | J3: Inhalt | K3: Nr. | L3: Länge | M3: Durchm. | N3: Inhalt
A4: Baumart: | D4: Bu | E4: Polter-Nr.: | H4: m | I4: cm | J4: fm o.R. | L4: m | M4: cm | N4: fm o.R.
A5: Nr. | B5: Länge | C5: Durchm. | D5: Inhalt | E5: Ø | F5: Summe | G5: 40 | J5: =PRODUCT(I5/200*I5/200*3.1415*H5) -> 0 | K5: 81
B6: m | C6: cm | D6: fm o.R. | E6: Stamm | F6: Gesamt | G6: 41 | J6: =PRODUCT(I6/200*I6/200*3.1415*H6) -> 0 | K6: 82
A7: 1 | D7: =PRODUCT(C7/200*C7/200*3.1415*B7) -> 0 | E7: fm o.R. | F7: (durchschn. | G7: 42 | J7: =PRODUCT(I7/200*I7/200*3.1415*H7) -> 0 | K7: 83
A8: 2 | D8: =PRODUCT(C8/200*C8/200*3.1415*B8) -> 0 | E8: (Summe | F8: Inhalt der | G8: 43 | J8: =PRODUCT(I8/200*I8/200*3.1415*H8) -> 0 | K8: 84
A9: 3 | D9: =PRODUCT(C9/200*C9/200*3.1415*B9) -> 0 | E9: der Stipro | F9: Stpro x | G9: 44 | J9: =PRODUCT(I9/200*I9/200*3.1415*H9) -> 0 | K9: 85
A10: 4 | D10: =PRODUCT(C10/200*C10/200*3.1415*B10) -> 0 | E10: : Stück | F10: Ges.Stück) | G10: 45 | J10: =PRODUCT(I10/200*I10/200*3.1415*H10) -> 0 | K10: 86
A11: 5 | D11: =PRODUCT(C11/200*C11/200*3.1415*B11) -> 0 | E11: Stipro) | F11: Stück | G11: 46 | J11: =PRODUCT(I11/200*I11/200*3.1415*H11) -> 0 | K11: 87
A12: 6 | D12: =PRODUCT(C12/200*C12/200*3.1415*B12) -> 0 | E12: =IF(E16>0,N25/E16,"") | G12: 47 | J12: =PRODUCT(I12/200*I12/200*3.1415*H12) -> 0 | K12: 88
A13: 7 | D13: =PRODUCT(C13/200*C13/200*3.1415*B13) -> 0 | G13: 48 | J13: =PRODUCT(I13/200*I13/200*3.1415*H13) -> 0 | K13: 89
A14: 8 | D14: =PRODUCT(C14/200*C14/200*3.1415*B14) -> 0 | E14: Stück | F14: Gesamt | G14: 49 | J14: =PRODUCT(I14/200*I14/200*3.1415*H14) -> 0 | K14: 90
A15: 9 | D15: =PRODUCT(C15/200*C15/200*3.1415*B15) -> 0 | E15: Stipro | F15: fm o.R. | G15: 50 | J15: =PRODUCT(I15/200*I15/200*3.1415*H15) -> 0 | K15: 91
A16: 10 | D16: =PRODUCT(C16/200*C16/200*3.1415*B16) -> 0 | E16: =COUNT(B7:B117) -> 0 | F16: =IF(F12>0,E12*F12,"") | G16: 51 | J16: =PRODUCT(I16/200*I16/200*3.1415*H16) -> 0 | K16: 92
A17: 11 | D17: =PRODUCT(C17/200*C17/200*3.1415*B17) -> 0 | G17: 52 | J17: =PRODUCT(I17/200*I17/200*3.1415*H17) -> 0 | K17: 93
A18: 12 | D18: =PRODUCT(C18/200*C18/200*3.1415*B18) -> 0 | G18: 53 | J18: =PRODUCT(I18/200*I18/200*3.1415*H18) -> 0 | K18: 94
A19: 13 | D19: =PRODUCT(C19/200*C19/200*3.1415*B19) -> 0 | G19: 54 | J19: =PRODUCT(I19/200*I19/200*3.1415*H19) -> 0 | K19: 95
A20: 14 | D20: =PRODUCT(C20/200*C20/200*3.1415*B20) -> 0 | G20: 55 | J20: =PRODUCT(I20/200*I20/200*3.1415*H20) -> 0 | K20: 96
A21: 15 | D21: =PRODUCT(C21/200*C21/200*3.1415*B21) -> 0 | G21: 56 | J21: =PRODUCT(I21/200*I21/200*3.1415*H21) -> 0 | K21: 97
A22: 16 | D22: =PRODUCT(C22/200*C22/200*3.1415*B22) -> 0 | G22: 57 | K22: 98
A23: 17 | D23: =PRODUCT(C23/200*C23/200*3.1415*B23) -> 0 | G23: 58 | K23: 99 | N23: =PRODUCT(M23/200*M23/200*3.1415*L23) -> 0
A24: 18 | D24: =PRODUCT(C24/200*C24/200*3.1415*B24) -> 0 | G24: 59 | K24: 100 | N24: =PRODUCT(M24/200*M24/200*3.1415*L24) -> 0
A25: 19 | D25: =PRODUCT(C25/200*C25/200*3.1415*B25) -> 0 | G25: 60 | K25: Stichprobe Efm: | N25: =SUM(D7:D43,J5:J43,N5:N24) -> 0
A26: 20 | D26: =PRODUCT(C26/200*C26/200*3.1415*B26) -> 0 | G26: 61
A27: 21 | D27: =PRODUCT(C27/200*C27/200*3.1415*B27) -> 0 | G27: 62
A28: 22 | D28: =PRODUCT(C28/200*C28/200*3.1415*B28) -> 0 | G28: 63
A29: 23 | D29: =PRODUCT(C29/200*C29/200*3.1415*B29) -> 0 | G29: 64
A30: 24 | D30: =PRODUCT(C30/200*C30/200*3.1415*B30) -> 0 | G30: 65
A31: 25 | D31: =PRODUCT(C31/200*C31/200*3.1415*B31) -> 0 | G31: 66
A32: 26 | D32: =PRODUCT(C32/200*C32/200*3.1415*B32) -> 0 | G32: 67
A33: 27 | D33: =PRODUCT(C33/200*C33/200*3.1415*B33) -> 0 | G33: 68
A34: 28 | D34: =PRODUCT(C34/200*C34/200*3.1415*B34) -> 0 | G34: 69
A35: 29 | D35: =PRODUCT(C35/200*C35/200*3.1415*B35) -> 0 | G35: 70
A36: 30 | D36: =PRODUCT(C36/200*C36/200*3.1415*B36) -> 0 | G36: 71
A37: 31 | D37: =PRODUCT(C37/200*C37/200*3.1415*B37) -> 0 | G37: 72
... A45: 39 | D45: =PRODUCT(C45/200*C45/200*3.1415*B45) -> 0 | G45: 80

Sheet Stichprobe
A1: Stichprobe (nach der Kreisfläche) | J1: 10 | K1: 3 | L1: 7
J2: Fi | K2: 2 | L2: 7 cm o.R.
A3: Forstamt | C3: =A!C8 -> NN | E3: FWJ | F3: =A!C14 -> 2019 | H3: Polter-Nr.: | I3: 1 | J3: SFi | K3: 2.4 | L3: 8 cm o.R.
A4: Forstrevier | C4: =A!C10 -> NN | E4: Abtlg: | J4: Ta | K4: 2.5 | L4: 9 cm o.R.
A5: Waldbesitzer | C5: =A!C6 -> NN | E5: MB-Nr.: | F5: 112 | H5: KA | I5: 8101 | J5: Pr | K5: 3 | L5: 9,5 cm o.R.
A6: Baum= | J6: Gr | K6: 3.2 | L6: 10 cm o.R.
A7: art: | B7: =INDEX(J2:J14,J1) -> Bu | D7: Fixlänge m | E7: =INDEX(K2:K11,K1) -> 2.5 | G7: Info | H7: Mindestzopf | I7: =INDEX(L2:L16,L1) -> 12 cm o.R. | J7: Du | K7: 3.6 | L7: 11 cm o.R.
J8: Ki | K8: 4 | L8: 12 cm o.R.
A9: Mitte | B9: Kreisfläche | C9: Stück | D9: Längensumme | E9: Menge | F9: Stärke= | G9: Anteil | H9: Verkaufs= | I9: Bemerkungen | J9: eL | K9: 4.2 | L9: 13 cm o.R.
A10: cm o.R. | B10: qm | D10: m | E10: fm o.R. | F10: klasse | G10: % | H10: menge . | J10: jL | K10: 4.5 | L10: 14 cm o.R.
A11: 7 | B11: =(A11/200*A11/200*3.1415927) -> 0.0038 | D11: =C11*$E$7 -> 0 | E11: =D11*B11 -> 0 | H11: fm o.R. | J11: Bu | K11: 5 | L11: 15 cm o.R.
A12: 8 | B12: =(A12/200*A12/200*3.1415927) -> 0.005 | D12: =C12*$E$7 -> 0 | E12: =D12*B12 -> 0 | J12: Ei | L12: 16 cm o.R.
A13: 9 | B13: =(A13/200*A13/200*3.1415927) -> 0.0064 | D13: =C13*$E$7 -> 0 | E13: =D13*B13 -> 0 | J13: Bi | L13: 17 cm o.R.
C14: =SUM(C11:C13) -> 0 | D14: =C14*$E$7 -> 0 | E14: =SUM(E11:E13) -> 0 | F14: Ob | G14: =E14*100/E58 -> #DIV/0! | H14: =H62*G14/100 -> #DIV/0! | J14: Er | L14: 18 cm o. R.
A15: 10 | B15: =(A15/200*A15/200*3.1415927) -> 0.0079 | D15: =C15*$E$7 -> 0 | E15: =D15*B15 -> 0 | L15: 19 cm o.R.
A16: 11 | B16: =(A16/200*A16/200*3.1415927) -> 0.0095 | D16: =C16*$E$7 -> 0 | E16: =D16*B16 -> 0 | L16: 20 cm o.R.
A17: 12 | B17: =(A17/200*A17/200*3.1415927) -> 0.0113 | D17: =C17*$E$7 -> 0 | E17: =D17*B17 -> 0
A18: 13 | B18: =(A18/200*A18/200*3.1415927) -> 0.0133 | D18: =C18*$E$7 -> 0 | E18: =D18*B18 -> 0
A19: 14 | B19: =(A19/200*A19/200*3.1415927) -> 0.0154 | D19: =C19*$E$7 -> 0 | E19: =D19*B19 -> 0
C20: =SUM(C15:C19) -> 0 | D20: =C20*$E$7 -> 0 | E20: =SUM(E15:E19) -> 0 | F20: 1a | G20: =E20*100/E58 -> #DIV/0! | H20: =H62*G20/100 -> #DIV/0!
A21: 15 | B21: =(A21/200*A21/200*3.1415927) -> 0.0177 | D21: =C21*$E$7 -> 0 | E21: =D21*B21 -> 0
A22: 16 | B22: =(A22/200*A22/200*3.1415927) -> 0.0201 | D22: =C22*$E$7 -> 0 | E22: =D22*B22 -> 0
C23: =SUM(C21:C22) -> 0 | D23: =C23*$E$7 -> 0 | E23: =SUM(E21:E22) -> 0 | F23: 1b1 | G23: =E23*100/E58 -> #DIV/0! | H23: =H62*G23/100 -> #DIV/0!
A24: 17 | B24: =(A24/200*A24/200*3.1415927) -> 0.0227 | D24: =C24*$E$7 -> 0 | E24: =D24*B24 -> 0
A25: 18 | B25: =(A25/200*A25/200*3.1415927) -> 0.0254 | D25: =C25*$E$7 -> 0 | E25: =D25*B25 -> 0
A26: 19 | B26: 0.0283 | D26: =C26*$E$7 -> 0 | E26: =D26*B26 -> 0
C27: =SUM(C24:C26) -> 0 | D27: =C27*$E$7 -> 0 | E27: =SUM(E24:E26) -> 0 | F27: 1b2 | G27: =E27*100/E58 -> #DIV/0! | H27: =H62*G27/100 -> #DIV/0!
A28: 20 | B28: =(A28/200*A28/200*3.1415927) -> 0.0314 | D28: =C28*$E$7 -> 0 | E28: =D28*B28 -> 0
A29: 21 | B29: =(A29/200*A29/200*3.1415927) -> 0.0346 | D29: =C29*$E$7 -> 0 | E29: =D29*B29 -> 0
A30: 22 | B30: =(A30/200*A30/200*3.1415927) -> 0.038 | D30: =C30*$E$7 -> 0 | E30: =D30*B30 -> 0
A31: 23 | B31: =(A31/200*A31/200*3.1415927) -> 0.0415 | D31: =C31*$E$7 -> 0 | E31: =D31*B31 -> 0
A32: 24 | B32: =(A32/200*A32/200*3.1415927) -> 0.0452 | D32: =C32*$E$7 -> 0 | E32: =D32*B32 -> 0
C33: =SUM(C28:C32) -> 0 | D33: =C33*$E$7 -> 0 | E33: =SUM(E28:E32) -> 0 | F33: 2a | G33: =E33*100/E58 -> #DIV/0! | H33: =H62*G33/100 -> #DIV/0!
A34: 25 | B34: =(A34/200*A34/200*3.1415927) -> 0.0491 | D34: =C34*$E$7 -> 0 | E34: =D34*B34 -> 0
A35: 26 | B35: =(A35/200*A35/200*3.1415927) -> 0.0531 | D35: =C35*$E$7 -> 0 | E35: =D35*B35 -> 0
A36: 27 | B36: 0.0572 | D36: =C36*$E$7 -> 0 | E36: =D36*B36 -> 0
A37: 28 | B37: 0.0615 | D37: =C37*$E$7 -> 0 | E37: =D37*B37 -> 0
A38: 29 | B38: 0.066 | D38: =C38*$E$7 -> 0 | E38: =D38*B38 -> 0
C39: =SUM(C34:C38) -> 0 | D39: =C39*$E$7 -> 0 | E39: =SUM(E34:E38) -> 0 | F39: 2b | G39: =E39*100/E58 -> #DIV/0! | H39: =H62*G39/100 -> #DIV/0!
A40: 30 | B40: =(A40/200*A40/200*3.1415927) -> 0.0707 | D40: =C40*$E$7 -> 0 | E40: =D40*B40 -> 0
A41: 31 | B41: 0.0754 | D41: =C41*$E$7 -> 0 | E41: =D41*B41 -> 0
A42: 32 | B42: =(A42/200*A42/200*3.1415927) -> 0.0804 | D42: =C42*$E$7 -> 0 | E42: =D42*B42 -> 0
A43: 33 | B43: =(A43/200*A43/200*3.1415927) -> 0.0855 | D43: =C43*$E$7 -> 0 | E43: =D43*B43 -> 0
A44: 34 | B44: 0.0907 | D44: =C44*$E$7 -> 0 | E44: =D44*B44 -> 0
C45: =SUM(C40:C44) -> 0 | D45: =C45*$E$7 -> 0 | E45: =SUM(E40:E44) -> 0 | F45: 3a | G45: =E45*100/E58 -> #DIV/0! | H45: =H62*G45/100 -> #DIV/0!
A46: 35 | B46: =(A46/200*A46/200*3.1415927) -> 0.0962 | D46: =C46*$E$7 -> 0 | E46: =D46*B46 -> 0
A47: 36 | B47: 0.1017 | D47: =C47*$E$7 -> 0 | E47: =D47*B47 -> 0
A48: 37 | B48: =(A48/200*A48/200*3.1415927) -> 0.1075 | D48: =C48*$E$7 -> 0 | E48: =D48*B48 -> 0
A49: 38 | B49: =(A49/200*A49/200*3.1415927) -> 0.1134 | D49: =C49*$E$7 -> 0 | E49: =D49*B49 -> 0
A50: 39 | B50: =(A50/200*A50/200*3.1415927) -> 0.1195 | D50: =C50*$E$7 -> 0 | E50: =D50*B50 -> 0
C51: =SUM(C46:C50) -> 0 | D51: =C51*$E$7 -> 0 | E51: =SUM(E46:E50) -> 0 | F51: 3b | G51: =E51*100/E58 -> #DIV/0! | H51: =H62*G51/100 -> #DIV/0!
A52: 40 | B52: =(A52/200*A52/200*3.1415927) -> 0.1257 | D52: =C52*$E$7 -> 0 | E52: =D52*B52 -> 0
A53: 41 | B53: =(A53/200*A53/200*3.1415927) -> 0.132 | D53: =C53*$E$7 -> 0 | E53: =D53*B53 -> 0
A54: 42 | B54: =(A54/200*A54/200*3.1415927) -> 0.1385 | D54: =C54*$E$7 -> 0 | E54: =D54*B54 -> 0
A55: 43 | B55: =(A55/200*A55/200*3.1415927) -> 0.1452 | D55: =C55*$E$7 -> 0 | E55: =D55*B55 -> 0
A56: 44 | B56: =(A56/200*A56/200*3.1415927) -> 0.1521 | D56: =C56*$E$7 -> 0 | E56: =D56*B56 -> 0
C57: =SUM(C52:C56) -> 0 | D57: =C57*$E$7 -> 0 | E57: =SUM(E52:E56) -> 0 | F57: 4 | G57: =E57*100/E58 -> #DIV/0! | H57: =H62*G57/100 -> #DIV/0!
A58: Gesamt: | C58: =C14+C20+C23+C27+C33+C39+C45+C51+C57 -> 0 | D58: =C58*$E$7 -> 0 | E58: =E14+E20+E23+E27+E33+E39+E45+E51+E57 -> 0 | G58: =G14+G20+G23+G27+G33+G39+G45+G51+G57 -> #DIV/0! | H58: =H14+H20+H23+H27+H33+H39+H45+H51+H57 -> #DIV/0!
A60: Durchschnittl. Stückmasse
A61: der Stichprobe: | D61: =E58/C58 -> #DIV/0! | F61: Verkaufs=
A62: Gesamtstückzahl: | F62: menge: | H62: =D61*D62 -> #DIV/0!

Sheet Sektions_rm_Maß
A1: Sektions-Raummaßverfahren für maschinengesetztes Kurzholz | O1: 3 | P1: TRUE | Q1: 3%
A2: Forstamt | B2: =A!C8 -> NN | G2: Baumart(en): % | I2: Fi 100% | L2: Los-Nr.: | O2: 7 cm o.R. | P2: FALSE | Q2: 4%
A4: Forstrevier | B4: =A!C10 -> NN | G4: Mindestzopf-Ø | J4: =INDEX(O2:O18,O1) -> 8 cm o.R. | L4: MB-Nr.: | M4: 113 | O4: 8 cm o.R. | P4: FALSE | Q4: 4,5%
A6: Forstbetrieb | B6: =A!C12 -> NN | G6: Sorte: | I6: IS N | L6: FWJ: | M6: =A!C14 -> 2019 | O6: 9 cm o.R. | P6: FALSE | Q6: 5%
A8: Distr./Abt.: | B8: 101 a2 | F8: Info | G8: Bestelllänge: | I8: 3 | J8: m | L8: Datum: | M8: =TODAY() -> 43635 | O8: 9,5 cm o.R. | P8: FALSE | Q8: 7%
A10: Fläche (ha): | C10: Introp Berichtigung | G10: Lagerort(e): | L10: Unterschrift: | O10: 10 cm o.R.
A12: Poltervermessung | C12: Polter Nr.: | D12: 17 | E12: Polter Nr.: | G12: Polter Nr.: | I12: Polter Nr.: | K12: Polter Nr.: | M12: Polter Nr.: | O12: 11 cm o.R.
A13: Polterseite | C13: vorne | D13: hinten | E13: vorne | F13: hinten | G13: vorne | H13: hinten | I13: vorne | J13: hinten | K13: vorne | L13: hinten | M13: vorne | N13: hinten | O13: 13 cm o.R.
O14: 14 cm o.R.
A15: Poltergesamtlänge | B15: LAB [m] | O15: 15 cm o.R.
A16: Sektionslänge | B16: LS [m] | C16: 1 | O16: 16 cm o.R.
A17: Länge Polterteil A | B17: LA [m] | O17: 18 cm o.R.
A18: Ø Länge Polterteil A | B18: Ø LA [m] | C18: =(C17+D17)/2 -> 0 | E18: =(E17+F17)/2 -> 0 | G18: =(G17+H17)/2 -> 0 | I18: =(I17+J17)/2 -> 0 | K18: =(K17+L17)/2 -> 0 | M18: =(M17+N17)/2 -> 0 | O18: 20 cm o.R.
A19: Länge Polterteil B | B19: LB [m] | D19: 0 | O19: 34 cm o.R.
A20: Ø Länge Polterteil B | B20: Ø LB [m] | C20: =(C19+D19)/2 -> 0 | E20: =(E19+F19)/2 -> 0 | G20: =(G19+H19)/2 -> 0 | I20: =(I19+J19)/2 -> 0 | K20: =(K19+L19)/2 -> 0 | M20: =(M19+N19)/2 -> 0
B22: 1. HA [m]
B23: 2. HA [m] | O23: Reduktionsfaktoren (r)
B24: 3. HA [m] | O24: BA | P24: RL | Q24: r
A25: Sektionshöhen | B25: 4. HA [m] | P25: m | Q25: %
A26: Polterteil A | B26: 5. HA [m] | O26: Fi | P26: 2 | Q26: 0.03
B27: 6. HA [m] | O27: Dou | P27: 2.5 | Q27: 0.04
B28: 7. HA [m] | P28: 3 | Q28: 0.05
B29: 8. HA [m] | O29: Ki | P29: 2 | Q29: 0.03
B30: 9. HA [m] | O30: Lä | P30: 2.5 | Q30: 0.045
B31: 10. HA [m] | P31: 3 | Q31: 0.07
A32: å Sektionshöhen | B32: å HA [m] | C32: =SUM(C22:D31) -> 0 | E32: =SUM(E22:F31) -> 0 | G32: =SUM(G22:H31) -> 0 | I32: =SUM(I22:J31) -> 0 | K32: =SUM(K22:L31) -> 0 | M32: =SUM(M22:N31) -> 0
A33: Ø Höhe Polterteil A | B33: Ø HA [m] | C33: =IF(C34,(C32+D32)/(C34),"") | E33: =IF(E34,(E32+F32)/(E34),"") | G33: =IF(G34,(G32+H32)/(G34),"") | I33: =IF(I34,(I32+J32)/(I34),"") | K33: =IF(K34,(K32+L32)/(K34),"") | M33: =IF(M34,(M32+N32)/(M34),"")
C34: =COUNTA(C22:D31) -> 0 | E34: =COUNTA(E22:F31) -> 0 | G34: =COUNTA(G22:H31) -> 0 | I34: =COUNTA(I22:J31) -> 0 | K34: =COUNTA(K22:L31) -> 0 | M34: =COUNTA(M22:N31) -> 0
A35: Höhe PolterteilB | B35: HB [m]
A36: Ø Höhe Polterteil B | B36: ØHB [m] | C36: =(C35+D35)/2 -> 0 | E36: =(E35+F35)/2 -> 0 | G36: =(G35+H35)/2 -> 0 | I36: =(I35+J35)/2 -> 0 | K36: =(K35+L35)/2 -> 0 | M36: =(M35+N35)/2 -> 0
A38: Erfassung der Güteanteile (Abschnitte) | F38: Erfassung der Güteanteile (IS) | J38: Erfassung des Unterlagenvolumens (Schätzung)
B40: 1 | C40: 2 | D40: 3 | F40: 4 | G40: 5 | H40: 6 | K40: 7
A41: Polter-Nr.: | B41: B | C41: C | D41: D | F41: IS-N | G41: IS-F | H41: IS-K | K41: Vol.c
B42: [%] | C42: [%] | D42: [%] | F42: [%] | G42: [%] | H42: [%] | K42: [rm m.R.]
A43: =D12 -> 17 | F43: 95 | G43: 5 | K43: 0.25
A44: =F12 -> 0
A45: =H12 -> 0
A46: =J12 -> 0
A47: =L12 -> 0
A48: =N12 -> 0
A50: Bruttoraummaßberechnung (Sägeabschnitte und Industrieschichtholz)
B52: 8 | C52: 9 | D52: 10 | E52: 11 | G52: 12 | H52: 13 | I52: 14 | J52: 15 | L52: 16 | M52: 17
A53: Polter-Nr.: | B53: Polter- tiefe | C53: mittlere Länge Polterteil A | D53: mittlere Höhe Polterteil A | E53: Volumen Polterteil A | G53: mittlere Länge Polterteil B | H53: mittlere Höhe Polterteil B | I53: Volumen Polterteil B | J53: Poltervolumen | L53: Unterlagen- volumen (Schätzung) | M53: Gesamt- volumen
B54: T | C54: Ø LA | D54: Ø HA | E54: Vol.A | G54: Ø LB | H54: Ø HB | I54: Vol.B | J54: Vol.AB | L54: Vol.C | M54: Vol.ABC
E55: = Sp. 8x9x10 | I55: =Sp. 8x12x13 | J55: = Sp. 11 + 14 | L55: = Sp. 7 | M55: = Sp. 15+ 16
B56: [m] | C56: [m] | D56: [m] | E56: [Rm m.R.] | G56: [m] | H56: [m] | I56: [Rm m.R.] | J56: [Rm m.R.] | L56: [Rm m.R.] | M56: [Rm m.R.]
A57: =D12 -> 17 | B57: 3 | C57: =C$18 -> 0 | D57: =$C$33 | E57: =IF(A57,B57*C57*D57,"") -> #VALUE! | G57: =$C$20 -> 0 | H57: =$C$36 -> 0 | I57: =B57*G57*H57 -> 0 | J57: =IF(A57,E57+I57,"") -> #VALUE! | L57: =K43 -> 0.25 | M57: =IF(A57,J57+L57,"") -> #VALUE!
A58: =F12 -> 0 | C58: =E$18 -> 0 | D58: =$E$33 | E58: =IF(A58,B58*C58*D58,"") | G58: =$E$20 -> 0 | H58: =$E$36 -> 0 | I58: =B58*G58*H58 -> 0 | J58: =IF(A58,E58+I58,"") | L58: =K44 -> 0 | M58: =IF(A58,J58+L58,"")
A59: =H12 -> 0 | C59: =G$18 -> 0 | D59: =$G$33 | E59: =IF(A59,B59*C59*D59,"") | G59: =$G$20 -> 0 | H59: =$G$36 -> 0 | I59: =B59*G59*H59 -> 0 | J59: =IF(A59,E59+I59,"") | L59: =K45 -> 0 | M59: =IF(A59,J59+L59,"")
A60: =J12 -> 0 | C60: =I$18 -> 0 | D60: =$I$33 | E60: =IF(A60,B60*C60*D60,"") | G60: =$I$20 -> 0 | H60: =$I$36 -> 0 | I60: =B60*G60*H60 -> 0 | J60: =IF(A60,E60+I60,"") | L60: =K46 -> 0 | M60: =IF(A60,J60+L60,"")
A61: =L12 -> 0 | C61: =K$18 -> 0 | D61: =$K$33 | E61: =IF(A61,B61*C61*D61,"") | G61: =$K$20 -> 0 | H61: =$K$36 -> 0 | I61: =B61*G61*H61 -> 0 | J61: =IF(A61,E61+I61,"") | L61: =K47 -> 0 | M61: =IF(A61,J61+L61,"")
A62: =N12 -> 0 | C62: =M$18 -> 0 | D62: =$M$33 | E62: =IF(A62,B62*C62*D62,"") | G62: =$M$20 -> 0 | H62: =$M$36 -> 0 | I62: =B62*G62*H62 -> 0 | J62: =IF(A62,E62+I62,"") | L62: =K48 -> 0 | M62: =IF(A62,J62+L62,"")
L63: å | M63: =SUM(M57:N62) -> #VALUE!
A65: Nettoraummaßberechnung | E65: Zusammenstellung nach Güteklassen | I65: Zusammenstellung nach Güteklassen | M65: Zusammenstellung
A66: (zuzüglich 4% HKS-Übermaß) | E66: (Abschnitte) | I66: (Industrieschichtholz) | M66: nach Baumarten
B68: 18 | E68: 19 | F68: 20 | G68: 21 | I68: 22 | J68: 23 | K68: 24 | M68: 25 | N68: 26
A69: Polter-Nr.: | B69: Netto-Raummaß | E69: B | F69: C | G69: D | I69: IS-N | J69: IS-F | K69: IS-K | M69: Baumart | N69: Baumart
B70: = Sp. 17 /1,04 | E70: Sp. 18 x 1/100 | F70: Sp. 18 x 2/100 | G70: Sp. 18 x 3/100 | I70: Sp. 18 x 4/100 | J70: Sp. 18 x 5/100 | K70: Sp. 18 x 6/100 | M70: Fi
B71: [Rm m.R.] | E71: [Rm m.R.] | F71: [Rm m.R.] | G71: [Rm m.R.] | I71: [Rm m.R.] | J71: [Rm m.R.] | K71: [Rm m.R.] | M71: [Rm m.R.] | N71: [Rm m.R.]
A72: =D12 -> 17 | B72: =IF(A72,M57/1.04,"") -> #VALUE! | E72: =IF(B43,B72*B43/100,"") | F72: =IF(C43,B72*C43/100,"") | G72: =IF(D43,B72*D43/100,"") | I72: =IF(F43,B72*F43/100,"") -> #VALUE! | J72: =IF(G43,B72*G43/100,"") -> #VALUE! | K72: =IF(H43,B72*H43/100,"") | M72: =M78*M73/100 -> #VALUE! | N72: =M78*N73/100 -> #VALUE!
A73: =F12 -> 0 | B73: =IF(A73,M58/1.04,"") | E73: =IF(B44,B73*B44/100,"") | F73: =IF(C44,B73*C44/100,"") | G73: =IF(D44,B73*D44/100,"") | I73: =IF(F44,B73*F44/100,"") | J73: =IF(G44,B73*G44/100,"") | K73: =IF(H44,B73*H44/100,"") | L73: Anteil % | M73: 100
A74: =H12 -> 0 | B74: =IF(A74,M59/1.04,"") | E74: =IF(B45,B74*B45/100,"") | F74: =IF(C45,B74*C45/100,"") | G74: =IF(D45,B74*D45/100,"") | I74: =IF(F45,B74*F45/100,"") | J74: =IF(G45,B74*G45/100,"") | K74: =IF(H45,B74*H45/100,"")
A75: =J12 -> 0 | B75: =IF(A75,M60/1.04,"") | E75: =IF(B46,B75*B46/100,"") | F75: =IF(C46,B75*C46/100,"") | G75: =IF(D46,B75*D46/100,"") | I75: =IF(F46,B75*F46/100,"") | J75: =IF(G46,B75*G46/100,"") | K75: =IF(H46,B75*H46/100,"")
A76: =L12 -> 0 | B76: =IF(A76,M61/1.04,"") | E76: =IF(B47,B76*B47/100,"") | F76: =IF(C47,B76*C47/100,"") | G76: =IF(D47,B76*D47/100,"") | I76: =IF(F47,B76*F47/100,"") | J76: =IF(G47,B76*G47/100,"") | K76: =IF(H47,B76*H47/100,"") | M76: Gesamtvolumen
A77: =N12 -> 0 | B77: =IF(A77,M62/1.04,"") | E77: =IF(B48,B77*B48/100,"") | F77: =IF(C48,B77*C48/100,"") | G77: =IF(D48,B77*D48/100,"") | I77: =IF(F48,B77*F48/100,"") | J77: =IF(G48,B77*G48/100,"") | K77: =IF(H48,B77*H48/100,"") | M77: [Rm m.R.]
A78: å | B78: =SUM(B72:B77) -> #VALUE! | E78: =SUM(E72:E77) -> 0 | F78: =SUM(F72:F77) -> 0 | G78: =SUM(G72:G77) -> 0 | I78: =SUM(I72:I77) -> #VALUE! | J78: =SUM(J72:J77) -> #VALUE! | K78: =SUM(K72:K77) -> 0 | M78: =E78+F78+G78+I78+J78+K78 -> #VALUE!

Sheet Schichtholz L
A1: Vermessung von Schichtholz im Sektionsverfahren | N1: 7
A2: Forstamt | C2: =A!C8 -> NN | G2: Waldort: | I2: 129 a | N2: 7 cm o.R.
A3: Forstrevier | C3: =A!C10 -> NN | G3: Baumart: | I3: Fi | L3: MB-Nr.: | M3: 112 | N3: 8 cm o.R.
A4: Waldbesitzer | C4: =A!C6 -> NN | G4: Sortiment: | I4: Pony | N4: 9 cm o.R.
A5: WJ | B5: =A!C14 -> 2019 | E5: Info | G5: Mindestzopf: | I5: =INDEX(N2:N14,N1) -> 12 cm o.R. | N5: 9,5 cm o.R.
N6: 10 cm o.R.
A7: Lfd. | B7: Polter Nr.: | D7: Polter Nr.: | F7: Polter Nr.: | H7: Polter Nr.: | J7: Polter Nr.: | L7: Polter Nr.: | N7: 11 cm o.R.
A8: Nr. | B8: Polterhöhe | D8: Polterhöhe | F8: Polterhöhe | H8: Polterhöhe | J8: Polterhöhe | L8: Polterhöhe | N8: 12 cm o.R.
B9: vorne | C9: hinten | D9: vorne | E9: hinten | F9: vorne | G9: hinten | H9: vorne | I9: hinten | J9: vorne | K9: hinten | L9: vorne | M9: hinten | N9: 13 cm o.R.
A10: 1 | N10: 14 cm o.R.
A11: 2 | N11: 15 cm o.R.
A12: 3 | N12: 16 cm o.R.
A13: 4 | N13: 18 cm o.R.
A14: 5 | N14: 20 cm o.R.
A15: 6 | N15: 34 cm o.R.
A16: 7
A17: 8
A18: 9
A19: 10
A20: 11
A21: 12
A22: 13
A23: 14
A24: 15
A25: 16
A26: 17
A27: 18
... A39: 30
A40: Sa.: | B40: =SUM(B10:B39) -> 0 | C40: =SUM(C10:C39) -> 0 | D40: =SUM(D10:D39) -> 0 | E40: =SUM(E10:E39) -> 0 | F40: =SUM(F10:F39) -> 0 | G40: =SUM(G10:G39) -> 0 | H40: =SUM(H10:H39) -> 0 | I40: =SUM(I10:I39) -> 0 | ... M40: =SUM(M10:M39) -> 0
A41: \Höhe | B41: =B40/B42 -> #DIV/0! | C41: =C40/C42 -> #DIV/0! | D41: =D40/D42 -> #DIV/0! | E41: =E40/E42 -> #DIV/0! | F41: =F40/F42 -> #DIV/0! | G41: =G40/G42 -> #DIV/0! | H41: =H40/H42 -> #DIV/0! | I41: =I40/I42 -> #DIV/0! | ... M41: =M40/M42 -> #DIV/0!
A42: Länge
A43: üHöhe
A44: üLänge
A46: Polter | B46: Rollen= | C46: Polter= | E46: Rm | F46: zuzügl. | G46: Gesamt | H46: ./. 4% | I46: Ab= | J46: Verkauf | K46: Faktor | L46: Verkauf
A47: Nr.: | B47: länge m | C47: Länge m | D47: Höhe m | E47: m.R. | F47: Rest | G47: Rm | H47: Über= | I47: schlag | J47: rm m.R. | L47: fm o.R.
F48: rm m.R. | G48: m.R. | H48: maß
A49: =C7 -> 0 | C49: =(B42+C42)/2 -> 0 | D49: =PRODUCT((B40+C40)/(B42+C42)) -> #DIV/0! | E49: =B49*C49*D49 -> #DIV/0! | F49: =(($B$43+$C$43)/2)*(($B$44+$C$44)/2)*B49 -> 0 | G49: =E49+F49 -> #DIV/0! | H49: =G49-(G49*4/100) -> #DIV/0! | K49: 0.6 | L49: =H49*K49 -> #DIV/0! | N49: Jesner
A50: =E7 -> 0 | C50: =(D42+E42)/2 -> 0 | D50: =PRODUCT(($D$40+$E$40)/($D$42+$E$42)) -> #DIV/0! | E50: =B50*C50*D50 -> #DIV/0! | F50: =(($D$43+$E$43)/2)*(($D$44+$E$44)/2)*B50 -> 0 | G50: =E50+F50 -> #DIV/0! | H50: =G50-(G50*4/100) -> #DIV/0! | K50: 0.6 | L50: =H50*K50 -> #DIV/0!
A51: =G7 -> 0 | C51: =(F42+G42)/2 -> 0 | D51: =PRODUCT(($F$40+$G$40)/($F$42+$G$42)) -> #DIV/0! | E51: =B51*C51*D51 -> #DIV/0! | F51: =(($F$43+$G$43)/2)*(($F$44+$G$44)/2)*B51 -> 0 | G51: =E51+F51 -> #DIV/0! | H51: =G51-(G51*4/100) -> #DIV/0! | K51: 0.6 | L51: =H51*K51 -> #DIV/0!
A52: =I7 -> 0 | C52: =(H42+I42)/2 -> 0 | D52: =PRODUCT(($H$40+$I$40)/($H$42+$I$42)) -> #DIV/0! | E52: =B52*C52*D52 -> #DIV/0! | F52: =(($H$43+$I$43)/2)*(($H$44+$I$44)/2)*B52 -> 0 | K52: 0.6 | L52: =H52*K52 -> 0
A53: =K7 -> 0 | C53: =(J42+K42)/2 -> 0 | D53: =PRODUCT(($J$40+$K$40)/($J$42+$K$42)) -> #DIV/0! | E53: =B53*C53*D53 -> #DIV/0! | F53: =(($J$43+$K$43)/2)*(($J$44+$K$44)/2)*B53 -> 0 | K53: 0.6 | L53: =H53*K53 -> 0
A54: =M7 -> 0 | C54: =(L42+M42)/2 -> 0 | D54: =PRODUCT(($L$40+$M$40)/($L$42+$M$42)) -> #DIV/0! | E54: =B54*C54*D54 -> #DIV/0! | F54: =(($L$43+$M$43)/2)*(($L$44+$M$44)/2)*B54 -> 0 | K54: 0.6 | L54: =H54*K54 -> 0
A55: Sa.: | G55: =SUM(G49:G54) -> #DIV/0! | H55: =SUM(H49:H54) -> #DIV/0! | L55: =SUM(L49:L54) -> #DIV/0!

Sheet Schichtholz IS
A1: Vermessung von Schichtholz im Sektionsverfahren | N1: 2 | O1: TRUE | P1: 3%
A2: Forstamt | C2: =A!C8 -> NN | G2: Waldort: | I2: 134 a1 | N2: 7 cm o.R. | O2: FALSE | P2: 4%
A3: Forstrevier | C3: =A!C10 -> NN | G3: Baumart: | I3: Dou | L3: MB-Nr.: | M3: 112 | N3: 8 cm o.R. | O3: FALSE | P3: 4,5%
A4: Waldbesitzer | C4: =A!C6 -> NN | G4: Sortiment: | I4: IS NFK | N4: 9 cm o.R. | O4: FALSE | P4: 5%
A5: WJ | B5: =A!C14 -> 2019 | E5: Info | G5: Mindestzopf: | I5: =INDEX(N2:N14,N1) -> 8 cm o.R. | N5: 9,5 cm o.R. | O5: FALSE | P5: 7%
N6: 10 cm o.R.
A7: Lfd. | B7: Polter Nr.: | D7: Polter Nr.: | F7: Polter Nr.: | H7: Polter Nr.: | J7: Polter Nr.: | L7: Polter Nr.: | N7: 11 cm o.R.
A8: Nr. | B8: Polterhöhe | D8: Polterhöhe | F8: Polterhöhe | H8: Polterhöhe | J8: Polterhöhe | L8: Polterhöhe | N8: 12 cm o.R.
B9: vorne | C9: hinten | D9: vorne | E9: hinten | F9: vorne | G9: hinten | H9: vorne | I9: hinten | J9: vorne | K9: hinten | L9: vorne | M9: hinten | N9: 13 cm o.R.
A10: 1 | N10: 14 cm o.R.
A11: 2 | N11: 15 cm o.R.
A12: 3 | N12: 16 cm o.R.
A13: 4 | N13: 18 cm o.R.
A14: 5 | N14: 20 cm o.R.
A15: 6 | N15: 34 cm o.R.
A16: 7
A17: 8
A18: 9
A19: 10 | N19: Reduktionsfaktoren (r)
A20: 11 | N20: BA | O20: RL | P20: r
A21: 12 | O21: m | P21: %
A22: 13 | N22: Fi | O22: 2 | P22: 0.03
A23: 14 | N23: Dou | O23: 2.5 | P23: 0.04
A24: 15 | O24: 3 | P24: 0.05
A25: 16 | N25: Ki | O25: 2 | P25: 0.03
A26: 17 | N26: Lä | O26: 2.5 | P26: 0.045
A27: 18 | O27: 3 | P27: 0.07
A28: 19
A29: 20
A30: 21
A31: 22
A32: 23
A33: 24
A34: 25
A35: 26
A36: 27
A37: 28
A38: 29
A39: 30
A40: Sa.: | B40: =SUM(B10:B39) -> 0 | C40: =SUM(C10:C39) -> 0 | D40: =SUM(D10:D39) -> 0 | E40: =SUM(E10:E39) -> 0 | F40: =SUM(F10:F39) -> 0 | G40: =SUM(G10:G39) -> 0 | H40: =SUM(H10:H39) -> 0 | I40: =SUM(I10:I39) -> 0 | ... M40: =SUM(M10:M39) -> 0
A41: \Höhe | B41: =B40/B42 -> #DIV/0! | C41: =C40/C42 -> #DIV/0! | D41: =D40/D42 -> #DIV/0! | E41: =E40/E42 -> #DIV/0! | F41: =F40/F42 -> #DIV/0! | G41: =G40/G42 -> #DIV/0! | H41: =H40/H42 -> #DIV/0! | I41: =I40/I42 -> #DIV/0! | ... M41: =M40/M42 -> #DIV/0!
A42: Länge
A43: üHöhe
A44: üLänge
A46: Polter | B46: Rollen= | C46: Polter= | E46: Rm | F46: zuzügl. | G46: Gesamt | H46: ./. 4% | I46: Ab= | J46: Verkauf | K46: Faktor | L46: Verkauf
A47: Nr.: | B47: länge m | C47: Länge m | D47: Höhe m | E47: m.R. | F47: Rest | G47: Rm | H47: Über= | I47: schlag | J47: rm m.R. | L47: fm o.R.
F48: rm m.R. | G48: m.R. | H48: maß | I48: %
C49: =(B42+C42)/2 -> 0 | D49: =IF(A49,PRODUCT((B$40+C$40)/(B$42+C$42)),"") | E49: =IF(A49,B49*C49*D49,"") | F49: =(($B$43+$C$43)/2)*(($B$44+$C$44)/2)*B49 -> 0 | G49: =IF(A49,E49+F49,"") | H49: =IF(A49,G49-(G49*4/100),"") | J49: =IF(A49,H49-(H49*I49/100),"") | K49: 0.6 | L49: =IF(A49,J49*K49,"") | M49: KRO
C50: =PRODUCT(($D$42+$E$42)/2) -> 0 | D50: =IF(A50,PRODUCT((D$40+E$40)/(D$42+E$42)),"") | E50: =IF(A50,B50*C50*D50,"") | F50: =(($D$43+$E$43)/2)*(($D$44+$E$44)/2)*B50 -> 0 | G50: =IF(A50,E50+F50,"") | H50: =IF(A50,G50-(G50*4/100),"") | J50: =IF(A50,H50-(H50*I50/100),"") | L50: =IF(A50,J50*K50,"")
C51: =PRODUCT(($F$42+$G$42)/2) -> 0 | D51: =IF(A51,PRODUCT((F$40+G$40)/(F$42+G$42)),"") | E51: =IF(A51,B51*C51*D51,"") | F51: =(($F$43+$G$43)/2)*(($F$44+$G$44)/2)*B51 -> 0 | G51: =IF(A51,E51+F51,"") | H51: =IF(A51,G51-(G51*4/100),"") | J51: =IF(A51,H51-(H51*I51/100),"") | L51: =IF(A51,J51*K51,"")
C52: =PRODUCT(($H$42+$I$42)/2) -> 0 | D52: =IF(A52,PRODUCT((H$40+I$40)/(H$42+I$42)),"") | E52: =IF(A52,B52*C52*D52,"") | F52: =(($H$43+$I$43)/2)*(($H$44+$I$44)/2)*B52 -> 0 | G52: =IF(A52,E52+F52,"") | H52: =IF(A52,G52-(G52*4/100),"") | J52: =IF(A52,H52-(H52*I52/100),"") | L52: =IF(A52,J52*K52,"")
C53: =PRODUCT(($J$42+$K$42)/2) -> 0 | D53: =IF(A53,PRODUCT((J$40+K$40)/(J$42+K$42)),"") | E53: =IF(A53,B53*C53*D53,"") | F53: =(($J$43+$K$43)/2)*(($J$44+$K$44)/2)*B53 -> 0 | G53: =IF(A53,E53+F53,"") | H53: =IF(A53,G53-(G53*4/100),"") | J53: =IF(A53,H53-(H53*I53/100),"") | L53: =IF(A53,J53*K53,"")
C54: =PRODUCT(($L$42+$M$42)/2) -> 0 | D54: =IF(A54,PRODUCT((L$40+M$40)/(L$42+M$42)),"") | E54: =IF(A54,B54*C54*D54,"") | F54: =(($L$43+$M$43)/2)*(($L$44+$M$44)/2)*B54 -> 0 | G54: =IF(A54,E54+F54,"") | H54: =IF(A54,G54-(G54*4/100),"") | J54: =IF(A54,H54-(H54*I54/100),"") | L54: =IF(A54,J54*K54,"")
A55: Sa.: | G55: =SUM(G49:G54) -> 0 | H55: =SUM(H49:H54) -> 0 | J55: =SUM(J49:J54) -> 0 | L55: =SUM(L49:L54) -> 0

Sheet Zusammenstellung_HV
A1: Zusammenstellung des Einschlages
A2: Aufarbeitung durch Harvester
A3: Forstamt | C3: =A!C8 -> NN | J3: FWJ: | K3: =A!C14 -> 2019
A4: Forstrevier | C4: =A!C10 -> NN | J4: Abt.: | K4: 134 a1
A5: Waldbesitzer | C5: =A!C6 -> NN | F5: Info | J5: MB-Nr.: | K5: 112
A7: Polter | B7: BA | C7: Sortiment | F7: Schichtmaß | H7: Stichprobe | J7: Verkaufs- | K7: Bemerkungen
A8: HAB | C8: Sorte | D8: Länge | E8: Zopf | H8: Schlag | I8: Polter | J8: menge
A9: Nr. | D9: m | E9: cm o.R. | F9: rm m.R. | G9: fm o.R. | H9: fm o.R. | I9: fm o.R. | J9: fm o.R.
F51: Hiebsmasse Gesamt: | J51: =SUM(J10:J50) -> 0
G53: Davon: | I53: Fi | J53: =SUMIF($B$10:$B$50,"Fi",$J$10:$J$50) -> 0
I54: JLä | J54: =SUMIF($B$10:$B$50,"JLä",$J$10:$J$50) -> 0
A55: Kursivdruck ist Kontrollmaß! | I55: Dou | J55: =SUMIF($B$10:$B$50,"Dou",$J$10:$J$50) -> 0
I56: Tanne | J56: =SUMIF($B$10:$B$50,"Ta",$J$10:$J$50) -> 0
I57: Kiefer | J57: =SUMIF($B$10:$B$50,"Ki",$J$10:$J$50) -> 0
I58: Grandis | J58: =SUMIF($B$10:$B$50,"Gra",$J$10:$J$50) -> 0
J59: =SUM(J53:J56) -> 0 | K59: Kontrolle

Sheet Abt.
A1: Zusammenstellung des Einschlages
A2: Aufarbeitung durch Harvester
A3: Forstamt | C3: =A!C8 -> NN | J3: FWJ: | K3: =A!C14 -> 2019
A4: Forstrevier | C4: =A!C10 -> NN | J4: Abt.: | K4: 109 a1
A5: Waldbesitzer | C5: =A!C6 -> NN | F5: Info | J5: MB-Nr.: | K5: 113
A7: Polter | B7: BA | C7: Sortiment | F7: Schichtmaß | H7: Stichprobe | J7: Verkaufs- | K7: Bemerkungen
A8: HAB | C8: Sorte | D8: Länge | E8: Zopf | H8: Schlag | I8: Polter | J8: menge
A9: Nr. | D9: m | E9: cm o.R. | F9: rm m.R. | G9: fm o.R. | H9: fm o.R. | I9: fm o.R. | J9: fm o.R.
J50: =SUM(J10:J49) -> 0
F51: Hiebsmasse Gesamt: | J51: =G50+I50+J50 -> 0
G53: Davon: | I53: Fichte | J53: =SUMIF($B$10:$B$49,"Fi",$J$10:$J$49) -> 0
I54: JLä | J54: =SUMIF($B$10:$B$49,"JLä",$J$10:$J$49) -> 0
C55: =IF(C54>0,J51/C54,"") | I55: Douglasie | J55: =SUMIF($B$10:$B$49,"Dou",$J$10:$J$49) -> 0
I56: Tanne | J56: =SUMIF($B$10:$B$49,"Ta",$J$10:$J$49) -> 0
I57: Kiefer | J57: =SUMIF($B$10:$B$49,"Ki",$J$10:$J$49) -> 0
I58: Grandis | J58: =SUMIF($B$10:$B$49,"Gra",$J$10:$J$49) -> 0
J59: =SUM(J53:J56) -> 0 | K59: Kontrolle
