Workbook

Sheet Info
A1: Jagdbuchführung
A2: Erstellen Sie Ihre Jagdaufzeichnungen und Jagdstatistiken in Excel. Erzeugen Sie komfortabel Diagramme
A3: und Übersichten. Verwalten Sie Ihr Jagdrevier.
A5: Excel-Anwendung von
A6: WERNER LUCK
A8: INHALT
A9: Info | D9: Dieses Blatt
A10: E | D10: Eingaben (Anweisung zum Gebrauch der Arbeitsmappen)
A11: Adressen | D11: Jagdliche Adressen
A12: Kosten | D12: Aufstellung über die Kosten der Jagdausübung
A13: Schussbuch | D13: Abschüsse im Jägerleben mit Erinnerungen und Fotos
A14: Jagdstrecke | D14: Übersicht über die erlegten Tiere
A15: Streckendiagramm | D15: Jagdstreckendiagramm
A16: Notizen | D16: Jagdliche Erinnerungen und Niederschriften
A17: Ansitze | D17: Übersicht über die Ansitze
A18: Jagdreisen | D18: Aufzeichnungen über Jagdreisen
A19: Drückjagden | D19: Aufzeichnungen über Drückjagden
A20: Wildarten | D20: Wildartencode
A22: Excel-Anwendung speziell für die Wetterbeobachtung
A23: Entwickelt von Werner Luck
A24: Hauptstraße 2
A25: 54413 Beuren
A26: Tel.: 06586/986025
A27: E-Mail: WernerLuck@web.de

Sheet E
A1: Erläuterungen und Anweisung
A2: zum Bearbeiten der Anwendung
A3: Info | B3: Informationen zum Autor, Essentials und Inhaltsübersicht
A4: E | B4: Dieses Blatt; Anweisung zum Arbeiten mit der Anwendung
A7: ♀ | B7: weiblich
A8: ♂ | B8: männlich
A11: Formel für die Übertragung der Jahresjagdstrecke in die Tabellen Jagdstrecke I und II
A12: SUMMEWENNS(Schussbuch!$H$3:$H$200;Schussbuch!$F$3:$F$200;"Rotwild";Schussbuch!$A$3:$A$200;2026)
A13: Die jeweils zutreffende Wildart ist in der entsprechenden Spalte/Zeile einzutragen!

Sheet Revier
L2: Revier xy
L3: mit rot markierten
L4: Außengrenzen
L6: Ausbildungsrevier

Sheet Adressen
A1: Name | B1: Vorname | C1: PLZ | D1: Ort | E1: Straße | F1: Festnetz | G1: Mobil | H1: Fax | I1: E-Mail | J1: Internet | K1: Bemerkungen | L1: * Datum

Sheet Kosten
A1: Kosten der Jagdausübung
C2: Teilbetrag bei Filterung | D2: =SUBTOTAL(9,D4:D140) -> 0
A3: Datum | B3: Veranlassung | C3: Empfänger | D3: Betrag | E3: Bemerkungen

Sheet Schussbuch
A1: Schussbuch
A2: Jagdjahr | B2: Datum | C2: Revier | D2: Abt. | E2: Code | F2: Wildart | G2: Bezeichnung | H2: Stück | I2: Geschlecht | J2: Kugel | K2: Schrot | L2: Bemerkungen
A3: 2024 | B3: 45437 | C3: Thiergarten | E3: 3 | F3: =IF(ISBLANK(B3),"",VLOOKUP(Schussbuch!E3,Wildarten!$A$3:$B$22,2,FALSE)) -> Rehwild | G3: Gabler 2 j. | H3: 1 | I3: ♂ | J3: 1 | L3: Ansitzjagd morgens (Tal der kleinen Prims)
A4: 2024 | B4: 45675 | C4: Waldrach | E4: 3 | F4: =IF(ISBLANK(B4),"",VLOOKUP(Schussbuch!E4,Wildarten!$A$3:$B$22,2,FALSE)) -> Rehwild | G4: Bock | H4: 1 | I4: ♀ | J4: 1 | L4: Drückjagd
A5: 2024 | B5: 45675 | C5: Waldrach | E5: 3 | F5: =IF(ISBLANK(B5),"",VLOOKUP(Schussbuch!E5,Wildarten!$A$3:$B$22,2,FALSE)) -> Rehwild | G5: Ricke | H5: 1 | I5: ♂ | J5: 1 | L5: Drückjagd
F26: =IF(ISBLANK(B26),"",VLOOKUP(Schussbuch!E26,Wildarten!$A$3:$B$22,2,FALSE))
F27: =IF(ISBLANK(B27),"",VLOOKUP(Schussbuch!E27,Wildarten!$A$3:$B$22,2,FALSE))
F28: =IF(ISBLANK(B28),"",VLOOKUP(Schussbuch!E28,Wildarten!$A$3:$B$22,2,FALSE))
F29: =IF(ISBLANK(B29),"",VLOOKUP(Schussbuch!E29,Wildarten!$A$3:$B$22,2,FALSE))
F30: =IF(ISBLANK(B30),"",VLOOKUP(Schussbuch!E30,Wildarten!$A$3:$B$22,2,FALSE))
F31: =IF(ISBLANK(B31),"",VLOOKUP(Schussbuch!E31,Wildarten!$A$3:$B$22,2,FALSE))
F32: =IF(ISBLANK(B32),"",VLOOKUP(Schussbuch!E32,Wildarten!$A$3:$B$22,2,FALSE))
F33: =IF(ISBLANK(B33),"",VLOOKUP(Schussbuch!E33,Wildarten!$A$3:$B$22,2,FALSE))
F34: =IF(ISBLANK(B34),"",VLOOKUP(Schussbuch!E34,Wildarten!$A$3:$B$22,2,FALSE))
F35: =IF(ISBLANK(B35),"",VLOOKUP(Schussbuch!E35,Wildarten!$A$3:$B$22,2,FALSE))
F36: =IF(ISBLANK(B36),"",VLOOKUP(Schussbuch!E36,Wildarten!$A$3:$B$22,2,FALSE))
F37: =IF(ISBLANK(B37),"",VLOOKUP(Schussbuch!E37,Wildarten!$A$3:$B$22,2,FALSE))
... F97: =IF(ISBLANK(B97),"",VLOOKUP(Schussbuch!E97,Wildarten!$A$3:$B$22,2,FALSE))
F98: =IF(ISBLANK(B98),"",VLOOKUP(Schussbuch!E98,Wildarten!$A$3:$B$22,2,FALSE)) | L98: bis hierher Formel!
F99: =IF(ISBLANK(B99),"",VLOOKUP(#REF!,Wildarten!$A$3:$B$22,2,FALSE)) | G99: Summe: | H99: =SUM(H6:H98) -> 0 | L99: Bei Bedarf Tabelle erweitern (mit Formeln!)

Sheet Jagdstrecke I
B1: Jagdstrecke
A2: Jagdjahr | B2: 2024/25 | C2: 2025/26 | D2: 2026/27 | E2: 2027/28 | F2: 2028/29 | G2: 2029/30 | H2: 2030/31 | I2: 2031/32 | J2: 2032/33 | K2: 2033/34 | L2: 2034/35 | M2: 2035/36 | N2: 2036/37 | O2: 2037/38 | P2: 2038/39 | Q2: 2039/40 | R2: 2040/41 | S2: 2041/42 | T2: 2042/43 | U2: 2043/44 | V2: 2044/45 | W2: 2045/46 | X2: 2046/47 | Y2: 2047/48 | Z2: 2048/49 | AA2: 2049/50 | AB2: Summe
A3: Rotwild | B3: =SUMIFS(Schussbuch!$H$4:$H$200,Schussbuch!$F$4:$F$200,"Rotwild",Schussbuch!$A$4:$A$200,2024) -> 0 | C3: =SUMIFS(Schussbuch!$H$4:$H$200,Schussbuch!$F$4:$F$200,"Rotwild",Schussbuch!$A$4:$A$200,2025) -> 0 | D3: =SUMIFS(Schussbuch!$H$4:$H$200,Schussbuch!$F$4:$F$200,"Rotwild",Schussbuch!$A$4:$A$200,2026) -> 0 | E3: =SUMIFS(Schussbuch!$H$4:$H$200,Schussbuch!$F$4:$F$200,"Rotwild",Schussbuch!$A$4:$A$200,2027) -> 0 | F3: =SUMIFS(Schussbuch!$H$4:$H$200,Schussbuch!$F$4:$F$200,"Rotwild",Schussbuch!$A$4:$A$200,2028) -> 0 | G3: =SUMIFS(Schussbuch!$H$4:$H$200,Schussbuch!$F$4:$F$200,"Rotwild",Schussbuch!$A$4:$A$200,2029) -> 0 | H3: =SUMIFS(Schussbuch!$H$4:$H$200,Schussbuch!$F$4:$F$200,"Rotwild",Schussbuch!$A$4:$A$200,2030) -> 0 | I3: =SUMIFS(Schussbuch!$H$4:$H$200,Schussbuch!$F$4:$F$200,"Rotwild",Schussbuch!$A$4:$A$200,2031) -> 0 | J3: =SUMIFS(Schussbuch!$H$4:$H$200,Schussbuch!$F$4:$F$200,"Rotwild",Schussbuch!$A$4:$A$200,2032) -> 0 | K3: =SUMIFS(Schussbuch!$H$4:$H$200,Schussbuch!$F$4:$F$200,"Rotwild",Schussbuch!$A$4:$A$200,2033) -> 0 | L3: =SUMIFS(Schussbuch!$H$4:$H$200,Schussbuch!$F$4:$F$200,"Rotwild",Schussbuch!$A$4:$A$200,2034) -> 0 | M3: =SUMIFS(Schussbuch!$H$4:$H$200,Schussbuch!$F$4:$F$200,"Rotwild",Schussbuch!$A$4:$A$200,2035) -> 0 | N3: =SUMIFS(Schussbuch!$H$4:$H$200,Schussbuch!$F$4:$F$200,"Rotwild",Schussbuch!$A$4:$A$200,2036) -> 0 | O3: =SUMIFS(Schussbuch!$H$4:$H$200,Schussbuch!$F$4:$F$200,"Rotwild",Schussbuch!$A$4:$A$200,2037) -> 0 | P3: =SUMIFS(Schussbuch!$H$4:$H$200,Schussbuch!$F$4:$F$200,"Rotwild",Schussbuch!$A$4:$A$200,2038) -> 0 | Q3: =SUMIFS(Schussbuch!$H$4:$H$200,Schussbuch!$F$4:$F$200,"Rotwild",Schussbuch!$A$4:$A$200,2039) -> 0 | R3: =SUMIFS(Schussbuch!$H$4:$H$200,Schussbuch!$F$4:$F$200,"Rotwild",Schussbuch!$A$4:$A$200,2040) -> 0 | S3: =SUMIFS(Schussbuch!$H$4:$H$200,Schussbuch!$F$4:$F$200,"Rotwild",Schussbuch!$A$4:$A$200,2041) -> 0 | T3: =SUMIFS(Schussbuch!$H$4:$H$200,Schussbuch!$F$4:$F$200,"Rotwild",Schussbuch!$A$4:$A$200,2042) -> 0 | U3: =SUMIFS(Schussbuch!$H$4:$H$200,Schussbuch!$F$4:$F$200,"Rotwild",Schussbuch!$A$4:$A$200,2043) -> 0 | V3: =SUMIFS(Schussbuch!$H$4:$H$200,Schussbuch!$F$4:$F$200,"Rotwild",Schussbuch!$A$4:$A$200,2044) -> 0 | W3: =SUMIFS(Schussbuch!$H$4:$H$200,Schussbuch!$F$4:$F$200,"Rotwild",Schussbuch!$A$4:$A$200,2045) -> 0 | X3: =SUMIFS(Schussbuch!$H$4:$H$200,Schussbuch!$F$4:$F$200,"Rotwild",Schussbuch!$A$4:$A$200,2046) -> 0 | Y3: =SUMIFS(Schussbuch!$H$4:$H$200,Schussbuch!$F$4:$F$200,"Rotwild",Schussbuch!$A$4:$A$200,2047) -> 0 | Z3: =SUMIFS(Schussbuch!$H$4:$H$200,Schussbuch!$F$4:$F$200,"Rotwild",Schussbuch!$A$4:$A$200,2048) -> 0 | AA3: =SUMIFS(Schussbuch!$H$4:$H$200,Schussbuch!$F$4:$F$200,"Rotwild",Schussbuch!$A$4:$A$200,2049) -> 0 | AB3: =SUM(B3:AA3) -> 0
A4: Schwarzwild | B4: =SUMIFS(Schussbuch!$H$4:$H$200,Schussbuch!$F$4:$F$200,"Schwarzwild",Schussbuch!$A$4:$A$200,2024) -> 0 | C4: =SUMIFS(Schussbuch!$H$4:$H$200,Schussbuch!$F$4:$F$200,"Schwarzwild",Schussbuch!$A$4:$A$200,2025) -> 0 | D4: =SUMIFS(Schussbuch!$H$4:$H$200,Schussbuch!$F$4:$F$200,"Schwarzwild",Schussbuch!$A$4:$A$200,2026) -> 0 | E4: =SUMIFS(Schussbuch!$H$4:$H$200,Schussbuch!$F$4:$F$200,"Schwarzwild",Schussbuch!$A$4:$A$200,2027) -> 0 | F4: =SUMIFS(Schussbuch!$H$4:$H$200,Schussbuch!$F$4:$F$200,"Schwarzwild",Schussbuch!$A$4:$A$200,2028) -> 0 | G4: =SUMIFS(Schussbuch!$H$4:$H$200,Schussbuch!$F$4:$F$200,"Schwarzwild",Schussbuch!$A$4:$A$200,2029) -> 0 | H4: =SUMIFS(Schussbuch!$H$4:$H$200,Schussbuch!$F$4:$F$200,"Schwarzwild",Schussbuch!$A$4:$A$200,2030) -> 0 | I4: =SUMIFS(Schussbuch!$H$4:$H$200,Schussbuch!$F$4:$F$200,"Schwarzwild",Schussbuch!$A$4:$A$200,2031) -> 0 | J4: =SUMIFS(Schussbuch!$H$4:$H$200,Schussbuch!$F$4:$F$200,"Schwarzwild",Schussbuch!$A$4:$A$200,2032) -> 0 | K4: =SUMIFS(Schussbuch!$H$4:$H$200,Schussbuch!$F$4:$F$200,"Schwarzwild",Schussbuch!$A$4:$A$200,2033) -> 0 | L4: =SUMIFS(Schussbuch!$H$4:$H$200,Schussbuch!$F$4:$F$200,"Schwarzwild",Schussbuch!$A$4:$A$200,2034) -> 0 | M4: =SUMIFS(Schussbuch!$H$4:$H$200,Schussbuch!$F$4:$F$200,"Schwarzwild",Schussbuch!$A$4:$A$200,2035) -> 0 | N4: =SUMIFS(Schussbuch!$H$4:$H$200,Schussbuch!$F$4:$F$200,"Schwarzwild",Schussbuch!$A$4:$A$200,2036) -> 0 | O4: =SUMIFS(Schussbuch!$H$4:$H$200,Schussbuch!$F$4:$F$200,"Schwarzwild",Schussbuch!$A$4:$A$200,2037) -> 0 | P4: =SUMIFS(Schussbuch!$H$4:$H$200,Schussbuch!$F$4:$F$200,"Schwarzwild",Schussbuch!$A$4:$A$200,2038) -> 0 | Q4: =SUMIFS(Schussbuch!$H$4:$H$200,Schussbuch!$F$4:$F$200,"Schwarzwild",Schussbuch!$A$4:$A$200,2039) -> 0 | R4: =SUMIFS(Schussbuch!$H$4:$H$200,Schussbuch!$F$4:$F$200,"Schwarzwild",Schussbuch!$A$4:$A$200,2040) -> 0 | S4: =SUMIFS(Schussbuch!$H$4:$H$200,Schussbuch!$F$4:$F$200,"Schwarzwild",Schussbuch!$A$4:$A$200,2041) -> 0 | T4: =SUMIFS(Schussbuch!$H$4:$H$200,Schussbuch!$F$4:$F$200,"Schwarzwild",Schussbuch!$A$4:$A$200,2042) -> 0 | U4: =SUMIFS(Schussbuch!$H$4:$H$200,Schussbuch!$F$4:$F$200,"Schwarzwild",Schussbuch!$A$4:$A$200,2043) -> 0 | V4: =SUMIFS(Schussbuch!$H$4:$H$200,Schussbuch!$F$4:$F$200,"Schwarzwild",Schussbuch!$A$4:$A$200,2044) -> 0 | W4: =SUMIFS(Schussbuch!$H$4:$H$200,Schussbuch!$F$4:$F$200,"Schwarzwild",Schussbuch!$A$4:$A$200,2045) -> 0 | X4: =SUMIFS(Schussbuch!$H$4:$H$200,Schussbuch!$F$4:$F$200,"Schwarzwild",Schussbuch!$A$4:$A$200,2046) -> 0 | Y4: =SUMIFS(Schussbuch!$H$4:$H$200,Schussbuch!$F$4:$F$200,"Schwarzwild",Schussbuch!$A$4:$A$200,2047) -> 0 | Z4: =SUMIFS(Schussbuch!$H$4:$H$200,Schussbuch!$F$4:$F$200,"Schwarzwild",Schussbuch!$A$4:$A$200,2048) -> 0 | AA4: =SUMIFS(Schussbuch!$H$4:$H$200,Schussbuch!$F$4:$F$200,"Schwarzwild",Schussbuch!$A$4:$A$200,2049) -> 0 | AB4: =SUM(B4:AA4) -> 0
A5: Rehwild | B5: =SUMIFS(Schussbuch!$H$3:$H$200,Schussbuch!$F$3:$F$200,"Rehwild",Schussbuch!$A$3:$A$200,2024) -> 3 | C5: =SUMIFS(Schussbuch!$H$4:$H$200,Schussbuch!$F$4:$F$200,"Rehwild",Schussbuch!$A$4:$A$200,2025) -> 0 | D5: =SUMIFS(Schussbuch!$H$4:$H$200,Schussbuch!$F$4:$F$200,"Rehwild",Schussbuch!$A$4:$A$200,2026) -> 0 | E5: =SUMIFS(Schussbuch!$H$4:$H$200,Schussbuch!$F$4:$F$200,"Rehwild",Schussbuch!$A$4:$A$200,2027) -> 0 | F5: =SUMIFS(Schussbuch!$H$4:$H$200,Schussbuch!$F$4:$F$200,"Rehwild",Schussbuch!$A$4:$A$200,2028) -> 0 | G5: =SUMIFS(Schussbuch!$H$4:$H$200,Schussbuch!$F$4:$F$200,"Rehwild",Schussbuch!$A$4:$A$200,2029) -> 0 | H5: =SUMIFS(Schussbuch!$H$4:$H$200,Schussbuch!$F$4:$F$200,"Rehwild",Schussbuch!$A$4:$A$200,2030) -> 0 | I5: =SUMIFS(Schussbuch!$H$4:$H$200,Schussbuch!$F$4:$F$200,"Rehwild",Schussbuch!$A$4:$A$200,2031) -> 0 | J5: =SUMIFS(Schussbuch!$H$4:$H$200,Schussbuch!$F$4:$F$200,"Rehwild",Schussbuch!$A$4:$A$200,2032) -> 0 | K5: =SUMIFS(Schussbuch!$H$4:$H$200,Schussbuch!$F$4:$F$200,"Rehwild",Schussbuch!$A$4:$A$200,2033) -> 0 | L5: =SUMIFS(Schussbuch!$H$4:$H$200,Schussbuch!$F$4:$F$200,"Rehwild",Schussbuch!$A$4:$A$200,2034) -> 0 | M5: =SUMIFS(Schussbuch!$H$4:$H$200,Schussbuch!$F$4:$F$200,"Rehwild",Schussbuch!$A$4:$A$200,2035) -> 0 | N5: =SUMIFS(Schussbuch!$H$4:$H$200,Schussbuch!$F$4:$F$200,"Rehwild",Schussbuch!$A$4:$A$200,2036) -> 0 | O5: =SUMIFS(Schussbuch!$H$4:$H$200,Schussbuch!$F$4:$F$200,"Rehwild",Schussbuch!$A$4:$A$200,2037) -> 0 | P5: =SUMIFS(Schussbuch!$H$4:$H$200,Schussbuch!$F$4:$F$200,"Rehwild",Schussbuch!$A$4:$A$200,2038) -> 0 | Q5: =SUMIFS(Schussbuch!$H$4:$H$200,Schussbuch!$F$4:$F$200,"Rehwild",Schussbuch!$A$4:$A$200,2039) -> 0 | R5: =SUMIFS(Schussbuch!$H$4:$H$200,Schussbuch!$F$4:$F$200,"Rehwild",Schussbuch!$A$4:$A$200,2040) -> 0 | S5: =SUMIFS(Schussbuch!$H$4:$H$200,Schussbuch!$F$4:$F$200,"Rehwild",Schussbuch!$A$4:$A$200,2041) -> 0 | T5: =SUMIFS(Schussbuch!$H$4:$H$200,Schussbuch!$F$4:$F$200,"Rehwild",Schussbuch!$A$4:$A$200,2042) -> 0 | U5: =SUMIFS(Schussbuch!$H$4:$H$200,Schussbuch!$F$4:$F$200,"Rehwild",Schussbuch!$A$4:$A$200,2043) -> 0 | V5: =SUMIFS(Schussbuch!$H$4:$H$200,Schussbuch!$F$4:$F$200,"Rehwild",Schussbuch!$A$4:$A$200,2044) -> 0 | W5: =SUMIFS(Schussbuch!$H$4:$H$200,Schussbuch!$F$4:$F$200,"Rehwild",Schussbuch!$A$4:$A$200,2045) -> 0 | X5: =SUMIFS(Schussbuch!$H$4:$H$200,Schussbuch!$F$4:$F$200,"Rehwild",Schussbuch!$A$4:$A$200,2046) -> 0 | Y5: =SUMIFS(Schussbuch!$H$4:$H$200,Schussbuch!$F$4:$F$200,"Rehwild",Schussbuch!$A$4:$A$200,2047) -> 0 | Z5: =SUMIFS(Schussbuch!$H$4:$H$200,Schussbuch!$F$4:$F$200,"Rehwild",Schussbuch!$A$4:$A$200,2048) -> 0 | AA5: =SUMIFS(Schussbuch!$H$4:$H$200,Schussbuch!$F$4:$F$200,"Rehwild",Schussbuch!$A$4:$A$200,2049) -> 0 | AB5: =SUM(B5:AA5) -> 3
A6: Gamswild | B6: =SUMIFS(Schussbuch!$H$4:$H$200,Schussbuch!$F$4:$F$200,"Gamswild",Schussbuch!$A$4:$A$200,2024) -> 0 | C6: =SUMIFS(Schussbuch!$H$4:$H$200,Schussbuch!$F$4:$F$200,"Gamswild",Schussbuch!$A$4:$A$200,2025) -> 0 | D6: =SUMIFS(Schussbuch!$H$4:$H$200,Schussbuch!$F$4:$F$200,"Gamswild",Schussbuch!$A$4:$A$200,2026) -> 0 | E6: =SUMIFS(Schussbuch!$H$4:$H$200,Schussbuch!$F$4:$F$200,"Gamswild",Schussbuch!$A$4:$A$200,2027) -> 0 | F6: =SUMIFS(Schussbuch!$H$4:$H$200,Schussbuch!$F$4:$F$200,"Gamswild",Schussbuch!$A$4:$A$200,2028) -> 0 | G6: =SUMIFS(Schussbuch!$H$4:$H$200,Schussbuch!$F$4:$F$200,"Gamswild",Schussbuch!$A$4:$A$200,2029) -> 0 | H6: =SUMIFS(Schussbuch!$H$4:$H$200,Schussbuch!$F$4:$F$200,"Gamswild",Schussbuch!$A$4:$A$200,2030) -> 0 | I6: =SUMIFS(Schussbuch!$H$4:$H$200,Schussbuch!$F$4:$F$200,"Gamswild",Schussbuch!$A$4:$A$200,2031) -> 0 | J6: =SUMIFS(Schussbuch!$H$4:$H$200,Schussbuch!$F$4:$F$200,"Gamswild",Schussbuch!$A$4:$A$200,2032) -> 0 | K6: =SUMIFS(Schussbuch!$H$4:$H$200,Schussbuch!$F$4:$F$200,"Gamswild",Schussbuch!$A$4:$A$200,2033) -> 0 | L6: =SUMIFS(Schussbuch!$H$4:$H$200,Schussbuch!$F$4:$F$200,"Gamswild",Schussbuch!$A$4:$A$200,2034) -> 0 | M6: =SUMIFS(Schussbuch!$H$4:$H$200,Schussbuch!$F$4:$F$200,"Gamswild",Schussbuch!$A$4:$A$200,2035) -> 0 | N6: =SUMIFS(Schussbuch!$H$4:$H$200,Schussbuch!$F$4:$F$200,"Gamswild",Schussbuch!$A$4:$A$200,2036) -> 0 | O6: =SUMIFS(Schussbuch!$H$4:$H$200,Schussbuch!$F$4:$F$200,"Gamswild",Schussbuch!$A$4:$A$200,2037) -> 0 | P6: =SUMIFS(Schussbuch!$H$4:$H$200,Schussbuch!$F$4:$F$200,"Gamswild",Schussbuch!$A$4:$A$200,2038) -> 0 | Q6: =SUMIFS(Schussbuch!$H$4:$H$200,Schussbuch!$F$4:$F$200,"Gamswild",Schussbuch!$A$4:$A$200,2039) -> 0 | R6: =SUMIFS(Schussbuch!$H$4:$H$200,Schussbuch!$F$4:$F$200,"Gamswild",Schussbuch!$A$4:$A$200,2040) -> 0 | S6: =SUMIFS(Schussbuch!$H$4:$H$200,Schussbuch!$F$4:$F$200,"Gamswild",Schussbuch!$A$4:$A$200,2041) -> 0 | T6: =SUMIFS(Schussbuch!$H$4:$H$200,Schussbuch!$F$4:$F$200,"Gamswild",Schussbuch!$A$4:$A$200,2042) -> 0 | U6: =SUMIFS(Schussbuch!$H$4:$H$200,Schussbuch!$F$4:$F$200,"Gamswild",Schussbuch!$A$4:$A$200,2043) -> 0 | V6: =SUMIFS(Schussbuch!$H$4:$H$200,Schussbuch!$F$4:$F$200,"Gamswild",Schussbuch!$A$4:$A$200,2044) -> 0 | W6: =SUMIFS(Schussbuch!$H$4:$H$200,Schussbuch!$F$4:$F$200,"Gamswild",Schussbuch!$A$4:$A$200,2045) -> 0 | X6: =SUMIFS(Schussbuch!$H$4:$H$200,Schussbuch!$F$4:$F$200,"Gamswild",Schussbuch!$A$4:$A$200,2046) -> 0 | Y6: =SUMIFS(Schussbuch!$H$4:$H$200,Schussbuch!$F$4:$F$200,"Gamswild",Schussbuch!$A$4:$A$200,2047) -> 0 | Z6: =SUMIFS(Schussbuch!$H$4:$H$200,Schussbuch!$F$4:$F$200,"Gamswild",Schussbuch!$A$4:$A$200,2048) -> 0 | AA6: =SUMIFS(Schussbuch!$H$4:$H$200,Schussbuch!$F$4:$F$200,"Gamswild",Schussbuch!$A$4:$A$200,2049) -> 0 | AB6: =SUM(B6:AA6) -> 0
A7: Damwild | B7: =SUMIFS(Schussbuch!$H$4:$H$200,Schussbuch!$F$4:$F$200,"Damwild",Schussbuch!$A$4:$A$200,2024) -> 0 | C7: =SUMIFS(Schussbuch!$H$4:$H$200,Schussbuch!$F$4:$F$200,"Damwild",Schussbuch!$A$4:$A$200,2025) -> 0 | D7: =SUMIFS(Schussbuch!$H$4:$H$200,Schussbuch!$F$4:$F$200,"Damwild",Schussbuch!$A$4:$A$200,2026) -> 0 | E7: =SUMIFS(Schussbuch!$H$4:$H$200,Schussbuch!$F$4:$F$200,"Damwild",Schussbuch!$A$4:$A$200,2027) -> 0 | F7: =SUMIFS(Schussbuch!$H$4:$H$200,Schussbuch!$F$4:$F$200,"Damwild",Schussbuch!$A$4:$A$200,2028) -> 0 | G7: =SUMIFS(Schussbuch!$H$4:$H$200,Schussbuch!$F$4:$F$200,"Damwild",Schussbuch!$A$4:$A$200,2029) -> 0 | H7: =SUMIFS(Schussbuch!$H$4:$H$200,Schussbuch!$F$4:$F$200,"Damwild",Schussbuch!$A$4:$A$200,2030) -> 0 | I7: =SUMIFS(Schussbuch!$H$4:$H$200,Schussbuch!$F$4:$F$200,"Damwild",Schussbuch!$A$4:$A$200,2031) -> 0 | J7: =SUMIFS(Schussbuch!$H$4:$H$200,Schussbuch!$F$4:$F$200,"Damwild",Schussbuch!$A$4:$A$200,2032) -> 0 | K7: =SUMIFS(Schussbuch!$H$4:$H$200,Schussbuch!$F$4:$F$200,"Damwild",Schussbuch!$A$4:$A$200,2033) -> 0 | L7: =SUMIFS(Schussbuch!$H$4:$H$200,Schussbuch!$F$4:$F$200,"Damwild",Schussbuch!$A$4:$A$200,2034) -> 0 | M7: =SUMIFS(Schussbuch!$H$4:$H$200,Schussbuch!$F$4:$F$200,"Damwild",Schussbuch!$A$4:$A$200,2035) -> 0 | N7: =SUMIFS(Schussbuch!$H$4:$H$200,Schussbuch!$F$4:$F$200,"Damwild",Schussbuch!$A$4:$A$200,2036) -> 0 | O7: =SUMIFS(Schussbuch!$H$4:$H$200,Schussbuch!$F$4:$F$200,"Damwild",Schussbuch!$A$4:$A$200,2037) -> 0 | P7: =SUMIFS(Schussbuch!$H$4:$H$200,Schussbuch!$F$4:$F$200,"Damwild",Schussbuch!$A$4:$A$200,2038) -> 0 | Q7: =SUMIFS(Schussbuch!$H$4:$H$200,Schussbuch!$F$4:$F$200,"Damwild",Schussbuch!$A$4:$A$200,2039) -> 0 | R7: =SUMIFS(Schussbuch!$H$4:$H$200,Schussbuch!$F$4:$F$200,"Damwild",Schussbuch!$A$4:$A$200,2040) -> 0 | S7: =SUMIFS(Schussbuch!$H$4:$H$200,Schussbuch!$F$4:$F$200,"Damwild",Schussbuch!$A$4:$A$200,2041) -> 0 | T7: =SUMIFS(Schussbuch!$H$4:$H$200,Schussbuch!$F$4:$F$200,"Damwild",Schussbuch!$A$4:$A$200,2042) -> 0 | U7: =SUMIFS(Schussbuch!$H$4:$H$200,Schussbuch!$F$4:$F$200,"Damwild",Schussbuch!$A$4:$A$200,2043) -> 0 | V7: =SUMIFS(Schussbuch!$H$4:$H$200,Schussbuch!$F$4:$F$200,"Damwild",Schussbuch!$A$4:$A$200,2044) -> 0 | W7: =SUMIFS(Schussbuch!$H$4:$H$200,Schussbuch!$F$4:$F$200,"Damwild",Schussbuch!$A$4:$A$200,2045) -> 0 | X7: =SUMIFS(Schussbuch!$H$4:$H$200,Schussbuch!$F$4:$F$200,"Damwild",Schussbuch!$A$4:$A$200,2046) -> 0 | Y7: =SUMIFS(Schussbuch!$H$4:$H$200,Schussbuch!$F$4:$F$200,"Damwild",Schussbuch!$A$4:$A$200,2047) -> 0 | Z7: =SUMIFS(Schussbuch!$H$4:$H$200,Schussbuch!$F$4:$F$200,"Damwild",Schussbuch!$A$4:$A$200,2048) -> 0 | AA7: =SUMIFS(Schussbuch!$H$4:$H$200,Schussbuch!$F$4:$F$200,"Damwild",Schussbuch!$A$4:$A$200,2049) -> 0 | AB7: =SUM(B7:AA7) -> 0
A8: Muffelwild | B8: =SUMIFS(Schussbuch!$H$4:$H$200,Schussbuch!$F$4:$F$200,"Muffelwild",Schussbuch!$A$4:$A$200,2024) -> 0 | C8: =SUMIFS(Schussbuch!$H$4:$H$200,Schussbuch!$F$4:$F$200,"Muffelwild",Schussbuch!$A$4:$A$200,2025) -> 0 | D8: =SUMIFS(Schussbuch!$H$4:$H$200,Schussbuch!$F$4:$F$200,"Muffelwild",Schussbuch!$A$4:$A$200,2026) -> 0 | E8: =SUMIFS(Schussbuch!$H$4:$H$200,Schussbuch!$F$4:$F$200,"Muffelwild",Schussbuch!$A$4:$A$200,2027) -> 0 | F8: =SUMIFS(Schussbuch!$H$4:$H$200,Schussbuch!$F$4:$F$200,"Muffelwild",Schussbuch!$A$4:$A$200,2028) -> 0 | G8: =SUMIFS(Schussbuch!$H$4:$H$200,Schussbuch!$F$4:$F$200,"Muffelwild",Schussbuch!$A$4:$A$200,2029) -> 0 | H8: =SUMIFS(Schussbuch!$H$4:$H$200,Schussbuch!$F$4:$F$200,"Muffelwild",Schussbuch!$A$4:$A$200,2030) -> 0 | I8: =SUMIFS(Schussbuch!$H$4:$H$200,Schussbuch!$F$4:$F$200,"Muffelwild",Schussbuch!$A$4:$A$200,2031) -> 0 | J8: =SUMIFS(Schussbuch!$H$4:$H$200,Schussbuch!$F$4:$F$200,"Muffelwild",Schussbuch!$A$4:$A$200,2032) -> 0 | K8: =SUMIFS(Schussbuch!$H$4:$H$200,Schussbuch!$F$4:$F$200,"Muffelwild",Schussbuch!$A$4:$A$200,2033) -> 0 | L8: =SUMIFS(Schussbuch!$H$4:$H$200,Schussbuch!$F$4:$F$200,"Muffelwild",Schussbuch!$A$4:$A$200,2034) -> 0 | M8: =SUMIFS(Schussbuch!$H$4:$H$200,Schussbuch!$F$4:$F$200,"Muffelwild",Schussbuch!$A$4:$A$200,2035) -> 0 | N8: =SUMIFS(Schussbuch!$H$4:$H$200,Schussbuch!$F$4:$F$200,"Muffelwild",Schussbuch!$A$4:$A$200,2036) -> 0 | O8: =SUMIFS(Schussbuch!$H$4:$H$200,Schussbuch!$F$4:$F$200,"Muffelwild",Schussbuch!$A$4:$A$200,2037) -> 0 | P8: =SUMIFS(Schussbuch!$H$4:$H$200,Schussbuch!$F$4:$F$200,"Muffelwild",Schussbuch!$A$4:$A$200,2038) -> 0 | Q8: =SUMIFS(Schussbuch!$H$4:$H$200,Schussbuch!$F$4:$F$200,"Muffelwild",Schussbuch!$A$4:$A$200,2039) -> 0 | R8: =SUMIFS(Schussbuch!$H$4:$H$200,Schussbuch!$F$4:$F$200,"Muffelwild",Schussbuch!$A$4:$A$200,2040) -> 0 | S8: =SUMIFS(Schussbuch!$H$4:$H$200,Schussbuch!$F$4:$F$200,"Muffelwild",Schussbuch!$A$4:$A$200,2041) -> 0 | T8: =SUMIFS(Schussbuch!$H$4:$H$200,Schussbuch!$F$4:$F$200,"Muffelwild",Schussbuch!$A$4:$A$200,2042) -> 0 | U8: =SUMIFS(Schussbuch!$H$4:$H$200,Schussbuch!$F$4:$F$200,"Muffelwild",Schussbuch!$A$4:$A$200,2043) -> 0 | V8: =SUMIFS(Schussbuch!$H$4:$H$200,Schussbuch!$F$4:$F$200,"Muffelwild",Schussbuch!$A$4:$A$200,2044) -> 0 | W8: =SUMIFS(Schussbuch!$H$4:$H$200,Schussbuch!$F$4:$F$200,"Muffelwild",Schussbuch!$A$4:$A$200,2045) -> 0 | X8: =SUMIFS(Schussbuch!$H$4:$H$200,Schussbuch!$F$4:$F$200,"Muffelwild",Schussbuch!$A$4:$A$200,2046) -> 0 | Y8: =SUMIFS(Schussbuch!$H$4:$H$200,Schussbuch!$F$4:$F$200,"Muffelwild",Schussbuch!$A$4:$A$200,2047) -> 0 | Z8: =SUMIFS(Schussbuch!$H$4:$H$200,Schussbuch!$F$4:$F$200,"Muffelwild",Schussbuch!$A$4:$A$200,2048) -> 0 | AA8: =SUMIFS(Schussbuch!$H$4:$H$200,Schussbuch!$F$4:$F$200,"Muffelwild",Schussbuch!$A$4:$A$200,2049) -> 0 | AB8: =SUM(B8:AA8) -> 0
A9: Hase | B9: =SUMIFS(Schussbuch!$H$4:$H$200,Schussbuch!$F$4:$F$200,"Hase",Schussbuch!$A$4:$A$200,2024) -> 0 | C9: =SUMIFS(Schussbuch!$H$4:$H$200,Schussbuch!$F$4:$F$200,"Hase",Schussbuch!$A$4:$A$200,2025) -> 0 | D9: =SUMIFS(Schussbuch!$H$4:$H$200,Schussbuch!$F$4:$F$200,"Hase",Schussbuch!$A$4:$A$200,2026) -> 0 | E9: =SUMIFS(Schussbuch!$H$4:$H$200,Schussbuch!$F$4:$F$200,"Hase",Schussbuch!$A$4:$A$200,2027) -> 0 | F9: =SUMIFS(Schussbuch!$H$4:$H$200,Schussbuch!$F$4:$F$200,"Hase",Schussbuch!$A$4:$A$200,2028) -> 0 | G9: =SUMIFS(Schussbuch!$H$4:$H$200,Schussbuch!$F$4:$F$200,"Hase",Schussbuch!$A$4:$A$200,2029) -> 0 | H9: =SUMIFS(Schussbuch!$H$4:$H$200,Schussbuch!$F$4:$F$200,"Hase",Schussbuch!$A$4:$A$200,2030) -> 0 | I9: =SUMIFS(Schussbuch!$H$4:$H$200,Schussbuch!$F$4:$F$200,"Hase",Schussbuch!$A$4:$A$200,2031) -> 0 | J9: =SUMIFS(Schussbuch!$H$4:$H$200,Schussbuch!$F$4:$F$200,"Hase",Schussbuch!$A$4:$A$200,2032) -> 0 | K9: =SUMIFS(Schussbuch!$H$4:$H$200,Schussbuch!$F$4:$F$200,"Hase",Schussbuch!$A$4:$A$200,2033) -> 0 | L9: =SUMIFS(Schussbuch!$H$4:$H$200,Schussbuch!$F$4:$F$200,"Hase",Schussbuch!$A$4:$A$200,2034) -> 0 | M9: =SUMIFS(Schussbuch!$H$4:$H$200,Schussbuch!$F$4:$F$200,"Hase",Schussbuch!$A$4:$A$200,2035) -> 0 | N9: =SUMIFS(Schussbuch!$H$4:$H$200,Schussbuch!$F$4:$F$200,"Hase",Schussbuch!$A$4:$A$200,2036) -> 0 | O9: =SUMIFS(Schussbuch!$H$4:$H$200,Schussbuch!$F$4:$F$200,"Hase",Schussbuch!$A$4:$A$200,2037) -> 0 | P9: =SUMIFS(Schussbuch!$H$4:$H$200,Schussbuch!$F$4:$F$200,"Hase",Schussbuch!$A$4:$A$200,2038) -> 0 | Q9: =SUMIFS(Schussbuch!$H$4:$H$200,Schussbuch!$F$4:$F$200,"Hase",Schussbuch!$A$4:$A$200,2039) -> 0 | R9: =SUMIFS(Schussbuch!$H$4:$H$200,Schussbuch!$F$4:$F$200,"Hase",Schussbuch!$A$4:$A$200,2040) -> 0 | S9: =SUMIFS(Schussbuch!$H$4:$H$200,Schussbuch!$F$4:$F$200,"Hase",Schussbuch!$A$4:$A$200,2041) -> 0 | T9: =SUMIFS(Schussbuch!$H$4:$H$200,Schussbuch!$F$4:$F$200,"Hase",Schussbuch!$A$4:$A$200,2042) -> 0 | U9: =SUMIFS(Schussbuch!$H$4:$H$200,Schussbuch!$F$4:$F$200,"Hase",Schussbuch!$A$4:$A$200,2043) -> 0 | V9: =SUMIFS(Schussbuch!$H$4:$H$200,Schussbuch!$F$4:$F$200,"Hase",Schussbuch!$A$4:$A$200,2044) -> 0 | W9: =SUMIFS(Schussbuch!$H$4:$H$200,Schussbuch!$F$4:$F$200,"Hase",Schussbuch!$A$4:$A$200,2045) -> 0 | X9: =SUMIFS(Schussbuch!$H$4:$H$200,Schussbuch!$F$4:$F$200,"Hase",Schussbuch!$A$4:$A$200,2046) -> 0 | Y9: =SUMIFS(Schussbuch!$H$4:$H$200,Schussbuch!$F$4:$F$200,"Hase",Schussbuch!$A$4:$A$200,2047) -> 0 | Z9: =SUMIFS(Schussbuch!$H$4:$H$200,Schussbuch!$F$4:$F$200,"Hase",Schussbuch!$A$4:$A$200,2048) -> 0 | AA9: =SUMIFS(Schussbuch!$H$4:$H$200,Schussbuch!$F$4:$F$200,"Hase",Schussbuch!$A$4:$A$200,2049) -> 0 | AB9: =SUM(B9:AA9) -> 0
A10: Kanin | B10: =SUMIFS(Schussbuch!$H$4:$H$200,Schussbuch!$F$4:$F$200,"Kanin",Schussbuch!$A$4:$A$200,2024) -> 0 | C10: =SUMIFS(Schussbuch!$H$4:$H$200,Schussbuch!$F$4:$F$200,"Kanin",Schussbuch!$A$4:$A$200,2025) -> 0 | D10: =SUMIFS(Schussbuch!$H$4:$H$200,Schussbuch!$F$4:$F$200,"Kanin",Schussbuch!$A$4:$A$200,2026) -> 0 | E10: =SUMIFS(Schussbuch!$H$4:$H$200,Schussbuch!$F$4:$F$200,"Kanin",Schussbuch!$A$4:$A$200,2027) -> 0 | F10: =SUMIFS(Schussbuch!$H$4:$H$200,Schussbuch!$F$4:$F$200,"Kanin",Schussbuch!$A$4:$A$200,2028) -> 0 | G10: =SUMIFS(Schussbuch!$H$4:$H$200,Schussbuch!$F$4:$F$200,"Kanin",Schussbuch!$A$4:$A$200,2029) -> 0 | H10: =SUMIFS(Schussbuch!$H$4:$H$200,Schussbuch!$F$4:$F$200,"Kanin",Schussbuch!$A$4:$A$200,2030) -> 0 | I10: =SUMIFS(Schussbuch!$H$4:$H$200,Schussbuch!$F$4:$F$200,"Kanin",Schussbuch!$A$4:$A$200,2031) -> 0 | J10: =SUMIFS(Schussbuch!$H$4:$H$200,Schussbuch!$F$4:$F$200,"Kanin",Schussbuch!$A$4:$A$200,2032) -> 0 | K10: =SUMIFS(Schussbuch!$H$4:$H$200,Schussbuch!$F$4:$F$200,"Kanin",Schussbuch!$A$4:$A$200,2033) -> 0 | L10: =SUMIFS(Schussbuch!$H$4:$H$200,Schussbuch!$F$4:$F$200,"Kanin",Schussbuch!$A$4:$A$200,2034) -> 0 | M10: =SUMIFS(Schussbuch!$H$4:$H$200,Schussbuch!$F$4:$F$200,"Kanin",Schussbuch!$A$4:$A$200,2035) -> 0 | N10: =SUMIFS(Schussbuch!$H$4:$H$200,Schussbuch!$F$4:$F$200,"Kanin",Schussbuch!$A$4:$A$200,2036) -> 0 | O10: =SUMIFS(Schussbuch!$H$4:$H$200,Schussbuch!$F$4:$F$200,"Kanin",Schussbuch!$A$4:$A$200,2037) -> 0 | P10: =SUMIFS(Schussbuch!$H$4:$H$200,Schussbuch!$F$4:$F$200,"Kanin",Schussbuch!$A$4:$A$200,2038) -> 0 | Q10: =SUMIFS(Schussbuch!$H$4:$H$200,Schussbuch!$F$4:$F$200,"Kanin",Schussbuch!$A$4:$A$200,2039) -> 0 | R10: =SUMIFS(Schussbuch!$H$4:$H$200,Schussbuch!$F$4:$F$200,"Kanin",Schussbuch!$A$4:$A$200,2040) -> 0 | S10: =SUMIFS(Schussbuch!$H$4:$H$200,Schussbuch!$F$4:$F$200,"Kanin",Schussbuch!$A$4:$A$200,2041) -> 0 | T10: =SUMIFS(Schussbuch!$H$4:$H$200,Schussbuch!$F$4:$F$200,"Kanin",Schussbuch!$A$4:$A$200,2042) -> 0 | U10: =SUMIFS(Schussbuch!$H$4:$H$200,Schussbuch!$F$4:$F$200,"Kanin",Schussbuch!$A$4:$A$200,2043) -> 0 | V10: =SUMIFS(Schussbuch!$H$4:$H$200,Schussbuch!$F$4:$F$200,"Kanin",Schussbuch!$A$4:$A$200,2044) -> 0 | W10: =SUMIFS(Schussbuch!$H$4:$H$200,Schussbuch!$F$4:$F$200,"Kanin",Schussbuch!$A$4:$A$200,2045) -> 0 | X10: =SUMIFS(Schussbuch!$H$4:$H$200,Schussbuch!$F$4:$F$200,"Kanin",Schussbuch!$A$4:$A$200,2046) -> 0 | Y10: =SUMIFS(Schussbuch!$H$4:$H$200,Schussbuch!$F$4:$F$200,"Kanin",Schussbuch!$A$4:$A$200,2047) -> 0 | Z10: =SUMIFS(Schussbuch!$H$4:$H$200,Schussbuch!$F$4:$F$200,"Kanin",Schussbuch!$A$4:$A$200,2048) -> 0 | AA10: =SUMIFS(Schussbuch!$H$4:$H$200,Schussbuch!$F$4:$F$200,"Kanin",Schussbuch!$A$4:$A$200,2049) -> 0 | AB10: =SUM(B10:AA10) -> 0
A11: Fuchs | B11: =SUMIFS(Schussbuch!$H$4:$H$200,Schussbuch!$F$4:$F$200,"Fuchs",Schussbuch!$A$4:$A$200,2024) -> 0 | C11: =SUMIFS(Schussbuch!$H$4:$H$200,Schussbuch!$F$4:$F$200,"Fuchs",Schussbuch!$A$4:$A$200,2025) -> 0 | D11: =SUMIFS(Schussbuch!$H$4:$H$200,Schussbuch!$F$4:$F$200,"Fuchs",Schussbuch!$A$4:$A$200,2026) -> 0 | E11: =SUMIFS(Schussbuch!$H$4:$H$200,Schussbuch!$F$4:$F$200,"Fuchs",Schussbuch!$A$4:$A$200,2027) -> 0 | F11: =SUMIFS(Schussbuch!$H$4:$H$200,Schussbuch!$F$4:$F$200,"Fuchs",Schussbuch!$A$4:$A$200,2028) -> 0 | G11: =SUMIFS(Schussbuch!$H$4:$H$200,Schussbuch!$F$4:$F$200,"Fuchs",Schussbuch!$A$4:$A$200,2029) -> 0 | H11: =SUMIFS(Schussbuch!$H$4:$H$200,Schussbuch!$F$4:$F$200,"Fuchs",Schussbuch!$A$4:$A$200,2030) -> 0 | I11: =SUMIFS(Schussbuch!$H$4:$H$200,Schussbuch!$F$4:$F$200,"Fuchs",Schussbuch!$A$4:$A$200,2031) -> 0 | J11: =SUMIFS(Schussbuch!$H$4:$H$200,Schussbuch!$F$4:$F$200,"Fuchs",Schussbuch!$A$4:$A$200,2032) -> 0 | K11: =SUMIFS(Schussbuch!$H$4:$H$200,Schussbuch!$F$4:$F$200,"Fuchs",Schussbuch!$A$4:$A$200,2033) -> 0 | L11: =SUMIFS(Schussbuch!$H$4:$H$200,Schussbuch!$F$4:$F$200,"Fuchs",Schussbuch!$A$4:$A$200,2034) -> 0 | M11: =SUMIFS(Schussbuch!$H$4:$H$200,Schussbuch!$F$4:$F$200,"Fuchs",Schussbuch!$A$4:$A$200,2035) -> 0 | N11: =SUMIFS(Schussbuch!$H$4:$H$200,Schussbuch!$F$4:$F$200,"Fuchs",Schussbuch!$A$4:$A$200,2036) -> 0 | O11: =SUMIFS(Schussbuch!$H$4:$H$200,Schussbuch!$F$4:$F$200,"Fuchs",Schussbuch!$A$4:$A$200,2037) -> 0 | P11: =SUMIFS(Schussbuch!$H$4:$H$200,Schussbuch!$F$4:$F$200,"Fuchs",Schussbuch!$A$4:$A$200,2038) -> 0 | Q11: =SUMIFS(Schussbuch!$H$4:$H$200,Schussbuch!$F$4:$F$200,"Fuchs",Schussbuch!$A$4:$A$200,2039) -> 0 | R11: =SUMIFS(Schussbuch!$H$4:$H$200,Schussbuch!$F$4:$F$200,"Fuchs",Schussbuch!$A$4:$A$200,2040) -> 0 | S11: =SUMIFS(Schussbuch!$H$4:$H$200,Schussbuch!$F$4:$F$200,"Fuchs",Schussbuch!$A$4:$A$200,2041) -> 0 | T11: =SUMIFS(Schussbuch!$H$4:$H$200,Schussbuch!$F$4:$F$200,"Fuchs",Schussbuch!$A$4:$A$200,2042) -> 0 | U11: =SUMIFS(Schussbuch!$H$4:$H$200,Schussbuch!$F$4:$F$200,"Fuchs",Schussbuch!$A$4:$A$200,2043) -> 0 | V11: =SUMIFS(Schussbuch!$H$4:$H$200,Schussbuch!$F$4:$F$200,"Fuchs",Schussbuch!$A$4:$A$200,2044) -> 0 | W11: =SUMIFS(Schussbuch!$H$4:$H$200,Schussbuch!$F$4:$F$200,"Fuchs",Schussbuch!$A$4:$A$200,2045) -> 0 | X11: =SUMIFS(Schussbuch!$H$4:$H$200,Schussbuch!$F$4:$F$200,"Fuchs",Schussbuch!$A$4:$A$200,2046) -> 0 | Y11: =SUMIFS(Schussbuch!$H$4:$H$200,Schussbuch!$F$4:$F$200,"Fuchs",Schussbuch!$A$4:$A$200,2047) -> 0 | Z11: =SUMIFS(Schussbuch!$H$4:$H$200,Schussbuch!$F$4:$F$200,"Fuchs",Schussbuch!$A$4:$A$200,2048) -> 0 | AA11: =SUMIFS(Schussbuch!$H$4:$H$200,Schussbuch!$F$4:$F$200,"Fuchs",Schussbuch!$A$4:$A$200,2049) -> 0 | AB11: =SUM(B11:AA11) -> 0
A12: Marder | B12: =SUMIFS(Schussbuch!$H$4:$H$200,Schussbuch!$F$4:$F$200,"Marder",Schussbuch!$A$4:$A$200,2024) -> 0 | C12: =SUMIFS(Schussbuch!$H$4:$H$200,Schussbuch!$F$4:$F$200,"Marder",Schussbuch!$A$4:$A$200,2025) -> 0 | D12: =SUMIFS(Schussbuch!$H$4:$H$200,Schussbuch!$F$4:$F$200,"Marder",Schussbuch!$A$4:$A$200,2026) -> 0 | E12: =SUMIFS(Schussbuch!$H$4:$H$200,Schussbuch!$F$4:$F$200,"Marder",Schussbuch!$A$4:$A$200,2027) -> 0 | F12: =SUMIFS(Schussbuch!$H$4:$H$200,Schussbuch!$F$4:$F$200,"Marder",Schussbuch!$A$4:$A$200,2028) -> 0 | G12: =SUMIFS(Schussbuch!$H$4:$H$200,Schussbuch!$F$4:$F$200,"Marder",Schussbuch!$A$4:$A$200,2029) -> 0 | H12: =SUMIFS(Schussbuch!$H$4:$H$200,Schussbuch!$F$4:$F$200,"Marder",Schussbuch!$A$4:$A$200,2030) -> 0 | I12: =SUMIFS(Schussbuch!$H$4:$H$200,Schussbuch!$F$4:$F$200,"Marder",Schussbuch!$A$4:$A$200,2031) -> 0 | J12: =SUMIFS(Schussbuch!$H$4:$H$200,Schussbuch!$F$4:$F$200,"Marder",Schussbuch!$A$4:$A$200,2032) -> 0 | K12: =SUMIFS(Schussbuch!$H$4:$H$200,Schussbuch!$F$4:$F$200,"Marder",Schussbuch!$A$4:$A$200,2033) -> 0 | L12: =SUMIFS(Schussbuch!$H$4:$H$200,Schussbuch!$F$4:$F$200,"Marder",Schussbuch!$A$4:$A$200,2034) -> 0 | M12: =SUMIFS(Schussbuch!$H$4:$H$200,Schussbuch!$F$4:$F$200,"Marder",Schussbuch!$A$4:$A$200,2035) -> 0 | N12: =SUMIFS(Schussbuch!$H$4:$H$200,Schussbuch!$F$4:$F$200,"Marder",Schussbuch!$A$4:$A$200,2036) -> 0 | O12: =SUMIFS(Schussbuch!$H$4:$H$200,Schussbuch!$F$4:$F$200,"Marder",Schussbuch!$A$4:$A$200,2037) -> 0 | P12: =SUMIFS(Schussbuch!$H$4:$H$200,Schussbuch!$F$4:$F$200,"Marder",Schussbuch!$A$4:$A$200,2038) -> 0 | Q12: =SUMIFS(Schussbuch!$H$4:$H$200,Schussbuch!$F$4:$F$200,"Marder",Schussbuch!$A$4:$A$200,2039) -> 0 | R12: =SUMIFS(Schussbuch!$H$4:$H$200,Schussbuch!$F$4:$F$200,"Marder",Schussbuch!$A$4:$A$200,2040) -> 0 | S12: =SUMIFS(Schussbuch!$H$4:$H$200,Schussbuch!$F$4:$F$200,"Marder",Schussbuch!$A$4:$A$200,2041) -> 0 | T12: =SUMIFS(Schussbuch!$H$4:$H$200,Schussbuch!$F$4:$F$200,"Marder",Schussbuch!$A$4:$A$200,2042) -> 0 | U12: =SUMIFS(Schussbuch!$H$4:$H$200,Schussbuch!$F$4:$F$200,"Marder",Schussbuch!$A$4:$A$200,2043) -> 0 | V12: =SUMIFS(Schussbuch!$H$4:$H$200,Schussbuch!$F$4:$F$200,"Marder",Schussbuch!$A$4:$A$200,2044) -> 0 | W12: =SUMIFS(Schussbuch!$H$4:$H$200,Schussbuch!$F$4:$F$200,"Marder",Schussbuch!$A$4:$A$200,2045) -> 0 | X12: =SUMIFS(Schussbuch!$H$4:$H$200,Schussbuch!$F$4:$F$200,"Marder",Schussbuch!$A$4:$A$200,2046) -> 0 | Y12: =SUMIFS(Schussbuch!$H$4:$H$200,Schussbuch!$F$4:$F$200,"Marder",Schussbuch!$A$4:$A$200,2047) -> 0 | Z12: =SUMIFS(Schussbuch!$H$4:$H$200,Schussbuch!$F$4:$F$200,"Marder",Schussbuch!$A$4:$A$200,2048) -> 0 | AA12: =SUMIFS(Schussbuch!$H$4:$H$200,Schussbuch!$F$4:$F$200,"Marder",Schussbuch!$A$4:$A$200,2049) -> 0 | AB12: =SUM(B12:AA12) -> 0
A13: Fasan | B13: =SUMIFS(Schussbuch!$H$4:$H$200,Schussbuch!$F$4:$F$200,"Fasan",Schussbuch!$A$4:$A$200,2024) -> 0 | C13: =SUMIFS(Schussbuch!$H$4:$H$200,Schussbuch!$F$4:$F$200,"Fasan",Schussbuch!$A$4:$A$200,2025) -> 0 | D13: =SUMIFS(Schussbuch!$H$4:$H$200,Schussbuch!$F$4:$F$200,"Fasan",Schussbuch!$A$4:$A$200,2026) -> 0 | E13: =SUMIFS(Schussbuch!$H$4:$H$200,Schussbuch!$F$4:$F$200,"Fasan",Schussbuch!$A$4:$A$200,2027) -> 0 | F13: =SUMIFS(Schussbuch!$H$4:$H$200,Schussbuch!$F$4:$F$200,"Fasan",Schussbuch!$A$4:$A$200,2028) -> 0 | G13: =SUMIFS(Schussbuch!$H$4:$H$200,Schussbuch!$F$4:$F$200,"Fasan",Schussbuch!$A$4:$A$200,2029) -> 0 | H13: =SUMIFS(Schussbuch!$H$4:$H$200,Schussbuch!$F$4:$F$200,"Fasan",Schussbuch!$A$4:$A$200,2030) -> 0 | I13: =SUMIFS(Schussbuch!$H$4:$H$200,Schussbuch!$F$4:$F$200,"Fasan",Schussbuch!$A$4:$A$200,2031) -> 0 | J13: =SUMIFS(Schussbuch!$H$4:$H$200,Schussbuch!$F$4:$F$200,"Fasan",Schussbuch!$A$4:$A$200,2032) -> 0 | K13: =SUMIFS(Schussbuch!$H$4:$H$200,Schussbuch!$F$4:$F$200,"Fasan",Schussbuch!$A$4:$A$200,2033) -> 0 | L13: =SUMIFS(Schussbuch!$H$4:$H$200,Schussbuch!$F$4:$F$200,"Fasan",Schussbuch!$A$4:$A$200,2034) -> 0 | M13: =SUMIFS(Schussbuch!$H$4:$H$200,Schussbuch!$F$4:$F$200,"Fasan",Schussbuch!$A$4:$A$200,2035) -> 0 | N13: =SUMIFS(Schussbuch!$H$4:$H$200,Schussbuch!$F$4:$F$200,"Fasan",Schussbuch!$A$4:$A$200,2036) -> 0 | O13: =SUMIFS(Schussbuch!$H$4:$H$200,Schussbuch!$F$4:$F$200,"Fasan",Schussbuch!$A$4:$A$200,2037) -> 0 | P13: =SUMIFS(Schussbuch!$H$4:$H$200,Schussbuch!$F$4:$F$200,"Fasan",Schussbuch!$A$4:$A$200,2038) -> 0 | Q13: =SUMIFS(Schussbuch!$H$4:$H$200,Schussbuch!$F$4:$F$200,"Fasan",Schussbuch!$A$4:$A$200,2039) -> 0 | R13: =SUMIFS(Schussbuch!$H$4:$H$200,Schussbuch!$F$4:$F$200,"Fasan",Schussbuch!$A$4:$A$200,2040) -> 0 | S13: =SUMIFS(Schussbuch!$H$4:$H$200,Schussbuch!$F$4:$F$200,"Fasan",Schussbuch!$A$4:$A$200,2041) -> 0 | T13: =SUMIFS(Schussbuch!$H$4:$H$200,Schussbuch!$F$4:$F$200,"Fasan",Schussbuch!$A$4:$A$200,2042) -> 0 | U13: =SUMIFS(Schussbuch!$H$4:$H$200,Schussbuch!$F$4:$F$200,"Fasan",Schussbuch!$A$4:$A$200,2043) -> 0 | V13: =SUMIFS(Schussbuch!$H$4:$H$200,Schussbuch!$F$4:$F$200,"Fasan",Schussbuch!$A$4:$A$200,2044) -> 0 | W13: =SUMIFS(Schussbuch!$H$4:$H$200,Schussbuch!$F$4:$F$200,"Fasan",Schussbuch!$A$4:$A$200,2045) -> 0 | X13: =SUMIFS(Schussbuch!$H$4:$H$200,Schussbuch!$F$4:$F$200,"Fasan",Schussbuch!$A$4:$A$200,2046) -> 0 | Y13: =SUMIFS(Schussbuch!$H$4:$H$200,Schussbuch!$F$4:$F$200,"Fasan",Schussbuch!$A$4:$A$200,2047) -> 0 | Z13: =SUMIFS(Schussbuch!$H$4:$H$200,Schussbuch!$F$4:$F$200,"Fasan",Schussbuch!$A$4:$A$200,2048) -> 0 | AA13: =SUMIFS(Schussbuch!$H$4:$H$200,Schussbuch!$F$4:$F$200,"Fasan",Schussbuch!$A$4:$A$200,2049) -> 0 | AB13: =SUM(B13:AA13) -> 0
A14: Gans | B14: =SUMIFS(Schussbuch!$H$4:$H$200,Schussbuch!$F$4:$F$200,"Gans",Schussbuch!$A$4:$A$200,2024) -> 0 | C14: =SUMIFS(Schussbuch!$H$4:$H$200,Schussbuch!$F$4:$F$200,"Gans",Schussbuch!$A$4:$A$200,2025) -> 0 | D14: =SUMIFS(Schussbuch!$H$4:$H$200,Schussbuch!$F$4:$F$200,"Gans",Schussbuch!$A$4:$A$200,2026) -> 0 | E14: =SUMIFS(Schussbuch!$H$4:$H$200,Schussbuch!$F$4:$F$200,"Gans",Schussbuch!$A$4:$A$200,2027) -> 0 | F14: =SUMIFS(Schussbuch!$H$4:$H$200,Schussbuch!$F$4:$F$200,"Gans",Schussbuch!$A$4:$A$200,2028) -> 0 | G14: =SUMIFS(Schussbuch!$H$4:$H$200,Schussbuch!$F$4:$F$200,"Gans",Schussbuch!$A$4:$A$200,2029) -> 0 | H14: =SUMIFS(Schussbuch!$H$4:$H$200,Schussbuch!$F$4:$F$200,"Gans",Schussbuch!$A$4:$A$200,2030) -> 0 | I14: =SUMIFS(Schussbuch!$H$4:$H$200,Schussbuch!$F$4:$F$200,"Gans",Schussbuch!$A$4:$A$200,2031) -> 0 | J14: =SUMIFS(Schussbuch!$H$4:$H$200,Schussbuch!$F$4:$F$200,"Gans",Schussbuch!$A$4:$A$200,2032) -> 0 | K14: =SUMIFS(Schussbuch!$H$4:$H$200,Schussbuch!$F$4:$F$200,"Gans",Schussbuch!$A$4:$A$200,2033) -> 0 | L14: =SUMIFS(Schussbuch!$H$4:$H$200,Schussbuch!$F$4:$F$200,"Gans",Schussbuch!$A$4:$A$200,2034) -> 0 | M14: =SUMIFS(Schussbuch!$H$4:$H$200,Schussbuch!$F$4:$F$200,"Gans",Schussbuch!$A$4:$A$200,2035) -> 0 | N14: =SUMIFS(Schussbuch!$H$4:$H$200,Schussbuch!$F$4:$F$200,"Gans",Schussbuch!$A$4:$A$200,2036) -> 0 | O14: =SUMIFS(Schussbuch!$H$4:$H$200,Schussbuch!$F$4:$F$200,"Gans",Schussbuch!$A$4:$A$200,2037) -> 0 | P14: =SUMIFS(Schussbuch!$H$4:$H$200,Schussbuch!$F$4:$F$200,"Gans",Schussbuch!$A$4:$A$200,2038) -> 0 | Q14: =SUMIFS(Schussbuch!$H$4:$H$200,Schussbuch!$F$4:$F$200,"Gans",Schussbuch!$A$4:$A$200,2039) -> 0 | R14: =SUMIFS(Schussbuch!$H$4:$H$200,Schussbuch!$F$4:$F$200,"Gans",Schussbuch!$A$4:$A$200,2040) -> 0 | S14: =SUMIFS(Schussbuch!$H$4:$H$200,Schussbuch!$F$4:$F$200,"Gans",Schussbuch!$A$4:$A$200,2041) -> 0 | T14: =SUMIFS(Schussbuch!$H$4:$H$200,Schussbuch!$F$4:$F$200,"Gans",Schussbuch!$A$4:$A$200,2042) -> 0 | U14: =SUMIFS(Schussbuch!$H$4:$H$200,Schussbuch!$F$4:$F$200,"Gans",Schussbuch!$A$4:$A$200,2043) -> 0 | V14: =SUMIFS(Schussbuch!$H$4:$H$200,Schussbuch!$F$4:$F$200,"Gans",Schussbuch!$A$4:$A$200,2044) -> 0 | W14: =SUMIFS(Schussbuch!$H$4:$H$200,Schussbuch!$F$4:$F$200,"Gans",Schussbuch!$A$4:$A$200,2045) -> 0 | X14: =SUMIFS(Schussbuch!$H$4:$H$200,Schussbuch!$F$4:$F$200,"Gans",Schussbuch!$A$4:$A$200,2046) -> 0 | Y14: =SUMIFS(Schussbuch!$H$4:$H$200,Schussbuch!$F$4:$F$200,"Gans",Schussbuch!$A$4:$A$200,2047) -> 0 | Z14: =SUMIFS(Schussbuch!$H$4:$H$200,Schussbuch!$F$4:$F$200,"Gans",Schussbuch!$A$4:$A$200,2048) -> 0 | AA14: =SUMIFS(Schussbuch!$H$4:$H$200,Schussbuch!$F$4:$F$200,"Gans",Schussbuch!$A$4:$A$200,2049) -> 0 | AB14: =SUM(B14:AA14) -> 0
A15: Ente | B15: =SUMIFS(Schussbuch!$H$4:$H$200,Schussbuch!$F$4:$F$200,"Ente",Schussbuch!$A$4:$A$200,2024) -> 0 | C15: =SUMIFS(Schussbuch!$H$4:$H$200,Schussbuch!$F$4:$F$200,"Ente",Schussbuch!$A$4:$A$200,2025) -> 0 | D15: =SUMIFS(Schussbuch!$H$4:$H$200,Schussbuch!$F$4:$F$200,"Ente",Schussbuch!$A$4:$A$200,2026) -> 0 | E15: =SUMIFS(Schussbuch!$H$4:$H$200,Schussbuch!$F$4:$F$200,"Ente",Schussbuch!$A$4:$A$200,2027) -> 0 | F15: =SUMIFS(Schussbuch!$H$4:$H$200,Schussbuch!$F$4:$F$200,"Ente",Schussbuch!$A$4:$A$200,2028) -> 0 | G15: =SUMIFS(Schussbuch!$H$4:$H$200,Schussbuch!$F$4:$F$200,"Ente",Schussbuch!$A$4:$A$200,2029) -> 0 | H15: =SUMIFS(Schussbuch!$H$4:$H$200,Schussbuch!$F$4:$F$200,"Ente",Schussbuch!$A$4:$A$200,2030) -> 0 | I15: =SUMIFS(Schussbuch!$H$4:$H$200,Schussbuch!$F$4:$F$200,"Ente",Schussbuch!$A$4:$A$200,2031) -> 0 | J15: =SUMIFS(Schussbuch!$H$4:$H$200,Schussbuch!$F$4:$F$200,"Ente",Schussbuch!$A$4:$A$200,2032) -> 0 | K15: =SUMIFS(Schussbuch!$H$4:$H$200,Schussbuch!$F$4:$F$200,"Ente",Schussbuch!$A$4:$A$200,2033) -> 0 | L15: =SUMIFS(Schussbuch!$H$4:$H$200,Schussbuch!$F$4:$F$200,"Ente",Schussbuch!$A$4:$A$200,2034) -> 0 | M15: =SUMIFS(Schussbuch!$H$4:$H$200,Schussbuch!$F$4:$F$200,"Ente",Schussbuch!$A$4:$A$200,2035) -> 0 | N15: =SUMIFS(Schussbuch!$H$4:$H$200,Schussbuch!$F$4:$F$200,"Ente",Schussbuch!$A$4:$A$200,2036) -> 0 | O15: =SUMIFS(Schussbuch!$H$4:$H$200,Schussbuch!$F$4:$F$200,"Ente",Schussbuch!$A$4:$A$200,2037) -> 0 | P15: =SUMIFS(Schussbuch!$H$4:$H$200,Schussbuch!$F$4:$F$200,"Ente",Schussbuch!$A$4:$A$200,2038) -> 0 | Q15: =SUMIFS(Schussbuch!$H$4:$H$200,Schussbuch!$F$4:$F$200,"Ente",Schussbuch!$A$4:$A$200,2039) -> 0 | R15: =SUMIFS(Schussbuch!$H$4:$H$200,Schussbuch!$F$4:$F$200,"Ente",Schussbuch!$A$4:$A$200,2040) -> 0 | S15: =SUMIFS(Schussbuch!$H$4:$H$200,Schussbuch!$F$4:$F$200,"Ente",Schussbuch!$A$4:$A$200,2041) -> 0 | T15: =SUMIFS(Schussbuch!$H$4:$H$200,Schussbuch!$F$4:$F$200,"Ente",Schussbuch!$A$4:$A$200,2042) -> 0 | U15: =SUMIFS(Schussbuch!$H$4:$H$200,Schussbuch!$F$4:$F$200,"Ente",Schussbuch!$A$4:$A$200,2043) -> 0 | V15: =SUMIFS(Schussbuch!$H$4:$H$200,Schussbuch!$F$4:$F$200,"Ente",Schussbuch!$A$4:$A$200,2044) -> 0 | W15: =SUMIFS(Schussbuch!$H$4:$H$200,Schussbuch!$F$4:$F$200,"Ente",Schussbuch!$A$4:$A$200,2045) -> 0 | X15: =SUMIFS(Schussbuch!$H$4:$H$200,Schussbuch!$F$4:$F$200,"Ente",Schussbuch!$A$4:$A$200,2046) -> 0 | Y15: =SUMIFS(Schussbuch!$H$4:$H$200,Schussbuch!$F$4:$F$200,"Ente",Schussbuch!$A$4:$A$200,2047) -> 0 | Z15: =SUMIFS(Schussbuch!$H$4:$H$200,Schussbuch!$F$4:$F$200,"Ente",Schussbuch!$A$4:$A$200,2048) -> 0 | AA15: =SUMIFS(Schussbuch!$H$4:$H$200,Schussbuch!$F$4:$F$200,"Ente",Schussbuch!$A$4:$A$200,2049) -> 0 | AB15: =SUM(B15:AA15) -> 0
A16: Schnepfe | B16: =SUMIFS(Schussbuch!$H$4:$H$200,Schussbuch!$F$4:$F$200,"Schnepfe",Schussbuch!$A$4:$A$200,2024) -> 0 | C16: =SUMIFS(Schussbuch!$H$4:$H$200,Schussbuch!$F$4:$F$200,"Schnepfe",Schussbuch!$A$4:$A$200,2025) -> 0 | D16: =SUMIFS(Schussbuch!$H$4:$H$200,Schussbuch!$F$4:$F$200,"Schnepfe",Schussbuch!$A$4:$A$200,2026) -> 0 | E16: =SUMIFS(Schussbuch!$H$4:$H$200,Schussbuch!$F$4:$F$200,"Schnepfe",Schussbuch!$A$4:$A$200,2027) -> 0 | F16: =SUMIFS(Schussbuch!$H$4:$H$200,Schussbuch!$F$4:$F$200,"Schnepfe",Schussbuch!$A$4:$A$200,2028) -> 0 | G16: =SUMIFS(Schussbuch!$H$4:$H$200,Schussbuch!$F$4:$F$200,"Schnepfe",Schussbuch!$A$4:$A$200,2029) -> 0 | H16: =SUMIFS(Schussbuch!$H$4:$H$200,Schussbuch!$F$4:$F$200,"Schnepfe",Schussbuch!$A$4:$A$200,2030) -> 0 | I16: =SUMIFS(Schussbuch!$H$4:$H$200,Schussbuch!$F$4:$F$200,"Schnepfe",Schussbuch!$A$4:$A$200,2031) -> 0 | J16: =SUMIFS(Schussbuch!$H$4:$H$200,Schussbuch!$F$4:$F$200,"Schnepfe",Schussbuch!$A$4:$A$200,2032) -> 0 | K16: =SUMIFS(Schussbuch!$H$4:$H$200,Schussbuch!$F$4:$F$200,"Schnepfe",Schussbuch!$A$4:$A$200,2033) -> 0 | L16: =SUMIFS(Schussbuch!$H$4:$H$200,Schussbuch!$F$4:$F$200,"Schnepfe",Schussbuch!$A$4:$A$200,2034) -> 0 | M16: =SUMIFS(Schussbuch!$H$4:$H$200,Schussbuch!$F$4:$F$200,"Schnepfe",Schussbuch!$A$4:$A$200,2035) -> 0 | N16: =SUMIFS(Schussbuch!$H$4:$H$200,Schussbuch!$F$4:$F$200,"Schnepfe",Schussbuch!$A$4:$A$200,2036) -> 0 | O16: =SUMIFS(Schussbuch!$H$4:$H$200,Schussbuch!$F$4:$F$200,"Schnepfe",Schussbuch!$A$4:$A$200,2037) -> 0 | P16: =SUMIFS(Schussbuch!$H$4:$H$200,Schussbuch!$F$4:$F$200,"Schnepfe",Schussbuch!$A$4:$A$200,2038) -> 0 | Q16: =SUMIFS(Schussbuch!$H$4:$H$200,Schussbuch!$F$4:$F$200,"Schnepfe",Schussbuch!$A$4:$A$200,2039) -> 0 | R16: =SUMIFS(Schussbuch!$H$4:$H$200,Schussbuch!$F$4:$F$200,"Schnepfe",Schussbuch!$A$4:$A$200,2040) -> 0 | S16: =SUMIFS(Schussbuch!$H$4:$H$200,Schussbuch!$F$4:$F$200,"Schnepfe",Schussbuch!$A$4:$A$200,2041) -> 0 | T16: =SUMIFS(Schussbuch!$H$4:$H$200,Schussbuch!$F$4:$F$200,"Schnepfe",Schussbuch!$A$4:$A$200,2042) -> 0 | U16: =SUMIFS(Schussbuch!$H$4:$H$200,Schussbuch!$F$4:$F$200,"Schnepfe",Schussbuch!$A$4:$A$200,2043) -> 0 | V16: =SUMIFS(Schussbuch!$H$4:$H$200,Schussbuch!$F$4:$F$200,"Schnepfe",Schussbuch!$A$4:$A$200,2044) -> 0 | W16: =SUMIFS(Schussbuch!$H$4:$H$200,Schussbuch!$F$4:$F$200,"Schnepfe",Schussbuch!$A$4:$A$200,2045) -> 0 | X16: =SUMIFS(Schussbuch!$H$4:$H$200,Schussbuch!$F$4:$F$200,"Schnepfe",Schussbuch!$A$4:$A$200,2046) -> 0 | Y16: =SUMIFS(Schussbuch!$H$4:$H$200,Schussbuch!$F$4:$F$200,"Schnepfe",Schussbuch!$A$4:$A$200,2047) -> 0 | Z16: =SUMIFS(Schussbuch!$H$4:$H$200,Schussbuch!$F$4:$F$200,"Schnepfe",Schussbuch!$A$4:$A$200,2048) -> 0 | AA16: =SUMIFS(Schussbuch!$H$4:$H$200,Schussbuch!$F$4:$F$200,"Schnepfe",Schussbuch!$A$4:$A$200,2049) -> 0 | AB16: =SUM(B16:AA16) -> 0
A17: Ringeltaube | B17: =SUMIFS(Schussbuch!$H$4:$H$200,Schussbuch!$F$4:$F$200,"Ringeltaube",Schussbuch!$A$4:$A$200,2024) -> 0 | C17: =SUMIFS(Schussbuch!$H$4:$H$200,Schussbuch!$F$4:$F$200,"Ringeltaube",Schussbuch!$A$4:$A$200,2025) -> 0 | D17: =SUMIFS(Schussbuch!$H$4:$H$200,Schussbuch!$F$4:$F$200,"Ringeltaube",Schussbuch!$A$4:$A$200,2026) -> 0 | E17: =SUMIFS(Schussbuch!$H$4:$H$200,Schussbuch!$F$4:$F$200,"Ringeltaube",Schussbuch!$A$4:$A$200,2027) -> 0 | F17: =SUMIFS(Schussbuch!$H$4:$H$200,Schussbuch!$F$4:$F$200,"Ringeltaube",Schussbuch!$A$4:$A$200,2028) -> 0 | G17: =SUMIFS(Schussbuch!$H$4:$H$200,Schussbuch!$F$4:$F$200,"Ringeltaube",Schussbuch!$A$4:$A$200,2029) -> 0 | H17: =SUMIFS(Schussbuch!$H$4:$H$200,Schussbuch!$F$4:$F$200,"Ringeltaube",Schussbuch!$A$4:$A$200,2030) -> 0 | I17: =SUMIFS(Schussbuch!$H$4:$H$200,Schussbuch!$F$4:$F$200,"Ringeltaube",Schussbuch!$A$4:$A$200,2031) -> 0 | J17: =SUMIFS(Schussbuch!$H$4:$H$200,Schussbuch!$F$4:$F$200,"Ringeltaube",Schussbuch!$A$4:$A$200,2032) -> 0 | K17: =SUMIFS(Schussbuch!$H$4:$H$200,Schussbuch!$F$4:$F$200,"Ringeltaube",Schussbuch!$A$4:$A$200,2033) -> 0 | L17: =SUMIFS(Schussbuch!$H$4:$H$200,Schussbuch!$F$4:$F$200,"Ringeltaube",Schussbuch!$A$4:$A$200,2034) -> 0 | M17: =SUMIFS(Schussbuch!$H$4:$H$200,Schussbuch!$F$4:$F$200,"Ringeltaube",Schussbuch!$A$4:$A$200,2035) -> 0 | N17: =SUMIFS(Schussbuch!$H$4:$H$200,Schussbuch!$F$4:$F$200,"Ringeltaube",Schussbuch!$A$4:$A$200,2036) -> 0 | O17: =SUMIFS(Schussbuch!$H$4:$H$200,Schussbuch!$F$4:$F$200,"Ringeltaube",Schussbuch!$A$4:$A$200,2037) -> 0 | P17: =SUMIFS(Schussbuch!$H$4:$H$200,Schussbuch!$F$4:$F$200,"Ringeltaube",Schussbuch!$A$4:$A$200,2038) -> 0 | Q17: =SUMIFS(Schussbuch!$H$4:$H$200,Schussbuch!$F$4:$F$200,"Ringeltaube",Schussbuch!$A$4:$A$200,2039) -> 0 | R17: =SUMIFS(Schussbuch!$H$4:$H$200,Schussbuch!$F$4:$F$200,"Ringeltaube",Schussbuch!$A$4:$A$200,2040) -> 0 | S17: =SUMIFS(Schussbuch!$H$4:$H$200,Schussbuch!$F$4:$F$200,"Ringeltaube",Schussbuch!$A$4:$A$200,2041) -> 0 | T17: =SUMIFS(Schussbuch!$H$4:$H$200,Schussbuch!$F$4:$F$200,"Ringeltaube",Schussbuch!$A$4:$A$200,2042) -> 0 | U17: =SUMIFS(Schussbuch!$H$4:$H$200,Schussbuch!$F$4:$F$200,"Ringeltaube",Schussbuch!$A$4:$A$200,2043) -> 0 | V17: =SUMIFS(Schussbuch!$H$4:$H$200,Schussbuch!$F$4:$F$200,"Ringeltaube",Schussbuch!$A$4:$A$200,2044) -> 0 | W17: =SUMIFS(Schussbuch!$H$4:$H$200,Schussbuch!$F$4:$F$200,"Ringeltaube",Schussbuch!$A$4:$A$200,2045) -> 0 | X17: =SUMIFS(Schussbuch!$H$4:$H$200,Schussbuch!$F$4:$F$200,"Ringeltaube",Schussbuch!$A$4:$A$200,2046) -> 0 | Y17: =SUMIFS(Schussbuch!$H$4:$H$200,Schussbuch!$F$4:$F$200,"Ringeltaube",Schussbuch!$A$4:$A$200,2047) -> 0 | Z17: =SUMIFS(Schussbuch!$H$4:$H$200,Schussbuch!$F$4:$F$200,"Ringeltaube",Schussbuch!$A$4:$A$200,2048) -> 0 | AA17: =SUMIFS(Schussbuch!$H$4:$H$200,Schussbuch!$F$4:$F$200,"Ringeltaube",Schussbuch!$A$4:$A$200,2049) -> 0 | AB17: =SUM(B17:AA17) -> 0
A18: Eichelhäher | B18: =SUMIFS(Schussbuch!$H$4:$H$200,Schussbuch!$F$4:$F$200,"Eichelhäher",Schussbuch!$A$4:$A$200,2024) -> 0 | C18: =SUMIFS(Schussbuch!$H$4:$H$200,Schussbuch!$F$4:$F$200,"Eichelhäher",Schussbuch!$A$4:$A$200,2025) -> 0 | D18: =SUMIFS(Schussbuch!$H$4:$H$200,Schussbuch!$F$4:$F$200,"Eichelhäher",Schussbuch!$A$4:$A$200,2026) -> 0 | E18: =SUMIFS(Schussbuch!$H$4:$H$200,Schussbuch!$F$4:$F$200,"Eichelhäher",Schussbuch!$A$4:$A$200,2027) -> 0 | F18: =SUMIFS(Schussbuch!$H$4:$H$200,Schussbuch!$F$4:$F$200,"Eichelhäher",Schussbuch!$A$4:$A$200,2028) -> 0 | G18: =SUMIFS(Schussbuch!$H$4:$H$200,Schussbuch!$F$4:$F$200,"Eichelhäher",Schussbuch!$A$4:$A$200,2029) -> 0 | H18: =SUMIFS(Schussbuch!$H$4:$H$200,Schussbuch!$F$4:$F$200,"Eichelhäher",Schussbuch!$A$4:$A$200,2030) -> 0 | I18: =SUMIFS(Schussbuch!$H$4:$H$200,Schussbuch!$F$4:$F$200,"Eichelhäher",Schussbuch!$A$4:$A$200,2031) -> 0 | J18: =SUMIFS(Schussbuch!$H$4:$H$200,Schussbuch!$F$4:$F$200,"Eichelhäher",Schussbuch!$A$4:$A$200,2032) -> 0 | K18: =SUMIFS(Schussbuch!$H$4:$H$200,Schussbuch!$F$4:$F$200,"Eichelhäher",Schussbuch!$A$4:$A$200,2033) -> 0 | L18: =SUMIFS(Schussbuch!$H$4:$H$200,Schussbuch!$F$4:$F$200,"Eichelhäher",Schussbuch!$A$4:$A$200,2034) -> 0 | M18: =SUMIFS(Schussbuch!$H$4:$H$200,Schussbuch!$F$4:$F$200,"Eichelhäher",Schussbuch!$A$4:$A$200,2035) -> 0 | N18: =SUMIFS(Schussbuch!$H$4:$H$200,Schussbuch!$F$4:$F$200,"Eichelhäher",Schussbuch!$A$4:$A$200,2036) -> 0 | O18: =SUMIFS(Schussbuch!$H$4:$H$200,Schussbuch!$F$4:$F$200,"Eichelhäher",Schussbuch!$A$4:$A$200,2037) -> 0 | P18: =SUMIFS(Schussbuch!$H$4:$H$200,Schussbuch!$F$4:$F$200,"Eichelhäher",Schussbuch!$A$4:$A$200,2038) -> 0 | Q18: =SUMIFS(Schussbuch!$H$4:$H$200,Schussbuch!$F$4:$F$200,"Eichelhäher",Schussbuch!$A$4:$A$200,2039) -> 0 | R18: =SUMIFS(Schussbuch!$H$4:$H$200,Schussbuch!$F$4:$F$200,"Eichelhäher",Schussbuch!$A$4:$A$200,2040) -> 0 | S18: =SUMIFS(Schussbuch!$H$4:$H$200,Schussbuch!$F$4:$F$200,"Eichelhäher",Schussbuch!$A$4:$A$200,2041) -> 0 | T18: =SUMIFS(Schussbuch!$H$4:$H$200,Schussbuch!$F$4:$F$200,"Eichelhäher",Schussbuch!$A$4:$A$200,2042) -> 0 | U18: =SUMIFS(Schussbuch!$H$4:$H$200,Schussbuch!$F$4:$F$200,"Eichelhäher",Schussbuch!$A$4:$A$200,2043) -> 0 | V18: =SUMIFS(Schussbuch!$H$4:$H$200,Schussbuch!$F$4:$F$200,"Eichelhäher",Schussbuch!$A$4:$A$200,2044) -> 0 | W18: =SUMIFS(Schussbuch!$H$4:$H$200,Schussbuch!$F$4:$F$200,"Eichelhäher",Schussbuch!$A$4:$A$200,2045) -> 0 | X18: =SUMIFS(Schussbuch!$H$4:$H$200,Schussbuch!$F$4:$F$200,"Eichelhäher",Schussbuch!$A$4:$A$200,2046) -> 0 | Y18: =SUMIFS(Schussbuch!$H$4:$H$200,Schussbuch!$F$4:$F$200,"Eichelhäher",Schussbuch!$A$4:$A$200,2047) -> 0 | Z18: =SUMIFS(Schussbuch!$H$4:$H$200,Schussbuch!$F$4:$F$200,"Eichelhäher",Schussbuch!$A$4:$A$200,2048) -> 0 | AA18: =SUMIFS(Schussbuch!$H$4:$H$200,Schussbuch!$F$4:$F$200,"Eichelhäher",Schussbuch!$A$4:$A$200,2049) -> 0 | AB18: =SUM(B18:AA18) -> 0
A19: Krähe | B19: =SUMIFS(Schussbuch!$H$4:$H$200,Schussbuch!$F$4:$F$200,"Krähe",Schussbuch!$A$4:$A$200,2024) -> 0 | C19: =SUMIFS(Schussbuch!$H$4:$H$200,Schussbuch!$F$4:$F$200,"Krähe",Schussbuch!$A$4:$A$200,2025) -> 0 | D19: =SUMIFS(Schussbuch!$H$4:$H$200,Schussbuch!$F$4:$F$200,"Krähe",Schussbuch!$A$4:$A$200,2026) -> 0 | E19: =SUMIFS(Schussbuch!$H$4:$H$200,Schussbuch!$F$4:$F$200,"Krähe",Schussbuch!$A$4:$A$200,2027) -> 0 | F19: =SUMIFS(Schussbuch!$H$4:$H$200,Schussbuch!$F$4:$F$200,"Krähe",Schussbuch!$A$4:$A$200,2028) -> 0 | G19: =SUMIFS(Schussbuch!$H$4:$H$200,Schussbuch!$F$4:$F$200,"Krähe",Schussbuch!$A$4:$A$200,2029) -> 0 | H19: =SUMIFS(Schussbuch!$H$4:$H$200,Schussbuch!$F$4:$F$200,"Krähe",Schussbuch!$A$4:$A$200,2030) -> 0 | I19: =SUMIFS(Schussbuch!$H$4:$H$200,Schussbuch!$F$4:$F$200,"Krähe",Schussbuch!$A$4:$A$200,2031) -> 0 | J19: =SUMIFS(Schussbuch!$H$4:$H$200,Schussbuch!$F$4:$F$200,"Krähe",Schussbuch!$A$4:$A$200,2032) -> 0 | K19: =SUMIFS(Schussbuch!$H$4:$H$200,Schussbuch!$F$4:$F$200,"Krähe",Schussbuch!$A$4:$A$200,2033) -> 0 | L19: =SUMIFS(Schussbuch!$H$4:$H$200,Schussbuch!$F$4:$F$200,"Krähe",Schussbuch!$A$4:$A$200,2034) -> 0 | M19: =SUMIFS(Schussbuch!$H$4:$H$200,Schussbuch!$F$4:$F$200,"Krähe",Schussbuch!$A$4:$A$200,2035) -> 0 | N19: =SUMIFS(Schussbuch!$H$4:$H$200,Schussbuch!$F$4:$F$200,"Krähe",Schussbuch!$A$4:$A$200,2036) -> 0 | O19: =SUMIFS(Schussbuch!$H$4:$H$200,Schussbuch!$F$4:$F$200,"Krähe",Schussbuch!$A$4:$A$200,2037) -> 0 | P19: =SUMIFS(Schussbuch!$H$4:$H$200,Schussbuch!$F$4:$F$200,"Krähe",Schussbuch!$A$4:$A$200,2038) -> 0 | Q19: =SUMIFS(Schussbuch!$H$4:$H$200,Schussbuch!$F$4:$F$200,"Krähe",Schussbuch!$A$4:$A$200,2039) -> 0 | R19: =SUMIFS(Schussbuch!$H$4:$H$200,Schussbuch!$F$4:$F$200,"Krähe",Schussbuch!$A$4:$A$200,2040) -> 0 | S19: =SUMIFS(Schussbuch!$H$4:$H$200,Schussbuch!$F$4:$F$200,"Krähe",Schussbuch!$A$4:$A$200,2041) -> 0 | T19: =SUMIFS(Schussbuch!$H$4:$H$200,Schussbuch!$F$4:$F$200,"Krähe",Schussbuch!$A$4:$A$200,2042) -> 0 | U19: =SUMIFS(Schussbuch!$H$4:$H$200,Schussbuch!$F$4:$F$200,"Krähe",Schussbuch!$A$4:$A$200,2043) -> 0 | V19: =SUMIFS(Schussbuch!$H$4:$H$200,Schussbuch!$F$4:$F$200,"Krähe",Schussbuch!$A$4:$A$200,2044) -> 0 | W19: =SUMIFS(Schussbuch!$H$4:$H$200,Schussbuch!$F$4:$F$200,"Krähe",Schussbuch!$A$4:$A$200,2045) -> 0 | X19: =SUMIFS(Schussbuch!$H$4:$H$200,Schussbuch!$F$4:$F$200,"Krähe",Schussbuch!$A$4:$A$200,2046) -> 0 | Y19: =SUMIFS(Schussbuch!$H$4:$H$200,Schussbuch!$F$4:$F$200,"Krähe",Schussbuch!$A$4:$A$200,2047) -> 0 | Z19: =SUMIFS(Schussbuch!$H$4:$H$200,Schussbuch!$F$4:$F$200,"Krähe",Schussbuch!$A$4:$A$200,2048) -> 0 | AA19: =SUMIFS(Schussbuch!$H$4:$H$200,Schussbuch!$F$4:$F$200,"Krähe",Schussbuch!$A$4:$A$200,2049) -> 0 | AB19: =SUM(B19:AA19) -> 0
A20: Elster | B20: =SUMIFS(Schussbuch!$H$4:$H$200,Schussbuch!$F$4:$F$200,"Elster",Schussbuch!$A$4:$A$200,2024) -> 0 | C20: =SUMIFS(Schussbuch!$H$4:$H$200,Schussbuch!$F$4:$F$200,"Elster",Schussbuch!$A$4:$A$200,2025) -> 0 | D20: =SUMIFS(Schussbuch!$H$4:$H$200,Schussbuch!$F$4:$F$200,"Elster",Schussbuch!$A$4:$A$200,2026) -> 0 | E20: =SUMIFS(Schussbuch!$H$4:$H$200,Schussbuch!$F$4:$F$200,"Elster",Schussbuch!$A$4:$A$200,2027) -> 0 | F20: =SUMIFS(Schussbuch!$H$4:$H$200,Schussbuch!$F$4:$F$200,"Elster",Schussbuch!$A$4:$A$200,2028) -> 0 | G20: =SUMIFS(Schussbuch!$H$4:$H$200,Schussbuch!$F$4:$F$200,"Elster",Schussbuch!$A$4:$A$200,2029) -> 0 | H20: =SUMIFS(Schussbuch!$H$4:$H$200,Schussbuch!$F$4:$F$200,"Elster",Schussbuch!$A$4:$A$200,2030) -> 0 | I20: =SUMIFS(Schussbuch!$H$4:$H$200,Schussbuch!$F$4:$F$200,"Elster",Schussbuch!$A$4:$A$200,2031) -> 0 | J20: =SUMIFS(Schussbuch!$H$4:$H$200,Schussbuch!$F$4:$F$200,"Elster",Schussbuch!$A$4:$A$200,2032) -> 0 | K20: =SUMIFS(Schussbuch!$H$4:$H$200,Schussbuch!$F$4:$F$200,"Elster",Schussbuch!$A$4:$A$200,2033) -> 0 | L20: =SUMIFS(Schussbuch!$H$4:$H$200,Schussbuch!$F$4:$F$200,"Elster",Schussbuch!$A$4:$A$200,2034) -> 0 | M20: =SUMIFS(Schussbuch!$H$4:$H$200,Schussbuch!$F$4:$F$200,"Elster",Schussbuch!$A$4:$A$200,2035) -> 0 | N20: =SUMIFS(Schussbuch!$H$4:$H$200,Schussbuch!$F$4:$F$200,"Elster",Schussbuch!$A$4:$A$200,2036) -> 0 | O20: =SUMIFS(Schussbuch!$H$4:$H$200,Schussbuch!$F$4:$F$200,"Elster",Schussbuch!$A$4:$A$200,2037) -> 0 | P20: =SUMIFS(Schussbuch!$H$4:$H$200,Schussbuch!$F$4:$F$200,"Elster",Schussbuch!$A$4:$A$200,2038) -> 0 | Q20: =SUMIFS(Schussbuch!$H$4:$H$200,Schussbuch!$F$4:$F$200,"Elster",Schussbuch!$A$4:$A$200,2039) -> 0 | R20: =SUMIFS(Schussbuch!$H$4:$H$200,Schussbuch!$F$4:$F$200,"Elster",Schussbuch!$A$4:$A$200,2040) -> 0 | S20: =SUMIFS(Schussbuch!$H$4:$H$200,Schussbuch!$F$4:$F$200,"Elster",Schussbuch!$A$4:$A$200,2041) -> 0 | T20: =SUMIFS(Schussbuch!$H$4:$H$200,Schussbuch!$F$4:$F$200,"Elster",Schussbuch!$A$4:$A$200,2042) -> 0 | U20: =SUMIFS(Schussbuch!$H$4:$H$200,Schussbuch!$F$4:$F$200,"Elster",Schussbuch!$A$4:$A$200,2043) -> 0 | V20: =SUMIFS(Schussbuch!$H$4:$H$200,Schussbuch!$F$4:$F$200,"Elster",Schussbuch!$A$4:$A$200,2044) -> 0 | W20: =SUMIFS(Schussbuch!$H$4:$H$200,Schussbuch!$F$4:$F$200,"Elster",Schussbuch!$A$4:$A$200,2045) -> 0 | X20: =SUMIFS(Schussbuch!$H$4:$H$200,Schussbuch!$F$4:$F$200,"Elster",Schussbuch!$A$4:$A$200,2046) -> 0 | Y20: =SUMIFS(Schussbuch!$H$4:$H$200,Schussbuch!$F$4:$F$200,"Elster",Schussbuch!$A$4:$A$200,2047) -> 0 | Z20: =SUMIFS(Schussbuch!$H$4:$H$200,Schussbuch!$F$4:$F$200,"Elster",Schussbuch!$A$4:$A$200,2048) -> 0 | AA20: =SUMIFS(Schussbuch!$H$4:$H$200,Schussbuch!$F$4:$F$200,"Elster",Schussbuch!$A$4:$A$200,2049) -> 0 | AB20: =SUM(B20:AA20) -> 0
A21: Katze | B21: =SUMIFS(Schussbuch!$H$4:$H$200,Schussbuch!$F$4:$F$200,"Katze",Schussbuch!$A$4:$A$200,2024) -> 0 | C21: =SUMIFS(Schussbuch!$H$4:$H$200,Schussbuch!$F$4:$F$200,"Katze",Schussbuch!$A$4:$A$200,2025) -> 0 | D21: =SUMIFS(Schussbuch!$H$4:$H$200,Schussbuch!$F$4:$F$200,"Katze",Schussbuch!$A$4:$A$200,2026) -> 0 | E21: =SUMIFS(Schussbuch!$H$4:$H$200,Schussbuch!$F$4:$F$200,"Katze",Schussbuch!$A$4:$A$200,2027) -> 0 | F21: =SUMIFS(Schussbuch!$H$4:$H$200,Schussbuch!$F$4:$F$200,"Katze",Schussbuch!$A$4:$A$200,2028) -> 0 | G21: =SUMIFS(Schussbuch!$H$4:$H$200,Schussbuch!$F$4:$F$200,"Katze",Schussbuch!$A$4:$A$200,2029) -> 0 | H21: =SUMIFS(Schussbuch!$H$4:$H$200,Schussbuch!$F$4:$F$200,"Katze",Schussbuch!$A$4:$A$200,2030) -> 0 | I21: =SUMIFS(Schussbuch!$H$4:$H$200,Schussbuch!$F$4:$F$200,"Katze",Schussbuch!$A$4:$A$200,2031) -> 0 | J21: =SUMIFS(Schussbuch!$H$4:$H$200,Schussbuch!$F$4:$F$200,"Katze",Schussbuch!$A$4:$A$200,2032) -> 0 | K21: =SUMIFS(Schussbuch!$H$4:$H$200,Schussbuch!$F$4:$F$200,"Katze",Schussbuch!$A$4:$A$200,2033) -> 0 | L21: =SUMIFS(Schussbuch!$H$4:$H$200,Schussbuch!$F$4:$F$200,"Katze",Schussbuch!$A$4:$A$200,2034) -> 0 | M21: =SUMIFS(Schussbuch!$H$4:$H$200,Schussbuch!$F$4:$F$200,"Katze",Schussbuch!$A$4:$A$200,2035) -> 0 | N21: =SUMIFS(Schussbuch!$H$4:$H$200,Schussbuch!$F$4:$F$200,"Katze",Schussbuch!$A$4:$A$200,2036) -> 0 | O21: =SUMIFS(Schussbuch!$H$4:$H$200,Schussbuch!$F$4:$F$200,"Katze",Schussbuch!$A$4:$A$200,2037) -> 0 | P21: =SUMIFS(Schussbuch!$H$4:$H$200,Schussbuch!$F$4:$F$200,"Katze",Schussbuch!$A$4:$A$200,2038) -> 0 | Q21: =SUMIFS(Schussbuch!$H$4:$H$200,Schussbuch!$F$4:$F$200,"Katze",Schussbuch!$A$4:$A$200,2039) -> 0 | R21: =SUMIFS(Schussbuch!$H$4:$H$200,Schussbuch!$F$4:$F$200,"Katze",Schussbuch!$A$4:$A$200,2040) -> 0 | S21: =SUMIFS(Schussbuch!$H$4:$H$200,Schussbuch!$F$4:$F$200,"Katze",Schussbuch!$A$4:$A$200,2041) -> 0 | T21: =SUMIFS(Schussbuch!$H$4:$H$200,Schussbuch!$F$4:$F$200,"Katze",Schussbuch!$A$4:$A$200,2042) -> 0 | U21: =SUMIFS(Schussbuch!$H$4:$H$200,Schussbuch!$F$4:$F$200,"Katze",Schussbuch!$A$4:$A$200,2043) -> 0 | V21: =SUMIFS(Schussbuch!$H$4:$H$200,Schussbuch!$F$4:$F$200,"Katze",Schussbuch!$A$4:$A$200,2044) -> 0 | W21: =SUMIFS(Schussbuch!$H$4:$H$200,Schussbuch!$F$4:$F$200,"Katze",Schussbuch!$A$4:$A$200,2045) -> 0 | X21: =SUMIFS(Schussbuch!$H$4:$H$200,Schussbuch!$F$4:$F$200,"Katze",Schussbuch!$A$4:$A$200,2046) -> 0 | Y21: =SUMIFS(Schussbuch!$H$4:$H$200,Schussbuch!$F$4:$F$200,"Katze",Schussbuch!$A$4:$A$200,2047) -> 0 | Z21: =SUMIFS(Schussbuch!$H$4:$H$200,Schussbuch!$F$4:$F$200,"Katze",Schussbuch!$A$4:$A$200,2048) -> 0 | AA21: =SUMIFS(Schussbuch!$H$4:$H$200,Schussbuch!$F$4:$F$200,"Katze",Schussbuch!$A$4:$A$200,2049) -> 0 | AB21: =SUM(B21:AA21) -> 0
A22: Hund | B22: =SUMIFS(Schussbuch!$H$4:$H$200,Schussbuch!$F$4:$F$200,"Hund",Schussbuch!$A$4:$A$200,2024) -> 0 | C22: =SUMIFS(Schussbuch!$H$4:$H$200,Schussbuch!$F$4:$F$200,"Hund",Schussbuch!$A$4:$A$200,2025) -> 0 | D22: =SUMIFS(Schussbuch!$H$4:$H$200,Schussbuch!$F$4:$F$200,"Hund",Schussbuch!$A$4:$A$200,2026) -> 0 | E22: =SUMIFS(Schussbuch!$H$4:$H$200,Schussbuch!$F$4:$F$200,"Hund",Schussbuch!$A$4:$A$200,2027) -> 0 | F22: =SUMIFS(Schussbuch!$H$4:$H$200,Schussbuch!$F$4:$F$200,"Hund",Schussbuch!$A$4:$A$200,2028) -> 0 | G22: =SUMIFS(Schussbuch!$H$4:$H$200,Schussbuch!$F$4:$F$200,"Hund",Schussbuch!$A$4:$A$200,2029) -> 0 | H22: =SUMIFS(Schussbuch!$H$4:$H$200,Schussbuch!$F$4:$F$200,"Hund",Schussbuch!$A$4:$A$200,2030) -> 0 | I22: =SUMIFS(Schussbuch!$H$4:$H$200,Schussbuch!$F$4:$F$200,"Hund",Schussbuch!$A$4:$A$200,2031) -> 0 | J22: =SUMIFS(Schussbuch!$H$4:$H$200,Schussbuch!$F$4:$F$200,"Hund",Schussbuch!$A$4:$A$200,2032) -> 0 | K22: =SUMIFS(Schussbuch!$H$4:$H$200,Schussbuch!$F$4:$F$200,"Hund",Schussbuch!$A$4:$A$200,2033) -> 0 | L22: =SUMIFS(Schussbuch!$H$4:$H$200,Schussbuch!$F$4:$F$200,"Hund",Schussbuch!$A$4:$A$200,2034) -> 0 | M22: =SUMIFS(Schussbuch!$H$4:$H$200,Schussbuch!$F$4:$F$200,"Hund",Schussbuch!$A$4:$A$200,2035) -> 0 | N22: =SUMIFS(Schussbuch!$H$4:$H$200,Schussbuch!$F$4:$F$200,"Hund",Schussbuch!$A$4:$A$200,2036) -> 0 | O22: =SUMIFS(Schussbuch!$H$4:$H$200,Schussbuch!$F$4:$F$200,"Hund",Schussbuch!$A$4:$A$200,2037) -> 0 | P22: =SUMIFS(Schussbuch!$H$4:$H$200,Schussbuch!$F$4:$F$200,"Hund",Schussbuch!$A$4:$A$200,2038) -> 0 | Q22: =SUMIFS(Schussbuch!$H$4:$H$200,Schussbuch!$F$4:$F$200,"Hund",Schussbuch!$A$4:$A$200,2039) -> 0 | R22: =SUMIFS(Schussbuch!$H$4:$H$200,Schussbuch!$F$4:$F$200,"Hund",Schussbuch!$A$4:$A$200,2040) -> 0 | S22: =SUMIFS(Schussbuch!$H$4:$H$200,Schussbuch!$F$4:$F$200,"Hund",Schussbuch!$A$4:$A$200,2041) -> 0 | T22: =SUMIFS(Schussbuch!$H$4:$H$200,Schussbuch!$F$4:$F$200,"Hund",Schussbuch!$A$4:$A$200,2042) -> 0 | U22: =SUMIFS(Schussbuch!$H$4:$H$200,Schussbuch!$F$4:$F$200,"Hund",Schussbuch!$A$4:$A$200,2043) -> 0 | V22: =SUMIFS(Schussbuch!$H$4:$H$200,Schussbuch!$F$4:$F$200,"Hund",Schussbuch!$A$4:$A$200,2044) -> 0 | W22: =SUMIFS(Schussbuch!$H$4:$H$200,Schussbuch!$F$4:$F$200,"Hund",Schussbuch!$A$4:$A$200,2045) -> 0 | X22: =SUMIFS(Schussbuch!$H$4:$H$200,Schussbuch!$F$4:$F$200,"Hund",Schussbuch!$A$4:$A$200,2046) -> 0 | Y22: =SUMIFS(Schussbuch!$H$4:$H$200,Schussbuch!$F$4:$F$200,"Hund",Schussbuch!$A$4:$A$200,2047) -> 0 | Z22: =SUMIFS(Schussbuch!$H$4:$H$200,Schussbuch!$F$4:$F$200,"Hund",Schussbuch!$A$4:$A$200,2048) -> 0 | AA22: =SUMIFS(Schussbuch!$H$4:$H$200,Schussbuch!$F$4:$F$200,"Hund",Schussbuch!$A$4:$A$200,2049) -> 0 | AB22: =SUM(B22:AA22) -> 0
B23: =SUMIFS(Schussbuch!$H$4:$H$200,Schussbuch!$F$4:$F$200,"Rotwild",Schussbuch!$A$4:$A$200,2024) -> 0 | C23: =SUMIFS(Schussbuch!$H$4:$H$200,Schussbuch!$F$4:$F$200,"Rotwild",Schussbuch!$A$4:$A$200,2025) -> 0 | D23: =SUMIFS(Schussbuch!$H$4:$H$200,Schussbuch!$F$4:$F$200,"Rotwild",Schussbuch!$A$4:$A$200,2026) -> 0 | E23: =SUMIFS(Schussbuch!$H$4:$H$200,Schussbuch!$F$4:$F$200,"Rotwild",Schussbuch!$A$4:$A$200,2027) -> 0 | F23: =SUMIFS(Schussbuch!$H$4:$H$200,Schussbuch!$F$4:$F$200,"Rotwild",Schussbuch!$A$4:$A$200,2028) -> 0 | G23: =SUMIFS(Schussbuch!$H$4:$H$200,Schussbuch!$F$4:$F$200,"Rotwild",Schussbuch!$A$4:$A$200,2029) -> 0 | H23: =SUMIFS(Schussbuch!$H$4:$H$200,Schussbuch!$F$4:$F$200,"Rotwild",Schussbuch!$A$4:$A$200,2030) -> 0 | I23: =SUMIFS(Schussbuch!$H$4:$H$200,Schussbuch!$F$4:$F$200,"Rotwild",Schussbuch!$A$4:$A$200,2031) -> 0 | J23: =SUMIFS(Schussbuch!$H$4:$H$200,Schussbuch!$F$4:$F$200,"Rotwild",Schussbuch!$A$4:$A$200,2032) -> 0 | K23: =SUMIFS(Schussbuch!$H$4:$H$200,Schussbuch!$F$4:$F$200,"Rotwild",Schussbuch!$A$4:$A$200,2033) -> 0 | L23: =SUMIFS(Schussbuch!$H$4:$H$200,Schussbuch!$F$4:$F$200,"Rotwild",Schussbuch!$A$4:$A$200,2034) -> 0 | M23: =SUMIFS(Schussbuch!$H$4:$H$200,Schussbuch!$F$4:$F$200,"Rotwild",Schussbuch!$A$4:$A$200,2035) -> 0 | N23: =SUMIFS(Schussbuch!$H$4:$H$200,Schussbuch!$F$4:$F$200,"Rotwild",Schussbuch!$A$4:$A$200,2036) -> 0 | O23: =SUMIFS(Schussbuch!$H$4:$H$200,Schussbuch!$F$4:$F$200,"Rotwild",Schussbuch!$A$4:$A$200,2037) -> 0 | P23: =SUMIFS(Schussbuch!$H$4:$H$200,Schussbuch!$F$4:$F$200,"Rotwild",Schussbuch!$A$4:$A$200,2038) -> 0 | Q23: =SUMIFS(Schussbuch!$H$4:$H$200,Schussbuch!$F$4:$F$200,"Rotwild",Schussbuch!$A$4:$A$200,2039) -> 0 | R23: =SUMIFS(Schussbuch!$H$4:$H$200,Schussbuch!$F$4:$F$200,"Rotwild",Schussbuch!$A$4:$A$200,2040) -> 0 | S23: =SUMIFS(Schussbuch!$H$4:$H$200,Schussbuch!$F$4:$F$200,"Rotwild",Schussbuch!$A$4:$A$200,2041) -> 0 | T23: =SUMIFS(Schussbuch!$H$4:$H$200,Schussbuch!$F$4:$F$200,"Rotwild",Schussbuch!$A$4:$A$200,2042) -> 0 | U23: =SUMIFS(Schussbuch!$H$4:$H$200,Schussbuch!$F$4:$F$200,"Rotwild",Schussbuch!$A$4:$A$200,2043) -> 0 | V23: =SUMIFS(Schussbuch!$H$4:$H$200,Schussbuch!$F$4:$F$200,"Rotwild",Schussbuch!$A$4:$A$200,2044) -> 0 | W23: =SUMIFS(Schussbuch!$H$4:$H$200,Schussbuch!$F$4:$F$200,"Rotwild",Schussbuch!$A$4:$A$200,2045) -> 0 | X23: =SUMIFS(Schussbuch!$H$4:$H$200,Schussbuch!$F$4:$F$200,"Rotwild",Schussbuch!$A$4:$A$200,2046) -> 0 | Y23: =SUMIFS(Schussbuch!$H$4:$H$200,Schussbuch!$F$4:$F$200,"Rotwild",Schussbuch!$A$4:$A$200,2047) -> 0 | Z23: =SUMIFS(Schussbuch!$H$4:$H$200,Schussbuch!$F$4:$F$200,"Rotwild",Schussbuch!$A$4:$A$200,2048) -> 0 | AA23: =SUMIFS(Schussbuch!$H$4:$H$200,Schussbuch!$F$4:$F$200,"Rotwild",Schussbuch!$A$4:$A$200,2049) -> 0 | AB23: =SUM(B23:AA23) -> 0
A24: Sa. Jagdjahr | B24: =SUM(B3:B23) -> 3 | C24: =SUM(C3:C23) -> 0 | D24: =SUM(D3:D23) -> 0 | E24: =SUM(E3:E23) -> 0 | F24: =SUM(F3:F23) -> 0 | G24: =SUM(G3:G23) -> 0 | H24: =SUM(H3:H23) -> 0 | I24: =SUM(I3:I23) -> 0 | ... AB24: =SUM(AB3:AB23) -> 3

Sheet Strecke II
A1: Jagdstrecke
A2: Jagdjahr | B2: Rotwild | C2: Schwarzwild | D2: Rehwild | E2: Gamswild | F2: Damwild | G2: Muffelwild | H2: Hase | I2: Kanin | J2: Fuchs | K2: Marder | L2: Fasan | M2: Gans | N2: Ente | O2: Schnepfe | P2: Ringeltaube | Q2: Eichelhäher | R2: Krähe | S2: Elster | T2: Katze | U2: Hund | V2: Summe
A3: 2024/25 | B3: =SUMIFS(Schussbuch!$H$3:$H$200,Schussbuch!$A$3:$A$200,2024,Schussbuch!$F$3:$F$200,"Rotwild") -> 0 | C3: =SUMIFS(Schussbuch!$H$3:$H$200,Schussbuch!$A$3:$A$200,2024,Schussbuch!$F$3:$F$200,"Schwarzwild") -> 0 | D3: =SUMIFS(Schussbuch!$H$3:$H$200,Schussbuch!$A$3:$A$200,2024,Schussbuch!$F$3:$F$200,"Rehwild") -> 3 | E3: =SUMIFS(Schussbuch!$H$3:$H$200,Schussbuch!$A$3:$A$200,2024,Schussbuch!$F$3:$F$200,"Gamswild") -> 0 | F3: =SUMIFS(Schussbuch!$H$3:$H$200,Schussbuch!$A$3:$A$200,2024,Schussbuch!$F$3:$F$200,"Damwild") -> 0 | G3: =SUMIFS(Schussbuch!$H$3:$H$200,Schussbuch!$A$3:$A$200,2024,Schussbuch!$F$3:$F$200,"Muffelwild") -> 0 | H3: =SUMIFS(Schussbuch!$H$3:$H$200,Schussbuch!$A$3:$A$200,2024,Schussbuch!$F$3:$F$200,"Hase") -> 0 | I3: =SUMIFS(Schussbuch!$H$3:$H$200,Schussbuch!$A$3:$A$200,2024,Schussbuch!$F$3:$F$200,"Kanin") -> 0 | J3: =SUMIFS(Schussbuch!$H$3:$H$200,Schussbuch!$A$3:$A$200,2024,Schussbuch!$F$3:$F$200,"Fuchs") -> 0 | K3: =SUMIFS(Schussbuch!$H$3:$H$200,Schussbuch!$A$3:$A$200,2024,Schussbuch!$F$3:$F$200,"Marder") -> 0 | L3: =SUMIFS(Schussbuch!$H$3:$H$200,Schussbuch!$A$3:$A$200,2024,Schussbuch!$F$3:$F$200,"Fasan") -> 0 | M3: =SUMIFS(Schussbuch!$H$3:$H$200,Schussbuch!$A$3:$A$200,2024,Schussbuch!$F$3:$F$200,"Gans") -> 0 | N3: =SUMIFS(Schussbuch!$H$3:$H$200,Schussbuch!$A$3:$A$200,2024,Schussbuch!$F$3:$F$200,"Ente") -> 0 | O3: =SUMIFS(Schussbuch!$H$3:$H$200,Schussbuch!$A$3:$A$200,2024,Schussbuch!$F$3:$F$200,"Schnepfe") -> 0 | P3: =SUMIFS(Schussbuch!$H$3:$H$200,Schussbuch!$A$3:$A$200,2024,Schussbuch!$F$3:$F$200,"Ringeltaube") -> 0 | Q3: =SUMIFS(Schussbuch!$H$3:$H$200,Schussbuch!$A$3:$A$200,2024,Schussbuch!$F$3:$F$200,"Eichelhäher") -> 0 | R3: =SUMIFS(Schussbuch!$H$3:$H$200,Schussbuch!$A$3:$A$200,2024,Schussbuch!$F$3:$F$200,"Krähe") -> 0 | S3: =SUMIFS(Schussbuch!$H$3:$H$200,Schussbuch!$A$3:$A$200,2024,Schussbuch!$F$3:$F$200,"Elster") -> 0 | T3: =SUMIFS(Schussbuch!$H$3:$H$200,Schussbuch!$A$3:$A$200,2024,Schussbuch!$F$3:$F$200,"Katze") -> 0 | U3: =SUMIFS(Schussbuch!$H$3:$H$200,Schussbuch!$A$3:$A$200,2024,Schussbuch!$F$3:$F$200,"Hund") -> 0 | V3: =SUM(B3:U3) -> 3
A4: 2025/26 | B4: =SUMIFS(Schussbuch!$H$3:$H$200,Schussbuch!$A$3:$A$200,2025,Schussbuch!$F$3:$F$200,"Rotwild") -> 0 | C4: =SUMIFS(Schussbuch!$H$3:$H$200,Schussbuch!$A$3:$A$200,2025,Schussbuch!$F$3:$F$200,"Schwarzwild") -> 0 | D4: =SUMIFS(Schussbuch!$H$3:$H$200,Schussbuch!$A$3:$A$200,2025,Schussbuch!$F$3:$F$200,"Rehwild") -> 0 | E4: =SUMIFS(Schussbuch!$H$3:$H$200,Schussbuch!$A$3:$A$200,2025,Schussbuch!$F$3:$F$200,"Gamswild") -> 0 | F4: =SUMIFS(Schussbuch!$H$3:$H$200,Schussbuch!$A$3:$A$200,2025,Schussbuch!$F$3:$F$200,"Damwild") -> 0 | G4: =SUMIFS(Schussbuch!$H$3:$H$200,Schussbuch!$A$3:$A$200,2025,Schussbuch!$F$3:$F$200,"Muffelwild") -> 0 | H4: =SUMIFS(Schussbuch!$H$3:$H$200,Schussbuch!$A$3:$A$200,2025,Schussbuch!$F$3:$F$200,"Hase") -> 0 | I4: =SUMIFS(Schussbuch!$H$3:$H$200,Schussbuch!$A$3:$A$200,2025,Schussbuch!$F$3:$F$200,"Kanin") -> 0 | J4: =SUMIFS(Schussbuch!$H$3:$H$200,Schussbuch!$A$3:$A$200,2025,Schussbuch!$F$3:$F$200,"Fuchs") -> 0 | K4: =SUMIFS(Schussbuch!$H$3:$H$200,Schussbuch!$A$3:$A$200,2025,Schussbuch!$F$3:$F$200,"Marder") -> 0 | L4: =SUMIFS(Schussbuch!$H$3:$H$200,Schussbuch!$A$3:$A$200,2025,Schussbuch!$F$3:$F$200,"Fasan") -> 0 | M4: =SUMIFS(Schussbuch!$H$3:$H$200,Schussbuch!$A$3:$A$200,2025,Schussbuch!$F$3:$F$200,"Gans") -> 0 | N4: =SUMIFS(Schussbuch!$H$3:$H$200,Schussbuch!$A$3:$A$200,2025,Schussbuch!$F$3:$F$200,"Ente") -> 0 | O4: =SUMIFS(Schussbuch!$H$3:$H$200,Schussbuch!$A$3:$A$200,2025,Schussbuch!$F$3:$F$200,"Schnepfe") -> 0 | P4: =SUMIFS(Schussbuch!$H$3:$H$200,Schussbuch!$A$3:$A$200,2025,Schussbuch!$F$3:$F$200,"Ringeltaube") -> 0 | Q4: =SUMIFS(Schussbuch!$H$3:$H$200,Schussbuch!$A$3:$A$200,2025,Schussbuch!$F$3:$F$200,"Eichelhäher") -> 0 | R4: =SUMIFS(Schussbuch!$H$3:$H$200,Schussbuch!$A$3:$A$200,2025,Schussbuch!$F$3:$F$200,"Krähe") -> 0 | S4: =SUMIFS(Schussbuch!$H$3:$H$200,Schussbuch!$A$3:$A$200,2025,Schussbuch!$F$3:$F$200,"Elster") -> 0 | T4: =SUMIFS(Schussbuch!$H$3:$H$200,Schussbuch!$A$3:$A$200,2025,Schussbuch!$F$3:$F$200,"Katze") -> 0 | U4: =SUMIFS(Schussbuch!$H$3:$H$200,Schussbuch!$A$3:$A$200,2025,Schussbuch!$F$3:$F$200,"Hund") -> 0 | V4: =SUM(B4:U4) -> 0
A5: 2026/27 | B5: =SUMIFS(Schussbuch!$H$3:$H$200,Schussbuch!$A$3:$A$200,2026,Schussbuch!$F$3:$F$200,"Rotwild") -> 0 | C5: =SUMIFS(Schussbuch!$H$3:$H$200,Schussbuch!$A$3:$A$200,2026,Schussbuch!$F$3:$F$200,"Schwarzwild") -> 0 | D5: =SUMIFS(Schussbuch!$H$3:$H$200,Schussbuch!$A$3:$A$200,2026,Schussbuch!$F$3:$F$200,"Rehwild") -> 0 | E5: =SUMIFS(Schussbuch!$H$3:$H$200,Schussbuch!$A$3:$A$200,2026,Schussbuch!$F$3:$F$200,"Gamswild") -> 0 | F5: =SUMIFS(Schussbuch!$H$3:$H$200,Schussbuch!$A$3:$A$200,2026,Schussbuch!$F$3:$F$200,"Damwild") -> 0 | G5: =SUMIFS(Schussbuch!$H$3:$H$200,Schussbuch!$A$3:$A$200,2026,Schussbuch!$F$3:$F$200,"Muffelwild") -> 0 | H5: =SUMIFS(Schussbuch!$H$3:$H$200,Schussbuch!$A$3:$A$200,2026,Schussbuch!$F$3:$F$200,"Hase") -> 0 | I5: =SUMIFS(Schussbuch!$H$3:$H$200,Schussbuch!$A$3:$A$200,2026,Schussbuch!$F$3:$F$200,"Kanin") -> 0 | J5: =SUMIFS(Schussbuch!$H$3:$H$200,Schussbuch!$A$3:$A$200,2026,Schussbuch!$F$3:$F$200,"Fuchs") -> 0 | K5: =SUMIFS(Schussbuch!$H$3:$H$200,Schussbuch!$A$3:$A$200,2026,Schussbuch!$F$3:$F$200,"Marder") -> 0 | L5: =SUMIFS(Schussbuch!$H$3:$H$200,Schussbuch!$A$3:$A$200,2026,Schussbuch!$F$3:$F$200,"Fasan") -> 0 | M5: =SUMIFS(Schussbuch!$H$3:$H$200,Schussbuch!$A$3:$A$200,2026,Schussbuch!$F$3:$F$200,"Gans") -> 0 | N5: =SUMIFS(Schussbuch!$H$3:$H$200,Schussbuch!$A$3:$A$200,2026,Schussbuch!$F$3:$F$200,"Ente") -> 0 | O5: =SUMIFS(Schussbuch!$H$3:$H$200,Schussbuch!$A$3:$A$200,2026,Schussbuch!$F$3:$F$200,"Schnepfe") -> 0 | P5: =SUMIFS(Schussbuch!$H$3:$H$200,Schussbuch!$A$3:$A$200,2026,Schussbuch!$F$3:$F$200,"Ringeltaube") -> 0 | Q5: =SUMIFS(Schussbuch!$H$3:$H$200,Schussbuch!$A$3:$A$200,2026,Schussbuch!$F$3:$F$200,"Eichelhäher") -> 0 | R5: =SUMIFS(Schussbuch!$H$3:$H$200,Schussbuch!$A$3:$A$200,2026,Schussbuch!$F$3:$F$200,"Krähe") -> 0 | S5: =SUMIFS(Schussbuch!$H$3:$H$200,Schussbuch!$A$3:$A$200,2026,Schussbuch!$F$3:$F$200,"Elster") -> 0 | T5: =SUMIFS(Schussbuch!$H$3:$H$200,Schussbuch!$A$3:$A$200,2026,Schussbuch!$F$3:$F$200,"Katze") -> 0 | U5: =SUMIFS(Schussbuch!$H$3:$H$200,Schussbuch!$A$3:$A$200,2026,Schussbuch!$F$3:$F$200,"Hund") -> 0 | V5: =SUM(B5:U5) -> 0
A6: 2027/28 | B6: =SUMIFS(Schussbuch!$H$3:$H$200,Schussbuch!$A$3:$A$200,2027,Schussbuch!$F$3:$F$200,"Rotwild") -> 0 | C6: =SUMIFS(Schussbuch!$H$3:$H$200,Schussbuch!$A$3:$A$200,2027,Schussbuch!$F$3:$F$200,"Schwarzwild") -> 0 | D6: =SUMIFS(Schussbuch!$H$3:$H$200,Schussbuch!$A$3:$A$200,2027,Schussbuch!$F$3:$F$200,"Rehwild") -> 0 | E6: =SUMIFS(Schussbuch!$H$3:$H$200,Schussbuch!$A$3:$A$200,2027,Schussbuch!$F$3:$F$200,"Gamswild") -> 0 | F6: =SUMIFS(Schussbuch!$H$3:$H$200,Schussbuch!$A$3:$A$200,2027,Schussbuch!$F$3:$F$200,"Damwild") -> 0 | G6: =SUMIFS(Schussbuch!$H$3:$H$200,Schussbuch!$A$3:$A$200,2027,Schussbuch!$F$3:$F$200,"Muffelwild") -> 0 | H6: =SUMIFS(Schussbuch!$H$3:$H$200,Schussbuch!$A$3:$A$200,2027,Schussbuch!$F$3:$F$200,"Hase") -> 0 | I6: =SUMIFS(Schussbuch!$H$3:$H$200,Schussbuch!$A$3:$A$200,2027,Schussbuch!$F$3:$F$200,"Kanin") -> 0 | J6: =SUMIFS(Schussbuch!$H$3:$H$200,Schussbuch!$A$3:$A$200,2027,Schussbuch!$F$3:$F$200,"Fuchs") -> 0 | K6: =SUMIFS(Schussbuch!$H$3:$H$200,Schussbuch!$A$3:$A$200,2027,Schussbuch!$F$3:$F$200,"Marder") -> 0 | L6: =SUMIFS(Schussbuch!$H$3:$H$200,Schussbuch!$A$3:$A$200,2027,Schussbuch!$F$3:$F$200,"Fasan") -> 0 | M6: =SUMIFS(Schussbuch!$H$3:$H$200,Schussbuch!$A$3:$A$200,2027,Schussbuch!$F$3:$F$200,"Gans") -> 0 | N6: =SUMIFS(Schussbuch!$H$3:$H$200,Schussbuch!$A$3:$A$200,2027,Schussbuch!$F$3:$F$200,"Ente") -> 0 | O6: =SUMIFS(Schussbuch!$H$3:$H$200,Schussbuch!$A$3:$A$200,2027,Schussbuch!$F$3:$F$200,"Schnepfe") -> 0 | P6: =SUMIFS(Schussbuch!$H$3:$H$200,Schussbuch!$A$3:$A$200,2027,Schussbuch!$F$3:$F$200,"Ringeltaube") -> 0 | Q6: =SUMIFS(Schussbuch!$H$3:$H$200,Schussbuch!$A$3:$A$200,2027,Schussbuch!$F$3:$F$200,"Eichelhäher") -> 0 | R6: =SUMIFS(Schussbuch!$H$3:$H$200,Schussbuch!$A$3:$A$200,2027,Schussbuch!$F$3:$F$200,"Krähe") -> 0 | S6: =SUMIFS(Schussbuch!$H$3:$H$200,Schussbuch!$A$3:$A$200,2027,Schussbuch!$F$3:$F$200,"Elster") -> 0 | T6: =SUMIFS(Schussbuch!$H$3:$H$200,Schussbuch!$A$3:$A$200,2027,Schussbuch!$F$3:$F$200,"Katze") -> 0 | U6: =SUMIFS(Schussbuch!$H$3:$H$200,Schussbuch!$A$3:$A$200,2027,Schussbuch!$F$3:$F$200,"Hund") -> 0 | V6: =SUM(B6:U6) -> 0
A7: 2028/29 | B7: =SUMIFS(Schussbuch!$H$3:$H$200,Schussbuch!$A$3:$A$200,2028,Schussbuch!$F$3:$F$200,"Rotwild") -> 0 | C7: =SUMIFS(Schussbuch!$H$3:$H$200,Schussbuch!$A$3:$A$200,2028,Schussbuch!$F$3:$F$200,"Schwarzwild") -> 0 | D7: =SUMIFS(Schussbuch!$H$3:$H$200,Schussbuch!$A$3:$A$200,2028,Schussbuch!$F$3:$F$200,"Rehwild") -> 0 | E7: =SUMIFS(Schussbuch!$H$3:$H$200,Schussbuch!$A$3:$A$200,2028,Schussbuch!$F$3:$F$200,"Gamswild") -> 0 | F7: =SUMIFS(Schussbuch!$H$3:$H$200,Schussbuch!$A$3:$A$200,2028,Schussbuch!$F$3:$F$200,"Damwild") -> 0 | G7: =SUMIFS(Schussbuch!$H$3:$H$200,Schussbuch!$A$3:$A$200,2028,Schussbuch!$F$3:$F$200,"Muffelwild") -> 0 | H7: =SUMIFS(Schussbuch!$H$3:$H$200,Schussbuch!$A$3:$A$200,2028,Schussbuch!$F$3:$F$200,"Hase") -> 0 | I7: =SUMIFS(Schussbuch!$H$3:$H$200,Schussbuch!$A$3:$A$200,2028,Schussbuch!$F$3:$F$200,"Kanin") -> 0 | J7: =SUMIFS(Schussbuch!$H$3:$H$200,Schussbuch!$A$3:$A$200,2028,Schussbuch!$F$3:$F$200,"Fuchs") -> 0 | K7: =SUMIFS(Schussbuch!$H$3:$H$200,Schussbuch!$A$3:$A$200,2028,Schussbuch!$F$3:$F$200,"Marder") -> 0 | L7: =SUMIFS(Schussbuch!$H$3:$H$200,Schussbuch!$A$3:$A$200,2028,Schussbuch!$F$3:$F$200,"Fasan") -> 0 | M7: =SUMIFS(Schussbuch!$H$3:$H$200,Schussbuch!$A$3:$A$200,2028,Schussbuch!$F$3:$F$200,"Gans") -> 0 | N7: =SUMIFS(Schussbuch!$H$3:$H$200,Schussbuch!$A$3:$A$200,2028,Schussbuch!$F$3:$F$200,"Ente") -> 0 | O7: =SUMIFS(Schussbuch!$H$3:$H$200,Schussbuch!$A$3:$A$200,2028,Schussbuch!$F$3:$F$200,"Schnepfe") -> 0 | P7: =SUMIFS(Schussbuch!$H$3:$H$200,Schussbuch!$A$3:$A$200,2028,Schussbuch!$F$3:$F$200,"Ringeltaube") -> 0 | Q7: =SUMIFS(Schussbuch!$H$3:$H$200,Schussbuch!$A$3:$A$200,2028,Schussbuch!$F$3:$F$200,"Eichelhäher") -> 0 | R7: =SUMIFS(Schussbuch!$H$3:$H$200,Schussbuch!$A$3:$A$200,2028,Schussbuch!$F$3:$F$200,"Krähe") -> 0 | S7: =SUMIFS(Schussbuch!$H$3:$H$200,Schussbuch!$A$3:$A$200,2028,Schussbuch!$F$3:$F$200,"Elster") -> 0 | T7: =SUMIFS(Schussbuch!$H$3:$H$200,Schussbuch!$A$3:$A$200,2028,Schussbuch!$F$3:$F$200,"Katze") -> 0 | U7: =SUMIFS(Schussbuch!$H$3:$H$200,Schussbuch!$A$3:$A$200,2028,Schussbuch!$F$3:$F$200,"Hund") -> 0 | V7: =SUM(B7:U7) -> 0
A8: 2029/30 | B8: =SUMIFS(Schussbuch!$H$3:$H$200,Schussbuch!$A$3:$A$200,2029,Schussbuch!$F$3:$F$200,"Rotwild") -> 0 | C8: =SUMIFS(Schussbuch!$H$3:$H$200,Schussbuch!$A$3:$A$200,2029,Schussbuch!$F$3:$F$200,"Schwarzwild") -> 0 | D8: =SUMIFS(Schussbuch!$H$3:$H$200,Schussbuch!$A$3:$A$200,2029,Schussbuch!$F$3:$F$200,"Rehwild") -> 0 | E8: =SUMIFS(Schussbuch!$H$3:$H$200,Schussbuch!$A$3:$A$200,2029,Schussbuch!$F$3:$F$200,"Gamswild") -> 0 | F8: =SUMIFS(Schussbuch!$H$3:$H$200,Schussbuch!$A$3:$A$200,2029,Schussbuch!$F$3:$F$200,"Damwild") -> 0 | G8: =SUMIFS(Schussbuch!$H$3:$H$200,Schussbuch!$A$3:$A$200,2029,Schussbuch!$F$3:$F$200,"Muffelwild") -> 0 | H8: =SUMIFS(Schussbuch!$H$3:$H$200,Schussbuch!$A$3:$A$200,2029,Schussbuch!$F$3:$F$200,"Hase") -> 0 | I8: =SUMIFS(Schussbuch!$H$3:$H$200,Schussbuch!$A$3:$A$200,2029,Schussbuch!$F$3:$F$200,"Kanin") -> 0 | J8: =SUMIFS(Schussbuch!$H$3:$H$200,Schussbuch!$A$3:$A$200,2029,Schussbuch!$F$3:$F$200,"Fuchs") -> 0 | K8: =SUMIFS(Schussbuch!$H$3:$H$200,Schussbuch!$A$3:$A$200,2029,Schussbuch!$F$3:$F$200,"Marder") -> 0 | L8: =SUMIFS(Schussbuch!$H$3:$H$200,Schussbuch!$A$3:$A$200,2029,Schussbuch!$F$3:$F$200,"Fasan") -> 0 | M8: =SUMIFS(Schussbuch!$H$3:$H$200,Schussbuch!$A$3:$A$200,2029,Schussbuch!$F$3:$F$200,"Gans") -> 0 | N8: =SUMIFS(Schussbuch!$H$3:$H$200,Schussbuch!$A$3:$A$200,2029,Schussbuch!$F$3:$F$200,"Ente") -> 0 | O8: =SUMIFS(Schussbuch!$H$3:$H$200,Schussbuch!$A$3:$A$200,2029,Schussbuch!$F$3:$F$200,"Schnepfe") -> 0 | P8: =SUMIFS(Schussbuch!$H$3:$H$200,Schussbuch!$A$3:$A$200,2029,Schussbuch!$F$3:$F$200,"Ringeltaube") -> 0 | Q8: =SUMIFS(Schussbuch!$H$3:$H$200,Schussbuch!$A$3:$A$200,2029,Schussbuch!$F$3:$F$200,"Eichelhäher") -> 0 | R8: =SUMIFS(Schussbuch!$H$3:$H$200,Schussbuch!$A$3:$A$200,2029,Schussbuch!$F$3:$F$200,"Krähe") -> 0 | S8: =SUMIFS(Schussbuch!$H$3:$H$200,Schussbuch!$A$3:$A$200,2029,Schussbuch!$F$3:$F$200,"Elster") -> 0 | T8: =SUMIFS(Schussbuch!$H$3:$H$200,Schussbuch!$A$3:$A$200,2029,Schussbuch!$F$3:$F$200,"Katze") -> 0 | U8: =SUMIFS(Schussbuch!$H$3:$H$200,Schussbuch!$A$3:$A$200,2029,Schussbuch!$F$3:$F$200,"Hund") -> 0 | V8: =SUM(B8:U8) -> 0
A9: 2030/31 | B9: =SUMIFS(Schussbuch!$H$3:$H$200,Schussbuch!$A$3:$A$200,2030,Schussbuch!$F$3:$F$200,"Rotwild") -> 0 | C9: =SUMIFS(Schussbuch!$H$3:$H$200,Schussbuch!$A$3:$A$200,2030,Schussbuch!$F$3:$F$200,"Schwarzwild") -> 0 | D9: =SUMIFS(Schussbuch!$H$3:$H$200,Schussbuch!$A$3:$A$200,2030,Schussbuch!$F$3:$F$200,"Rehwild") -> 0 | E9: =SUMIFS(Schussbuch!$H$3:$H$200,Schussbuch!$A$3:$A$200,2030,Schussbuch!$F$3:$F$200,"Gamswild") -> 0 | F9: =SUMIFS(Schussbuch!$H$3:$H$200,Schussbuch!$A$3:$A$200,2030,Schussbuch!$F$3:$F$200,"Damwild") -> 0 | G9: =SUMIFS(Schussbuch!$H$3:$H$200,Schussbuch!$A$3:$A$200,2030,Schussbuch!$F$3:$F$200,"Muffelwild") -> 0 | H9: =SUMIFS(Schussbuch!$H$3:$H$200,Schussbuch!$A$3:$A$200,2030,Schussbuch!$F$3:$F$200,"Hase") -> 0 | I9: =SUMIFS(Schussbuch!$H$3:$H$200,Schussbuch!$A$3:$A$200,2030,Schussbuch!$F$3:$F$200,"Kanin") -> 0 | J9: =SUMIFS(Schussbuch!$H$3:$H$200,Schussbuch!$A$3:$A$200,2030,Schussbuch!$F$3:$F$200,"Fuchs") -> 0 | K9: =SUMIFS(Schussbuch!$H$3:$H$200,Schussbuch!$A$3:$A$200,2030,Schussbuch!$F$3:$F$200,"Marder") -> 0 | L9: =SUMIFS(Schussbuch!$H$3:$H$200,Schussbuch!$A$3:$A$200,2030,Schussbuch!$F$3:$F$200,"Fasan") -> 0 | M9: =SUMIFS(Schussbuch!$H$3:$H$200,Schussbuch!$A$3:$A$200,2030,Schussbuch!$F$3:$F$200,"Gans") -> 0 | N9: =SUMIFS(Schussbuch!$H$3:$H$200,Schussbuch!$A$3:$A$200,2030,Schussbuch!$F$3:$F$200,"Ente") -> 0 | O9: =SUMIFS(Schussbuch!$H$3:$H$200,Schussbuch!$A$3:$A$200,2030,Schussbuch!$F$3:$F$200,"Schnepfe") -> 0 | P9: =SUMIFS(Schussbuch!$H$3:$H$200,Schussbuch!$A$3:$A$200,2030,Schussbuch!$F$3:$F$200,"Ringeltaube") -> 0 | Q9: =SUMIFS(Schussbuch!$H$3:$H$200,Schussbuch!$A$3:$A$200,2030,Schussbuch!$F$3:$F$200,"Eichelhäher") -> 0 | R9: =SUMIFS(Schussbuch!$H$3:$H$200,Schussbuch!$A$3:$A$200,2030,Schussbuch!$F$3:$F$200,"Krähe") -> 0 | S9: =SUMIFS(Schussbuch!$H$3:$H$200,Schussbuch!$A$3:$A$200,2030,Schussbuch!$F$3:$F$200,"Elster") -> 0 | T9: =SUMIFS(Schussbuch!$H$3:$H$200,Schussbuch!$A$3:$A$200,2030,Schussbuch!$F$3:$F$200,"Katze") -> 0 | U9: =SUMIFS(Schussbuch!$H$3:$H$200,Schussbuch!$A$3:$A$200,2030,Schussbuch!$F$3:$F$200,"Hund") -> 0 | V9: =SUM(B9:U9) -> 0
A10: 2031/32 | B10: =SUMIFS(Schussbuch!$H$3:$H$200,Schussbuch!$A$3:$A$200,2031,Schussbuch!$F$3:$F$200,"Rotwild") -> 0 | C10: =SUMIFS(Schussbuch!$H$3:$H$200,Schussbuch!$A$3:$A$200,2031,Schussbuch!$F$3:$F$200,"Schwarzwild") -> 0 | D10: =SUMIFS(Schussbuch!$H$3:$H$200,Schussbuch!$A$3:$A$200,2031,Schussbuch!$F$3:$F$200,"Rehwild") -> 0 | E10: =SUMIFS(Schussbuch!$H$3:$H$200,Schussbuch!$A$3:$A$200,2031,Schussbuch!$F$3:$F$200,"Gamswild") -> 0 | F10: =SUMIFS(Schussbuch!$H$3:$H$200,Schussbuch!$A$3:$A$200,2031,Schussbuch!$F$3:$F$200,"Damwild") -> 0 | G10: =SUMIFS(Schussbuch!$H$3:$H$200,Schussbuch!$A$3:$A$200,2031,Schussbuch!$F$3:$F$200,"Muffelwild") -> 0 | H10: =SUMIFS(Schussbuch!$H$3:$H$200,Schussbuch!$A$3:$A$200,2031,Schussbuch!$F$3:$F$200,"Hase") -> 0 | I10: =SUMIFS(Schussbuch!$H$3:$H$200,Schussbuch!$A$3:$A$200,2031,Schussbuch!$F$3:$F$200,"Kanin") -> 0 | J10: =SUMIFS(Schussbuch!$H$3:$H$200,Schussbuch!$A$3:$A$200,2031,Schussbuch!$F$3:$F$200,"Fuchs") -> 0 | K10: =SUMIFS(Schussbuch!$H$3:$H$200,Schussbuch!$A$3:$A$200,2031,Schussbuch!$F$3:$F$200,"Marder") -> 0 | L10: =SUMIFS(Schussbuch!$H$3:$H$200,Schussbuch!$A$3:$A$200,2031,Schussbuch!$F$3:$F$200,"Fasan") -> 0 | M10: =SUMIFS(Schussbuch!$H$3:$H$200,Schussbuch!$A$3:$A$200,2031,Schussbuch!$F$3:$F$200,"Gans") -> 0 | N10: =SUMIFS(Schussbuch!$H$3:$H$200,Schussbuch!$A$3:$A$200,2031,Schussbuch!$F$3:$F$200,"Ente") -> 0 | O10: =SUMIFS(Schussbuch!$H$3:$H$200,Schussbuch!$A$3:$A$200,2031,Schussbuch!$F$3:$F$200,"Schnepfe") -> 0 | P10: =SUMIFS(Schussbuch!$H$3:$H$200,Schussbuch!$A$3:$A$200,2031,Schussbuch!$F$3:$F$200,"Ringeltaube") -> 0 | Q10: =SUMIFS(Schussbuch!$H$3:$H$200,Schussbuch!$A$3:$A$200,2031,Schussbuch!$F$3:$F$200,"Eichelhäher") -> 0 | R10: =SUMIFS(Schussbuch!$H$3:$H$200,Schussbuch!$A$3:$A$200,2031,Schussbuch!$F$3:$F$200,"Krähe") -> 0 | S10: =SUMIFS(Schussbuch!$H$3:$H$200,Schussbuch!$A$3:$A$200,2031,Schussbuch!$F$3:$F$200,"Elster") -> 0 | T10: =SUMIFS(Schussbuch!$H$3:$H$200,Schussbuch!$A$3:$A$200,2031,Schussbuch!$F$3:$F$200,"Katze") -> 0 | U10: =SUMIFS(Schussbuch!$H$3:$H$200,Schussbuch!$A$3:$A$200,2031,Schussbuch!$F$3:$F$200,"Hund") -> 0 | V10: =SUM(B10:U10) -> 0
A11: 2032/33 | B11: =SUMIFS(Schussbuch!$H$3:$H$200,Schussbuch!$A$3:$A$200,2032,Schussbuch!$F$3:$F$200,"Rotwild") -> 0 | C11: =SUMIFS(Schussbuch!$H$3:$H$200,Schussbuch!$A$3:$A$200,2032,Schussbuch!$F$3:$F$200,"Schwarzwild") -> 0 | D11: =SUMIFS(Schussbuch!$H$3:$H$200,Schussbuch!$A$3:$A$200,2032,Schussbuch!$F$3:$F$200,"Rehwild") -> 0 | E11: =SUMIFS(Schussbuch!$H$3:$H$200,Schussbuch!$A$3:$A$200,2032,Schussbuch!$F$3:$F$200,"Gamswild") -> 0 | F11: =SUMIFS(Schussbuch!$H$3:$H$200,Schussbuch!$A$3:$A$200,2032,Schussbuch!$F$3:$F$200,"Damwild") -> 0 | G11: =SUMIFS(Schussbuch!$H$3:$H$200,Schussbuch!$A$3:$A$200,2032,Schussbuch!$F$3:$F$200,"Muffelwild") -> 0 | H11: =SUMIFS(Schussbuch!$H$3:$H$200,Schussbuch!$A$3:$A$200,2032,Schussbuch!$F$3:$F$200,"Hase") -> 0 | I11: =SUMIFS(Schussbuch!$H$3:$H$200,Schussbuch!$A$3:$A$200,2032,Schussbuch!$F$3:$F$200,"Kanin") -> 0 | J11: =SUMIFS(Schussbuch!$H$3:$H$200,Schussbuch!$A$3:$A$200,2032,Schussbuch!$F$3:$F$200,"Fuchs") -> 0 | K11: =SUMIFS(Schussbuch!$H$3:$H$200,Schussbuch!$A$3:$A$200,2032,Schussbuch!$F$3:$F$200,"Marder") -> 0 | L11: =SUMIFS(Schussbuch!$H$3:$H$200,Schussbuch!$A$3:$A$200,2032,Schussbuch!$F$3:$F$200,"Fasan") -> 0 | M11: =SUMIFS(Schussbuch!$H$3:$H$200,Schussbuch!$A$3:$A$200,2032,Schussbuch!$F$3:$F$200,"Gans") -> 0 | N11: =SUMIFS(Schussbuch!$H$3:$H$200,Schussbuch!$A$3:$A$200,2032,Schussbuch!$F$3:$F$200,"Ente") -> 0 | O11: =SUMIFS(Schussbuch!$H$3:$H$200,Schussbuch!$A$3:$A$200,2032,Schussbuch!$F$3:$F$200,"Schnepfe") -> 0 | P11: =SUMIFS(Schussbuch!$H$3:$H$200,Schussbuch!$A$3:$A$200,2032,Schussbuch!$F$3:$F$200,"Ringeltaube") -> 0 | Q11: =SUMIFS(Schussbuch!$H$3:$H$200,Schussbuch!$A$3:$A$200,2032,Schussbuch!$F$3:$F$200,"Eichelhäher") -> 0 | R11: =SUMIFS(Schussbuch!$H$3:$H$200,Schussbuch!$A$3:$A$200,2032,Schussbuch!$F$3:$F$200,"Krähe") -> 0 | S11: =SUMIFS(Schussbuch!$H$3:$H$200,Schussbuch!$A$3:$A$200,2032,Schussbuch!$F$3:$F$200,"Elster") -> 0 | T11: =SUMIFS(Schussbuch!$H$3:$H$200,Schussbuch!$A$3:$A$200,2032,Schussbuch!$F$3:$F$200,"Katze") -> 0 | U11: =SUMIFS(Schussbuch!$H$3:$H$200,Schussbuch!$A$3:$A$200,2032,Schussbuch!$F$3:$F$200,"Hund") -> 0 | V11: =SUM(B11:U11) -> 0
A12: 2033/34 | B12: =SUMIFS(Schussbuch!$H$3:$H$200,Schussbuch!$A$3:$A$200,2033,Schussbuch!$F$3:$F$200,"Rotwild") -> 0 | C12: =SUMIFS(Schussbuch!$H$3:$H$200,Schussbuch!$A$3:$A$200,2033,Schussbuch!$F$3:$F$200,"Schwarzwild") -> 0 | D12: =SUMIFS(Schussbuch!$H$3:$H$200,Schussbuch!$A$3:$A$200,2033,Schussbuch!$F$3:$F$200,"Rehwild") -> 0 | E12: =SUMIFS(Schussbuch!$H$3:$H$200,Schussbuch!$A$3:$A$200,2033,Schussbuch!$F$3:$F$200,"Gamswild") -> 0 | F12: =SUMIFS(Schussbuch!$H$3:$H$200,Schussbuch!$A$3:$A$200,2033,Schussbuch!$F$3:$F$200,"Damwild") -> 0 | G12: =SUMIFS(Schussbuch!$H$3:$H$200,Schussbuch!$A$3:$A$200,2033,Schussbuch!$F$3:$F$200,"Muffelwild") -> 0 | H12: =SUMIFS(Schussbuch!$H$3:$H$200,Schussbuch!$A$3:$A$200,2033,Schussbuch!$F$3:$F$200,"Hase") -> 0 | I12: =SUMIFS(Schussbuch!$H$3:$H$200,Schussbuch!$A$3:$A$200,2033,Schussbuch!$F$3:$F$200,"Kanin") -> 0 | J12: =SUMIFS(Schussbuch!$H$3:$H$200,Schussbuch!$A$3:$A$200,2033,Schussbuch!$F$3:$F$200,"Fuchs") -> 0 | K12: =SUMIFS(Schussbuch!$H$3:$H$200,Schussbuch!$A$3:$A$200,2033,Schussbuch!$F$3:$F$200,"Marder") -> 0 | L12: =SUMIFS(Schussbuch!$H$3:$H$200,Schussbuch!$A$3:$A$200,2033,Schussbuch!$F$3:$F$200,"Fasan") -> 0 | M12: =SUMIFS(Schussbuch!$H$3:$H$200,Schussbuch!$A$3:$A$200,2033,Schussbuch!$F$3:$F$200,"Gans") -> 0 | N12: =SUMIFS(Schussbuch!$H$3:$H$200,Schussbuch!$A$3:$A$200,2033,Schussbuch!$F$3:$F$200,"Ente") -> 0 | O12: =SUMIFS(Schussbuch!$H$3:$H$200,Schussbuch!$A$3:$A$200,2033,Schussbuch!$F$3:$F$200,"Schnepfe") -> 0 | P12: =SUMIFS(Schussbuch!$H$3:$H$200,Schussbuch!$A$3:$A$200,2033,Schussbuch!$F$3:$F$200,"Ringeltaube") -> 0 | Q12: =SUMIFS(Schussbuch!$H$3:$H$200,Schussbuch!$A$3:$A$200,2033,Schussbuch!$F$3:$F$200,"Eichelhäher") -> 0 | R12: =SUMIFS(Schussbuch!$H$3:$H$200,Schussbuch!$A$3:$A$200,2033,Schussbuch!$F$3:$F$200,"Krähe") -> 0 | S12: =SUMIFS(Schussbuch!$H$3:$H$200,Schussbuch!$A$3:$A$200,2033,Schussbuch!$F$3:$F$200,"Elster") -> 0 | T12: =SUMIFS(Schussbuch!$H$3:$H$200,Schussbuch!$A$3:$A$200,2033,Schussbuch!$F$3:$F$200,"Katze") -> 0 | U12: =SUMIFS(Schussbuch!$H$3:$H$200,Schussbuch!$A$3:$A$200,2033,Schussbuch!$F$3:$F$200,"Hund") -> 0 | V12: =SUM(B12:U12) -> 0
A13: 2034/35 | B13: =SUMIFS(Schussbuch!$H$3:$H$200,Schussbuch!$A$3:$A$200,2034,Schussbuch!$F$3:$F$200,"Rotwild") -> 0 | C13: =SUMIFS(Schussbuch!$H$3:$H$200,Schussbuch!$A$3:$A$200,2034,Schussbuch!$F$3:$F$200,"Schwarzwild") -> 0 | D13: =SUMIFS(Schussbuch!$H$3:$H$200,Schussbuch!$A$3:$A$200,2034,Schussbuch!$F$3:$F$200,"Rehwild") -> 0 | E13: =SUMIFS(Schussbuch!$H$3:$H$200,Schussbuch!$A$3:$A$200,2034,Schussbuch!$F$3:$F$200,"Gamswild") -> 0 | F13: =SUMIFS(Schussbuch!$H$3:$H$200,Schussbuch!$A$3:$A$200,2034,Schussbuch!$F$3:$F$200,"Damwild") -> 0 | G13: =SUMIFS(Schussbuch!$H$3:$H$200,Schussbuch!$A$3:$A$200,2034,Schussbuch!$F$3:$F$200,"Muffelwild") -> 0 | H13: =SUMIFS(Schussbuch!$H$3:$H$200,Schussbuch!$A$3:$A$200,2034,Schussbuch!$F$3:$F$200,"Hase") -> 0 | I13: =SUMIFS(Schussbuch!$H$3:$H$200,Schussbuch!$A$3:$A$200,2034,Schussbuch!$F$3:$F$200,"Kanin") -> 0 | J13: =SUMIFS(Schussbuch!$H$3:$H$200,Schussbuch!$A$3:$A$200,2034,Schussbuch!$F$3:$F$200,"Fuchs") -> 0 | K13: =SUMIFS(Schussbuch!$H$3:$H$200,Schussbuch!$A$3:$A$200,2034,Schussbuch!$F$3:$F$200,"Marder") -> 0 | L13: =SUMIFS(Schussbuch!$H$3:$H$200,Schussbuch!$A$3:$A$200,2034,Schussbuch!$F$3:$F$200,"Fasan") -> 0 | M13: =SUMIFS(Schussbuch!$H$3:$H$200,Schussbuch!$A$3:$A$200,2034,Schussbuch!$F$3:$F$200,"Gans") -> 0 | N13: =SUMIFS(Schussbuch!$H$3:$H$200,Schussbuch!$A$3:$A$200,2034,Schussbuch!$F$3:$F$200,"Ente") -> 0 | O13: =SUMIFS(Schussbuch!$H$3:$H$200,Schussbuch!$A$3:$A$200,2034,Schussbuch!$F$3:$F$200,"Schnepfe") -> 0 | P13: =SUMIFS(Schussbuch!$H$3:$H$200,Schussbuch!$A$3:$A$200,2034,Schussbuch!$F$3:$F$200,"Ringeltaube") -> 0 | Q13: =SUMIFS(Schussbuch!$H$3:$H$200,Schussbuch!$A$3:$A$200,2034,Schussbuch!$F$3:$F$200,"Eichelhäher") -> 0 | R13: =SUMIFS(Schussbuch!$H$3:$H$200,Schussbuch!$A$3:$A$200,2034,Schussbuch!$F$3:$F$200,"Krähe") -> 0 | S13: =SUMIFS(Schussbuch!$H$3:$H$200,Schussbuch!$A$3:$A$200,2034,Schussbuch!$F$3:$F$200,"Elster") -> 0 | T13: =SUMIFS(Schussbuch!$H$3:$H$200,Schussbuch!$A$3:$A$200,2034,Schussbuch!$F$3:$F$200,"Katze") -> 0 | U13: =SUMIFS(Schussbuch!$H$3:$H$200,Schussbuch!$A$3:$A$200,2034,Schussbuch!$F$3:$F$200,"Hund") -> 0 | V13: =SUM(B13:U13) -> 0
A14: 2035/36 | B14: =SUMIFS(Schussbuch!$H$3:$H$200,Schussbuch!$A$3:$A$200,2035,Schussbuch!$F$3:$F$200,"Rotwild") -> 0 | C14: =SUMIFS(Schussbuch!$H$3:$H$200,Schussbuch!$A$3:$A$200,2035,Schussbuch!$F$3:$F$200,"Schwarzwild") -> 0 | D14: =SUMIFS(Schussbuch!$H$3:$H$200,Schussbuch!$A$3:$A$200,2035,Schussbuch!$F$3:$F$200,"Rehwild") -> 0 | E14: =SUMIFS(Schussbuch!$H$3:$H$200,Schussbuch!$A$3:$A$200,2035,Schussbuch!$F$3:$F$200,"Gamswild") -> 0 | F14: =SUMIFS(Schussbuch!$H$3:$H$200,Schussbuch!$A$3:$A$200,2035,Schussbuch!$F$3:$F$200,"Damwild") -> 0 | G14: =SUMIFS(Schussbuch!$H$3:$H$200,Schussbuch!$A$3:$A$200,2035,Schussbuch!$F$3:$F$200,"Muffelwild") -> 0 | H14: =SUMIFS(Schussbuch!$H$3:$H$200,Schussbuch!$A$3:$A$200,2035,Schussbuch!$F$3:$F$200,"Hase") -> 0 | I14: =SUMIFS(Schussbuch!$H$3:$H$200,Schussbuch!$A$3:$A$200,2035,Schussbuch!$F$3:$F$200,"Kanin") -> 0 | J14: =SUMIFS(Schussbuch!$H$3:$H$200,Schussbuch!$A$3:$A$200,2035,Schussbuch!$F$3:$F$200,"Fuchs") -> 0 | K14: =SUMIFS(Schussbuch!$H$3:$H$200,Schussbuch!$A$3:$A$200,2035,Schussbuch!$F$3:$F$200,"Marder") -> 0 | L14: =SUMIFS(Schussbuch!$H$3:$H$200,Schussbuch!$A$3:$A$200,2035,Schussbuch!$F$3:$F$200,"Fasan") -> 0 | M14: =SUMIFS(Schussbuch!$H$3:$H$200,Schussbuch!$A$3:$A$200,2035,Schussbuch!$F$3:$F$200,"Gans") -> 0 | N14: =SUMIFS(Schussbuch!$H$3:$H$200,Schussbuch!$A$3:$A$200,2035,Schussbuch!$F$3:$F$200,"Ente") -> 0 | O14: =SUMIFS(Schussbuch!$H$3:$H$200,Schussbuch!$A$3:$A$200,2035,Schussbuch!$F$3:$F$200,"Schnepfe") -> 0 | P14: =SUMIFS(Schussbuch!$H$3:$H$200,Schussbuch!$A$3:$A$200,2035,Schussbuch!$F$3:$F$200,"Ringeltaube") -> 0 | Q14: =SUMIFS(Schussbuch!$H$3:$H$200,Schussbuch!$A$3:$A$200,2035,Schussbuch!$F$3:$F$200,"Eichelhäher") -> 0 | R14: =SUMIFS(Schussbuch!$H$3:$H$200,Schussbuch!$A$3:$A$200,2035,Schussbuch!$F$3:$F$200,"Krähe") -> 0 | S14: =SUMIFS(Schussbuch!$H$3:$H$200,Schussbuch!$A$3:$A$200,2035,Schussbuch!$F$3:$F$200,"Elster") -> 0 | T14: =SUMIFS(Schussbuch!$H$3:$H$200,Schussbuch!$A$3:$A$200,2035,Schussbuch!$F$3:$F$200,"Katze") -> 0 | U14: =SUMIFS(Schussbuch!$H$3:$H$200,Schussbuch!$A$3:$A$200,2035,Schussbuch!$F$3:$F$200,"Hund") -> 0 | V14: =SUM(B14:U14) -> 0
A15: 2036/37 | B15: =SUMIFS(Schussbuch!$H$3:$H$200,Schussbuch!$A$3:$A$200,2036,Schussbuch!$F$3:$F$200,"Rotwild") -> 0 | C15: =SUMIFS(Schussbuch!$H$3:$H$200,Schussbuch!$A$3:$A$200,2036,Schussbuch!$F$3:$F$200,"Schwarzwild") -> 0 | D15: =SUMIFS(Schussbuch!$H$3:$H$200,Schussbuch!$A$3:$A$200,2036,Schussbuch!$F$3:$F$200,"Rehwild") -> 0 | E15: =SUMIFS(Schussbuch!$H$3:$H$200,Schussbuch!$A$3:$A$200,2036,Schussbuch!$F$3:$F$200,"Gamswild") -> 0 | F15: =SUMIFS(Schussbuch!$H$3:$H$200,Schussbuch!$A$3:$A$200,2036,Schussbuch!$F$3:$F$200,"Damwild") -> 0 | G15: =SUMIFS(Schussbuch!$H$3:$H$200,Schussbuch!$A$3:$A$200,2036,Schussbuch!$F$3:$F$200,"Muffelwild") -> 0 | H15: =SUMIFS(Schussbuch!$H$3:$H$200,Schussbuch!$A$3:$A$200,2036,Schussbuch!$F$3:$F$200,"Hase") -> 0 | I15: =SUMIFS(Schussbuch!$H$3:$H$200,Schussbuch!$A$3:$A$200,2036,Schussbuch!$F$3:$F$200,"Kanin") -> 0 | J15: =SUMIFS(Schussbuch!$H$3:$H$200,Schussbuch!$A$3:$A$200,2036,Schussbuch!$F$3:$F$200,"Fuchs") -> 0 | K15: =SUMIFS(Schussbuch!$H$3:$H$200,Schussbuch!$A$3:$A$200,2036,Schussbuch!$F$3:$F$200,"Marder") -> 0 | L15: =SUMIFS(Schussbuch!$H$3:$H$200,Schussbuch!$A$3:$A$200,2036,Schussbuch!$F$3:$F$200,"Fasan") -> 0 | M15: =SUMIFS(Schussbuch!$H$3:$H$200,Schussbuch!$A$3:$A$200,2036,Schussbuch!$F$3:$F$200,"Gans") -> 0 | N15: =SUMIFS(Schussbuch!$H$3:$H$200,Schussbuch!$A$3:$A$200,2036,Schussbuch!$F$3:$F$200,"Ente") -> 0 | O15: =SUMIFS(Schussbuch!$H$3:$H$200,Schussbuch!$A$3:$A$200,2036,Schussbuch!$F$3:$F$200,"Schnepfe") -> 0 | P15: =SUMIFS(Schussbuch!$H$3:$H$200,Schussbuch!$A$3:$A$200,2036,Schussbuch!$F$3:$F$200,"Ringeltaube") -> 0 | Q15: =SUMIFS(Schussbuch!$H$3:$H$200,Schussbuch!$A$3:$A$200,2036,Schussbuch!$F$3:$F$200,"Eichelhäher") -> 0 | R15: =SUMIFS(Schussbuch!$H$3:$H$200,Schussbuch!$A$3:$A$200,2036,Schussbuch!$F$3:$F$200,"Krähe") -> 0 | S15: =SUMIFS(Schussbuch!$H$3:$H$200,Schussbuch!$A$3:$A$200,2036,Schussbuch!$F$3:$F$200,"Elster") -> 0 | T15: =SUMIFS(Schussbuch!$H$3:$H$200,Schussbuch!$A$3:$A$200,2036,Schussbuch!$F$3:$F$200,"Katze") -> 0 | U15: =SUMIFS(Schussbuch!$H$3:$H$200,Schussbuch!$A$3:$A$200,2036,Schussbuch!$F$3:$F$200,"Hund") -> 0 | V15: =SUM(B15:U15) -> 0
A16: 2037/38 | B16: =SUMIFS(Schussbuch!$H$3:$H$200,Schussbuch!$A$3:$A$200,2037,Schussbuch!$F$3:$F$200,"Rotwild") -> 0 | C16: =SUMIFS(Schussbuch!$H$3:$H$200,Schussbuch!$A$3:$A$200,2037,Schussbuch!$F$3:$F$200,"Schwarzwild") -> 0 | D16: =SUMIFS(Schussbuch!$H$3:$H$200,Schussbuch!$A$3:$A$200,2037,Schussbuch!$F$3:$F$200,"Rehwild") -> 0 | E16: =SUMIFS(Schussbuch!$H$3:$H$200,Schussbuch!$A$3:$A$200,2037,Schussbuch!$F$3:$F$200,"Gamswild") -> 0 | F16: =SUMIFS(Schussbuch!$H$3:$H$200,Schussbuch!$A$3:$A$200,2037,Schussbuch!$F$3:$F$200,"Damwild") -> 0 | G16: =SUMIFS(Schussbuch!$H$3:$H$200,Schussbuch!$A$3:$A$200,2037,Schussbuch!$F$3:$F$200,"Muffelwild") -> 0 | H16: =SUMIFS(Schussbuch!$H$3:$H$200,Schussbuch!$A$3:$A$200,2037,Schussbuch!$F$3:$F$200,"Hase") -> 0 | I16: =SUMIFS(Schussbuch!$H$3:$H$200,Schussbuch!$A$3:$A$200,2037,Schussbuch!$F$3:$F$200,"Kanin") -> 0 | J16: =SUMIFS(Schussbuch!$H$3:$H$200,Schussbuch!$A$3:$A$200,2037,Schussbuch!$F$3:$F$200,"Fuchs") -> 0 | K16: =SUMIFS(Schussbuch!$H$3:$H$200,Schussbuch!$A$3:$A$200,2037,Schussbuch!$F$3:$F$200,"Marder") -> 0 | L16: =SUMIFS(Schussbuch!$H$3:$H$200,Schussbuch!$A$3:$A$200,2037,Schussbuch!$F$3:$F$200,"Fasan") -> 0 | M16: =SUMIFS(Schussbuch!$H$3:$H$200,Schussbuch!$A$3:$A$200,2037,Schussbuch!$F$3:$F$200,"Gans") -> 0 | N16: =SUMIFS(Schussbuch!$H$3:$H$200,Schussbuch!$A$3:$A$200,2037,Schussbuch!$F$3:$F$200,"Ente") -> 0 | O16: =SUMIFS(Schussbuch!$H$3:$H$200,Schussbuch!$A$3:$A$200,2037,Schussbuch!$F$3:$F$200,"Schnepfe") -> 0 | P16: =SUMIFS(Schussbuch!$H$3:$H$200,Schussbuch!$A$3:$A$200,2037,Schussbuch!$F$3:$F$200,"Ringeltaube") -> 0 | Q16: =SUMIFS(Schussbuch!$H$3:$H$200,Schussbuch!$A$3:$A$200,2037,Schussbuch!$F$3:$F$200,"Eichelhäher") -> 0 | R16: =SUMIFS(Schussbuch!$H$3:$H$200,Schussbuch!$A$3:$A$200,2037,Schussbuch!$F$3:$F$200,"Krähe") -> 0 | S16: =SUMIFS(Schussbuch!$H$3:$H$200,Schussbuch!$A$3:$A$200,2037,Schussbuch!$F$3:$F$200,"Elster") -> 0 | T16: =SUMIFS(Schussbuch!$H$3:$H$200,Schussbuch!$A$3:$A$200,2037,Schussbuch!$F$3:$F$200,"Katze") -> 0 | U16: =SUMIFS(Schussbuch!$H$3:$H$200,Schussbuch!$A$3:$A$200,2037,Schussbuch!$F$3:$F$200,"Hund") -> 0 | V16: =SUM(B16:U16) -> 0
A17: 2038/39 | B17: =SUMIFS(Schussbuch!$H$3:$H$200,Schussbuch!$A$3:$A$200,2038,Schussbuch!$F$3:$F$200,"Rotwild") -> 0 | C17: =SUMIFS(Schussbuch!$H$3:$H$200,Schussbuch!$A$3:$A$200,2038,Schussbuch!$F$3:$F$200,"Schwarzwild") -> 0 | D17: =SUMIFS(Schussbuch!$H$3:$H$200,Schussbuch!$A$3:$A$200,2038,Schussbuch!$F$3:$F$200,"Rehwild") -> 0 | E17: =SUMIFS(Schussbuch!$H$3:$H$200,Schussbuch!$A$3:$A$200,2038,Schussbuch!$F$3:$F$200,"Gamswild") -> 0 | F17: =SUMIFS(Schussbuch!$H$3:$H$200,Schussbuch!$A$3:$A$200,2038,Schussbuch!$F$3:$F$200,"Damwild") -> 0 | G17: =SUMIFS(Schussbuch!$H$3:$H$200,Schussbuch!$A$3:$A$200,2038,Schussbuch!$F$3:$F$200,"Muffelwild") -> 0 | H17: =SUMIFS(Schussbuch!$H$3:$H$200,Schussbuch!$A$3:$A$200,2038,Schussbuch!$F$3:$F$200,"Hase") -> 0 | I17: =SUMIFS(Schussbuch!$H$3:$H$200,Schussbuch!$A$3:$A$200,2038,Schussbuch!$F$3:$F$200,"Kanin") -> 0 | J17: =SUMIFS(Schussbuch!$H$3:$H$200,Schussbuch!$A$3:$A$200,2038,Schussbuch!$F$3:$F$200,"Fuchs") -> 0 | K17: =SUMIFS(Schussbuch!$H$3:$H$200,Schussbuch!$A$3:$A$200,2038,Schussbuch!$F$3:$F$200,"Marder") -> 0 | L17: =SUMIFS(Schussbuch!$H$3:$H$200,Schussbuch!$A$3:$A$200,2038,Schussbuch!$F$3:$F$200,"Fasan") -> 0 | M17: =SUMIFS(Schussbuch!$H$3:$H$200,Schussbuch!$A$3:$A$200,2038,Schussbuch!$F$3:$F$200,"Gans") -> 0 | N17: =SUMIFS(Schussbuch!$H$3:$H$200,Schussbuch!$A$3:$A$200,2038,Schussbuch!$F$3:$F$200,"Ente") -> 0 | O17: =SUMIFS(Schussbuch!$H$3:$H$200,Schussbuch!$A$3:$A$200,2038,Schussbuch!$F$3:$F$200,"Schnepfe") -> 0 | P17: =SUMIFS(Schussbuch!$H$3:$H$200,Schussbuch!$A$3:$A$200,2038,Schussbuch!$F$3:$F$200,"Ringeltaube") -> 0 | Q17: =SUMIFS(Schussbuch!$H$3:$H$200,Schussbuch!$A$3:$A$200,2038,Schussbuch!$F$3:$F$200,"Eichelhäher") -> 0 | R17: =SUMIFS(Schussbuch!$H$3:$H$200,Schussbuch!$A$3:$A$200,2038,Schussbuch!$F$3:$F$200,"Krähe") -> 0 | S17: =SUMIFS(Schussbuch!$H$3:$H$200,Schussbuch!$A$3:$A$200,2038,Schussbuch!$F$3:$F$200,"Elster") -> 0 | T17: =SUMIFS(Schussbuch!$H$3:$H$200,Schussbuch!$A$3:$A$200,2038,Schussbuch!$F$3:$F$200,"Katze") -> 0 | U17: =SUMIFS(Schussbuch!$H$3:$H$200,Schussbuch!$A$3:$A$200,2038,Schussbuch!$F$3:$F$200,"Hund") -> 0 | V17: =SUM(B17:U17) -> 0
A18: 2039/40 | B18: =SUMIFS(Schussbuch!$H$3:$H$200,Schussbuch!$A$3:$A$200,2039,Schussbuch!$F$3:$F$200,"Rotwild") -> 0 | C18: =SUMIFS(Schussbuch!$H$3:$H$200,Schussbuch!$A$3:$A$200,2039,Schussbuch!$F$3:$F$200,"Schwarzwild") -> 0 | D18: =SUMIFS(Schussbuch!$H$3:$H$200,Schussbuch!$A$3:$A$200,2039,Schussbuch!$F$3:$F$200,"Rehwild") -> 0 | E18: =SUMIFS(Schussbuch!$H$3:$H$200,Schussbuch!$A$3:$A$200,2039,Schussbuch!$F$3:$F$200,"Gamswild") -> 0 | F18: =SUMIFS(Schussbuch!$H$3:$H$200,Schussbuch!$A$3:$A$200,2039,Schussbuch!$F$3:$F$200,"Damwild") -> 0 | G18: =SUMIFS(Schussbuch!$H$3:$H$200,Schussbuch!$A$3:$A$200,2039,Schussbuch!$F$3:$F$200,"Muffelwild") -> 0 | H18: =SUMIFS(Schussbuch!$H$3:$H$200,Schussbuch!$A$3:$A$200,2039,Schussbuch!$F$3:$F$200,"Hase") -> 0 | I18: =SUMIFS(Schussbuch!$H$3:$H$200,Schussbuch!$A$3:$A$200,2039,Schussbuch!$F$3:$F$200,"Kanin") -> 0 | J18: =SUMIFS(Schussbuch!$H$3:$H$200,Schussbuch!$A$3:$A$200,2039,Schussbuch!$F$3:$F$200,"Fuchs") -> 0 | K18: =SUMIFS(Schussbuch!$H$3:$H$200,Schussbuch!$A$3:$A$200,2039,Schussbuch!$F$3:$F$200,"Marder") -> 0 | L18: =SUMIFS(Schussbuch!$H$3:$H$200,Schussbuch!$A$3:$A$200,2039,Schussbuch!$F$3:$F$200,"Fasan") -> 0 | M18: =SUMIFS(Schussbuch!$H$3:$H$200,Schussbuch!$A$3:$A$200,2039,Schussbuch!$F$3:$F$200,"Gans") -> 0 | N18: =SUMIFS(Schussbuch!$H$3:$H$200,Schussbuch!$A$3:$A$200,2039,Schussbuch!$F$3:$F$200,"Ente") -> 0 | O18: =SUMIFS(Schussbuch!$H$3:$H$200,Schussbuch!$A$3:$A$200,2039,Schussbuch!$F$3:$F$200,"Schnepfe") -> 0 | P18: =SUMIFS(Schussbuch!$H$3:$H$200,Schussbuch!$A$3:$A$200,2039,Schussbuch!$F$3:$F$200,"Ringeltaube") -> 0 | Q18: =SUMIFS(Schussbuch!$H$3:$H$200,Schussbuch!$A$3:$A$200,2039,Schussbuch!$F$3:$F$200,"Eichelhäher") -> 0 | R18: =SUMIFS(Schussbuch!$H$3:$H$200,Schussbuch!$A$3:$A$200,2039,Schussbuch!$F$3:$F$200,"Krähe") -> 0 | S18: =SUMIFS(Schussbuch!$H$3:$H$200,Schussbuch!$A$3:$A$200,2039,Schussbuch!$F$3:$F$200,"Elster") -> 0 | T18: =SUMIFS(Schussbuch!$H$3:$H$200,Schussbuch!$A$3:$A$200,2039,Schussbuch!$F$3:$F$200,"Katze") -> 0 | U18: =SUMIFS(Schussbuch!$H$3:$H$200,Schussbuch!$A$3:$A$200,2039,Schussbuch!$F$3:$F$200,"Hund") -> 0 | V18: =SUM(B18:U18) -> 0
A19: 2040/41 | B19: =SUMIFS(Schussbuch!$H$3:$H$200,Schussbuch!$A$3:$A$200,2040,Schussbuch!$F$3:$F$200,"Rotwild") -> 0 | C19: =SUMIFS(Schussbuch!$H$3:$H$200,Schussbuch!$A$3:$A$200,2040,Schussbuch!$F$3:$F$200,"Schwarzwild") -> 0 | D19: =SUMIFS(Schussbuch!$H$3:$H$200,Schussbuch!$A$3:$A$200,2040,Schussbuch!$F$3:$F$200,"Rehwild") -> 0 | E19: =SUMIFS(Schussbuch!$H$3:$H$200,Schussbuch!$A$3:$A$200,2040,Schussbuch!$F$3:$F$200,"Gamswild") -> 0 | F19: =SUMIFS(Schussbuch!$H$3:$H$200,Schussbuch!$A$3:$A$200,2040,Schussbuch!$F$3:$F$200,"Damwild") -> 0 | G19: =SUMIFS(Schussbuch!$H$3:$H$200,Schussbuch!$A$3:$A$200,2040,Schussbuch!$F$3:$F$200,"Muffelwild") -> 0 | H19: =SUMIFS(Schussbuch!$H$3:$H$200,Schussbuch!$A$3:$A$200,2040,Schussbuch!$F$3:$F$200,"Hase") -> 0 | I19: =SUMIFS(Schussbuch!$H$3:$H$200,Schussbuch!$A$3:$A$200,2040,Schussbuch!$F$3:$F$200,"Kanin") -> 0 | J19: =SUMIFS(Schussbuch!$H$3:$H$200,Schussbuch!$A$3:$A$200,2040,Schussbuch!$F$3:$F$200,"Fuchs") -> 0 | K19: =SUMIFS(Schussbuch!$H$3:$H$200,Schussbuch!$A$3:$A$200,2040,Schussbuch!$F$3:$F$200,"Marder") -> 0 | L19: =SUMIFS(Schussbuch!$H$3:$H$200,Schussbuch!$A$3:$A$200,2040,Schussbuch!$F$3:$F$200,"Fasan") -> 0 | M19: =SUMIFS(Schussbuch!$H$3:$H$200,Schussbuch!$A$3:$A$200,2040,Schussbuch!$F$3:$F$200,"Gans") -> 0 | N19: =SUMIFS(Schussbuch!$H$3:$H$200,Schussbuch!$A$3:$A$200,2040,Schussbuch!$F$3:$F$200,"Ente") -> 0 | O19: =SUMIFS(Schussbuch!$H$3:$H$200,Schussbuch!$A$3:$A$200,2040,Schussbuch!$F$3:$F$200,"Schnepfe") -> 0 | P19: =SUMIFS(Schussbuch!$H$3:$H$200,Schussbuch!$A$3:$A$200,2040,Schussbuch!$F$3:$F$200,"Ringeltaube") -> 0 | Q19: =SUMIFS(Schussbuch!$H$3:$H$200,Schussbuch!$A$3:$A$200,2040,Schussbuch!$F$3:$F$200,"Eichelhäher") -> 0 | R19: =SUMIFS(Schussbuch!$H$3:$H$200,Schussbuch!$A$3:$A$200,2040,Schussbuch!$F$3:$F$200,"Krähe") -> 0 | S19: =SUMIFS(Schussbuch!$H$3:$H$200,Schussbuch!$A$3:$A$200,2040,Schussbuch!$F$3:$F$200,"Elster") -> 0 | T19: =SUMIFS(Schussbuch!$H$3:$H$200,Schussbuch!$A$3:$A$200,2040,Schussbuch!$F$3:$F$200,"Katze") -> 0 | U19: =SUMIFS(Schussbuch!$H$3:$H$200,Schussbuch!$A$3:$A$200,2040,Schussbuch!$F$3:$F$200,"Hund") -> 0 | V19: =SUM(B19:U19) -> 0
A20: 2041/42 | B20: =SUMIFS(Schussbuch!$H$3:$H$200,Schussbuch!$A$3:$A$200,2041,Schussbuch!$F$3:$F$200,"Rotwild") -> 0 | C20: =SUMIFS(Schussbuch!$H$3:$H$200,Schussbuch!$A$3:$A$200,2041,Schussbuch!$F$3:$F$200,"Schwarzwild") -> 0 | D20: =SUMIFS(Schussbuch!$H$3:$H$200,Schussbuch!$A$3:$A$200,2041,Schussbuch!$F$3:$F$200,"Rehwild") -> 0 | E20: =SUMIFS(Schussbuch!$H$3:$H$200,Schussbuch!$A$3:$A$200,2041,Schussbuch!$F$3:$F$200,"Gamswild") -> 0 | F20: =SUMIFS(Schussbuch!$H$3:$H$200,Schussbuch!$A$3:$A$200,2041,Schussbuch!$F$3:$F$200,"Damwild") -> 0 | G20: =SUMIFS(Schussbuch!$H$3:$H$200,Schussbuch!$A$3:$A$200,2041,Schussbuch!$F$3:$F$200,"Muffelwild") -> 0 | H20: =SUMIFS(Schussbuch!$H$3:$H$200,Schussbuch!$A$3:$A$200,2041,Schussbuch!$F$3:$F$200,"Hase") -> 0 | I20: =SUMIFS(Schussbuch!$H$3:$H$200,Schussbuch!$A$3:$A$200,2041,Schussbuch!$F$3:$F$200,"Kanin") -> 0 | J20: =SUMIFS(Schussbuch!$H$3:$H$200,Schussbuch!$A$3:$A$200,2041,Schussbuch!$F$3:$F$200,"Fuchs") -> 0 | K20: =SUMIFS(Schussbuch!$H$3:$H$200,Schussbuch!$A$3:$A$200,2041,Schussbuch!$F$3:$F$200,"Marder") -> 0 | L20: =SUMIFS(Schussbuch!$H$3:$H$200,Schussbuch!$A$3:$A$200,2041,Schussbuch!$F$3:$F$200,"Fasan") -> 0 | M20: =SUMIFS(Schussbuch!$H$3:$H$200,Schussbuch!$A$3:$A$200,2041,Schussbuch!$F$3:$F$200,"Gans") -> 0 | N20: =SUMIFS(Schussbuch!$H$3:$H$200,Schussbuch!$A$3:$A$200,2041,Schussbuch!$F$3:$F$200,"Ente") -> 0 | O20: =SUMIFS(Schussbuch!$H$3:$H$200,Schussbuch!$A$3:$A$200,2041,Schussbuch!$F$3:$F$200,"Schnepfe") -> 0 | P20: =SUMIFS(Schussbuch!$H$3:$H$200,Schussbuch!$A$3:$A$200,2041,Schussbuch!$F$3:$F$200,"Ringeltaube") -> 0 | Q20: =SUMIFS(Schussbuch!$H$3:$H$200,Schussbuch!$A$3:$A$200,2041,Schussbuch!$F$3:$F$200,"Eichelhäher") -> 0 | R20: =SUMIFS(Schussbuch!$H$3:$H$200,Schussbuch!$A$3:$A$200,2041,Schussbuch!$F$3:$F$200,"Krähe") -> 0 | S20: =SUMIFS(Schussbuch!$H$3:$H$200,Schussbuch!$A$3:$A$200,2041,Schussbuch!$F$3:$F$200,"Elster") -> 0 | T20: =SUMIFS(Schussbuch!$H$3:$H$200,Schussbuch!$A$3:$A$200,2041,Schussbuch!$F$3:$F$200,"Katze") -> 0 | U20: =SUMIFS(Schussbuch!$H$3:$H$200,Schussbuch!$A$3:$A$200,2041,Schussbuch!$F$3:$F$200,"Hund") -> 0 | V20: =SUM(B20:U20) -> 0
A21: 2042/43 | B21: =SUMIFS(Schussbuch!$H$3:$H$200,Schussbuch!$A$3:$A$200,2042,Schussbuch!$F$3:$F$200,"Rotwild") -> 0 | C21: =SUMIFS(Schussbuch!$H$3:$H$200,Schussbuch!$A$3:$A$200,2042,Schussbuch!$F$3:$F$200,"Schwarzwild") -> 0 | D21: =SUMIFS(Schussbuch!$H$3:$H$200,Schussbuch!$A$3:$A$200,2042,Schussbuch!$F$3:$F$200,"Rehwild") -> 0 | E21: =SUMIFS(Schussbuch!$H$3:$H$200,Schussbuch!$A$3:$A$200,2042,Schussbuch!$F$3:$F$200,"Gamswild") -> 0 | F21: =SUMIFS(Schussbuch!$H$3:$H$200,Schussbuch!$A$3:$A$200,2042,Schussbuch!$F$3:$F$200,"Damwild") -> 0 | G21: =SUMIFS(Schussbuch!$H$3:$H$200,Schussbuch!$A$3:$A$200,2042,Schussbuch!$F$3:$F$200,"Muffelwild") -> 0 | H21: =SUMIFS(Schussbuch!$H$3:$H$200,Schussbuch!$A$3:$A$200,2042,Schussbuch!$F$3:$F$200,"Hase") -> 0 | I21: =SUMIFS(Schussbuch!$H$3:$H$200,Schussbuch!$A$3:$A$200,2042,Schussbuch!$F$3:$F$200,"Kanin") -> 0 | J21: =SUMIFS(Schussbuch!$H$3:$H$200,Schussbuch!$A$3:$A$200,2042,Schussbuch!$F$3:$F$200,"Fuchs") -> 0 | K21: =SUMIFS(Schussbuch!$H$3:$H$200,Schussbuch!$A$3:$A$200,2042,Schussbuch!$F$3:$F$200,"Marder") -> 0 | L21: =SUMIFS(Schussbuch!$H$3:$H$200,Schussbuch!$A$3:$A$200,2042,Schussbuch!$F$3:$F$200,"Fasan") -> 0 | M21: =SUMIFS(Schussbuch!$H$3:$H$200,Schussbuch!$A$3:$A$200,2042,Schussbuch!$F$3:$F$200,"Gans") -> 0 | N21: =SUMIFS(Schussbuch!$H$3:$H$200,Schussbuch!$A$3:$A$200,2042,Schussbuch!$F$3:$F$200,"Ente") -> 0 | O21: =SUMIFS(Schussbuch!$H$3:$H$200,Schussbuch!$A$3:$A$200,2042,Schussbuch!$F$3:$F$200,"Schnepfe") -> 0 | P21: =SUMIFS(Schussbuch!$H$3:$H$200,Schussbuch!$A$3:$A$200,2042,Schussbuch!$F$3:$F$200,"Ringeltaube") -> 0 | Q21: =SUMIFS(Schussbuch!$H$3:$H$200,Schussbuch!$A$3:$A$200,2042,Schussbuch!$F$3:$F$200,"Eichelhäher") -> 0 | R21: =SUMIFS(Schussbuch!$H$3:$H$200,Schussbuch!$A$3:$A$200,2042,Schussbuch!$F$3:$F$200,"Krähe") -> 0 | S21: =SUMIFS(Schussbuch!$H$3:$H$200,Schussbuch!$A$3:$A$200,2042,Schussbuch!$F$3:$F$200,"Elster") -> 0 | T21: =SUMIFS(Schussbuch!$H$3:$H$200,Schussbuch!$A$3:$A$200,2042,Schussbuch!$F$3:$F$200,"Katze") -> 0 | U21: =SUMIFS(Schussbuch!$H$3:$H$200,Schussbuch!$A$3:$A$200,2042,Schussbuch!$F$3:$F$200,"Hund") -> 0 | V21: =SUM(B21:U21) -> 0
A22: 2043/44 | B22: =SUMIFS(Schussbuch!$H$3:$H$200,Schussbuch!$A$3:$A$200,2043,Schussbuch!$F$3:$F$200,"Rotwild") -> 0 | C22: =SUMIFS(Schussbuch!$H$3:$H$200,Schussbuch!$A$3:$A$200,2043,Schussbuch!$F$3:$F$200,"Schwarzwild") -> 0 | D22: =SUMIFS(Schussbuch!$H$3:$H$200,Schussbuch!$A$3:$A$200,2043,Schussbuch!$F$3:$F$200,"Rehwild") -> 0 | E22: =SUMIFS(Schussbuch!$H$3:$H$200,Schussbuch!$A$3:$A$200,2043,Schussbuch!$F$3:$F$200,"Gamswild") -> 0 | F22: =SUMIFS(Schussbuch!$H$3:$H$200,Schussbuch!$A$3:$A$200,2043,Schussbuch!$F$3:$F$200,"Damwild") -> 0 | G22: =SUMIFS(Schussbuch!$H$3:$H$200,Schussbuch!$A$3:$A$200,2043,Schussbuch!$F$3:$F$200,"Muffelwild") -> 0 | H22: =SUMIFS(Schussbuch!$H$3:$H$200,Schussbuch!$A$3:$A$200,2043,Schussbuch!$F$3:$F$200,"Hase") -> 0 | I22: =SUMIFS(Schussbuch!$H$3:$H$200,Schussbuch!$A$3:$A$200,2043,Schussbuch!$F$3:$F$200,"Kanin") -> 0 | J22: =SUMIFS(Schussbuch!$H$3:$H$200,Schussbuch!$A$3:$A$200,2043,Schussbuch!$F$3:$F$200,"Fuchs") -> 0 | K22: =SUMIFS(Schussbuch!$H$3:$H$200,Schussbuch!$A$3:$A$200,2043,Schussbuch!$F$3:$F$200,"Marder") -> 0 | L22: =SUMIFS(Schussbuch!$H$3:$H$200,Schussbuch!$A$3:$A$200,2043,Schussbuch!$F$3:$F$200,"Fasan") -> 0 | M22: =SUMIFS(Schussbuch!$H$3:$H$200,Schussbuch!$A$3:$A$200,2043,Schussbuch!$F$3:$F$200,"Gans") -> 0 | N22: =SUMIFS(Schussbuch!$H$3:$H$200,Schussbuch!$A$3:$A$200,2043,Schussbuch!$F$3:$F$200,"Ente") -> 0 | O22: =SUMIFS(Schussbuch!$H$3:$H$200,Schussbuch!$A$3:$A$200,2043,Schussbuch!$F$3:$F$200,"Schnepfe") -> 0 | P22: =SUMIFS(Schussbuch!$H$3:$H$200,Schussbuch!$A$3:$A$200,2043,Schussbuch!$F$3:$F$200,"Ringeltaube") -> 0 | Q22: =SUMIFS(Schussbuch!$H$3:$H$200,Schussbuch!$A$3:$A$200,2043,Schussbuch!$F$3:$F$200,"Eichelhäher") -> 0 | R22: =SUMIFS(Schussbuch!$H$3:$H$200,Schussbuch!$A$3:$A$200,2043,Schussbuch!$F$3:$F$200,"Krähe") -> 0 | S22: =SUMIFS(Schussbuch!$H$3:$H$200,Schussbuch!$A$3:$A$200,2043,Schussbuch!$F$3:$F$200,"Elster") -> 0 | T22: =SUMIFS(Schussbuch!$H$3:$H$200,Schussbuch!$A$3:$A$200,2043,Schussbuch!$F$3:$F$200,"Katze") -> 0 | U22: =SUMIFS(Schussbuch!$H$3:$H$200,Schussbuch!$A$3:$A$200,2043,Schussbuch!$F$3:$F$200,"Hund") -> 0 | V22: =SUM(B22:U22) -> 0
A23: 2044/45 | B23: =SUMIFS(Schussbuch!$H$3:$H$200,Schussbuch!$A$3:$A$200,2044,Schussbuch!$F$3:$F$200,"Rotwild") -> 0 | C23: =SUMIFS(Schussbuch!$H$3:$H$200,Schussbuch!$A$3:$A$200,2044,Schussbuch!$F$3:$F$200,"Schwarzwild") -> 0 | D23: =SUMIFS(Schussbuch!$H$3:$H$200,Schussbuch!$A$3:$A$200,2044,Schussbuch!$F$3:$F$200,"Rehwild") -> 0 | E23: =SUMIFS(Schussbuch!$H$3:$H$200,Schussbuch!$A$3:$A$200,2044,Schussbuch!$F$3:$F$200,"Gamswild") -> 0 | F23: =SUMIFS(Schussbuch!$H$3:$H$200,Schussbuch!$A$3:$A$200,2044,Schussbuch!$F$3:$F$200,"Damwild") -> 0 | G23: =SUMIFS(Schussbuch!$H$3:$H$200,Schussbuch!$A$3:$A$200,2044,Schussbuch!$F$3:$F$200,"Muffelwild") -> 0 | H23: =SUMIFS(Schussbuch!$H$3:$H$200,Schussbuch!$A$3:$A$200,2044,Schussbuch!$F$3:$F$200,"Hase") -> 0 | I23: =SUMIFS(Schussbuch!$H$3:$H$200,Schussbuch!$A$3:$A$200,2044,Schussbuch!$F$3:$F$200,"Kanin") -> 0 | J23: =SUMIFS(Schussbuch!$H$3:$H$200,Schussbuch!$A$3:$A$200,2044,Schussbuch!$F$3:$F$200,"Fuchs") -> 0 | K23: =SUMIFS(Schussbuch!$H$3:$H$200,Schussbuch!$A$3:$A$200,2044,Schussbuch!$F$3:$F$200,"Marder") -> 0 | L23: =SUMIFS(Schussbuch!$H$3:$H$200,Schussbuch!$A$3:$A$200,2044,Schussbuch!$F$3:$F$200,"Fasan") -> 0 | M23: =SUMIFS(Schussbuch!$H$3:$H$200,Schussbuch!$A$3:$A$200,2044,Schussbuch!$F$3:$F$200,"Gans") -> 0 | N23: =SUMIFS(Schussbuch!$H$3:$H$200,Schussbuch!$A$3:$A$200,2044,Schussbuch!$F$3:$F$200,"Ente") -> 0 | O23: =SUMIFS(Schussbuch!$H$3:$H$200,Schussbuch!$A$3:$A$200,2044,Schussbuch!$F$3:$F$200,"Schnepfe") -> 0 | P23: =SUMIFS(Schussbuch!$H$3:$H$200,Schussbuch!$A$3:$A$200,2044,Schussbuch!$F$3:$F$200,"Ringeltaube") -> 0 | Q23: =SUMIFS(Schussbuch!$H$3:$H$200,Schussbuch!$A$3:$A$200,2044,Schussbuch!$F$3:$F$200,"Eichelhäher") -> 0 | R23: =SUMIFS(Schussbuch!$H$3:$H$200,Schussbuch!$A$3:$A$200,2044,Schussbuch!$F$3:$F$200,"Krähe") -> 0 | S23: =SUMIFS(Schussbuch!$H$3:$H$200,Schussbuch!$A$3:$A$200,2044,Schussbuch!$F$3:$F$200,"Elster") -> 0 | T23: =SUMIFS(Schussbuch!$H$3:$H$200,Schussbuch!$A$3:$A$200,2044,Schussbuch!$F$3:$F$200,"Katze") -> 0 | U23: =SUMIFS(Schussbuch!$H$3:$H$200,Schussbuch!$A$3:$A$200,2044,Schussbuch!$F$3:$F$200,"Hund") -> 0 | V23: =SUM(B23:U23) -> 0
A24: 2045/46 | B24: =SUMIFS(Schussbuch!$H$3:$H$200,Schussbuch!$A$3:$A$200,2045,Schussbuch!$F$3:$F$200,"Rotwild") -> 0 | C24: =SUMIFS(Schussbuch!$H$3:$H$200,Schussbuch!$A$3:$A$200,2045,Schussbuch!$F$3:$F$200,"Schwarzwild") -> 0 | D24: =SUMIFS(Schussbuch!$H$3:$H$200,Schussbuch!$A$3:$A$200,2045,Schussbuch!$F$3:$F$200,"Rehwild") -> 0 | E24: =SUMIFS(Schussbuch!$H$3:$H$200,Schussbuch!$A$3:$A$200,2045,Schussbuch!$F$3:$F$200,"Gamswild") -> 0 | F24: =SUMIFS(Schussbuch!$H$3:$H$200,Schussbuch!$A$3:$A$200,2045,Schussbuch!$F$3:$F$200,"Damwild") -> 0 | G24: =SUMIFS(Schussbuch!$H$3:$H$200,Schussbuch!$A$3:$A$200,2045,Schussbuch!$F$3:$F$200,"Muffelwild") -> 0 | H24: =SUMIFS(Schussbuch!$H$3:$H$200,Schussbuch!$A$3:$A$200,2045,Schussbuch!$F$3:$F$200,"Hase") -> 0 | I24: =SUMIFS(Schussbuch!$H$3:$H$200,Schussbuch!$A$3:$A$200,2045,Schussbuch!$F$3:$F$200,"Kanin") -> 0 | J24: =SUMIFS(Schussbuch!$H$3:$H$200,Schussbuch!$A$3:$A$200,2045,Schussbuch!$F$3:$F$200,"Fuchs") -> 0 | K24: =SUMIFS(Schussbuch!$H$3:$H$200,Schussbuch!$A$3:$A$200,2045,Schussbuch!$F$3:$F$200,"Marder") -> 0 | L24: =SUMIFS(Schussbuch!$H$3:$H$200,Schussbuch!$A$3:$A$200,2045,Schussbuch!$F$3:$F$200,"Fasan") -> 0 | M24: =SUMIFS(Schussbuch!$H$3:$H$200,Schussbuch!$A$3:$A$200,2045,Schussbuch!$F$3:$F$200,"Gans") -> 0 | N24: =SUMIFS(Schussbuch!$H$3:$H$200,Schussbuch!$A$3:$A$200,2045,Schussbuch!$F$3:$F$200,"Ente") -> 0 | O24: =SUMIFS(Schussbuch!$H$3:$H$200,Schussbuch!$A$3:$A$200,2045,Schussbuch!$F$3:$F$200,"Schnepfe") -> 0 | P24: =SUMIFS(Schussbuch!$H$3:$H$200,Schussbuch!$A$3:$A$200,2045,Schussbuch!$F$3:$F$200,"Ringeltaube") -> 0 | Q24: =SUMIFS(Schussbuch!$H$3:$H$200,Schussbuch!$A$3:$A$200,2045,Schussbuch!$F$3:$F$200,"Eichelhäher") -> 0 | R24: =SUMIFS(Schussbuch!$H$3:$H$200,Schussbuch!$A$3:$A$200,2045,Schussbuch!$F$3:$F$200,"Krähe") -> 0 | S24: =SUMIFS(Schussbuch!$H$3:$H$200,Schussbuch!$A$3:$A$200,2045,Schussbuch!$F$3:$F$200,"Elster") -> 0 | T24: =SUMIFS(Schussbuch!$H$3:$H$200,Schussbuch!$A$3:$A$200,2045,Schussbuch!$F$3:$F$200,"Katze") -> 0 | U24: =SUMIFS(Schussbuch!$H$3:$H$200,Schussbuch!$A$3:$A$200,2045,Schussbuch!$F$3:$F$200,"Hund") -> 0 | V24: =SUM(B24:U24) -> 0
A25: 2046/47 | B25: =SUMIFS(Schussbuch!$H$3:$H$200,Schussbuch!$A$3:$A$200,2046,Schussbuch!$F$3:$F$200,"Rotwild") -> 0 | C25: =SUMIFS(Schussbuch!$H$3:$H$200,Schussbuch!$A$3:$A$200,2046,Schussbuch!$F$3:$F$200,"Schwarzwild") -> 0 | D25: =SUMIFS(Schussbuch!$H$3:$H$200,Schussbuch!$A$3:$A$200,2046,Schussbuch!$F$3:$F$200,"Rehwild") -> 0 | E25: =SUMIFS(Schussbuch!$H$3:$H$200,Schussbuch!$A$3:$A$200,2046,Schussbuch!$F$3:$F$200,"Gamswild") -> 0 | F25: =SUMIFS(Schussbuch!$H$3:$H$200,Schussbuch!$A$3:$A$200,2046,Schussbuch!$F$3:$F$200,"Damwild") -> 0 | G25: =SUMIFS(Schussbuch!$H$3:$H$200,Schussbuch!$A$3:$A$200,2046,Schussbuch!$F$3:$F$200,"Muffelwild") -> 0 | H25: =SUMIFS(Schussbuch!$H$3:$H$200,Schussbuch!$A$3:$A$200,2046,Schussbuch!$F$3:$F$200,"Hase") -> 0 | I25: =SUMIFS(Schussbuch!$H$3:$H$200,Schussbuch!$A$3:$A$200,2046,Schussbuch!$F$3:$F$200,"Kanin") -> 0 | J25: =SUMIFS(Schussbuch!$H$3:$H$200,Schussbuch!$A$3:$A$200,2046,Schussbuch!$F$3:$F$200,"Fuchs") -> 0 | K25: =SUMIFS(Schussbuch!$H$3:$H$200,Schussbuch!$A$3:$A$200,2046,Schussbuch!$F$3:$F$200,"Marder") -> 0 | L25: =SUMIFS(Schussbuch!$H$3:$H$200,Schussbuch!$A$3:$A$200,2046,Schussbuch!$F$3:$F$200,"Fasan") -> 0 | M25: =SUMIFS(Schussbuch!$H$3:$H$200,Schussbuch!$A$3:$A$200,2046,Schussbuch!$F$3:$F$200,"Gans") -> 0 | N25: =SUMIFS(Schussbuch!$H$3:$H$200,Schussbuch!$A$3:$A$200,2046,Schussbuch!$F$3:$F$200,"Ente") -> 0 | O25: =SUMIFS(Schussbuch!$H$3:$H$200,Schussbuch!$A$3:$A$200,2046,Schussbuch!$F$3:$F$200,"Schnepfe") -> 0 | P25: =SUMIFS(Schussbuch!$H$3:$H$200,Schussbuch!$A$3:$A$200,2046,Schussbuch!$F$3:$F$200,"Ringeltaube") -> 0 | Q25: =SUMIFS(Schussbuch!$H$3:$H$200,Schussbuch!$A$3:$A$200,2046,Schussbuch!$F$3:$F$200,"Eichelhäher") -> 0 | R25: =SUMIFS(Schussbuch!$H$3:$H$200,Schussbuch!$A$3:$A$200,2046,Schussbuch!$F$3:$F$200,"Krähe") -> 0 | S25: =SUMIFS(Schussbuch!$H$3:$H$200,Schussbuch!$A$3:$A$200,2046,Schussbuch!$F$3:$F$200,"Elster") -> 0 | T25: =SUMIFS(Schussbuch!$H$3:$H$200,Schussbuch!$A$3:$A$200,2046,Schussbuch!$F$3:$F$200,"Katze") -> 0 | U25: =SUMIFS(Schussbuch!$H$3:$H$200,Schussbuch!$A$3:$A$200,2046,Schussbuch!$F$3:$F$200,"Hund") -> 0 | V25: =SUM(B25:U25) -> 0
A26: 2047/48 | B26: =SUMIFS(Schussbuch!$H$3:$H$200,Schussbuch!$A$3:$A$200,2047,Schussbuch!$F$3:$F$200,"Rotwild") -> 0 | C26: =SUMIFS(Schussbuch!$H$3:$H$200,Schussbuch!$A$3:$A$200,2047,Schussbuch!$F$3:$F$200,"Schwarzwild") -> 0 | D26: =SUMIFS(Schussbuch!$H$3:$H$200,Schussbuch!$A$3:$A$200,2047,Schussbuch!$F$3:$F$200,"Rehwild") -> 0 | E26: =SUMIFS(Schussbuch!$H$3:$H$200,Schussbuch!$A$3:$A$200,2047,Schussbuch!$F$3:$F$200,"Gamswild") -> 0 | F26: =SUMIFS(Schussbuch!$H$3:$H$200,Schussbuch!$A$3:$A$200,2047,Schussbuch!$F$3:$F$200,"Damwild") -> 0 | G26: =SUMIFS(Schussbuch!$H$3:$H$200,Schussbuch!$A$3:$A$200,2047,Schussbuch!$F$3:$F$200,"Muffelwild") -> 0 | H26: =SUMIFS(Schussbuch!$H$3:$H$200,Schussbuch!$A$3:$A$200,2047,Schussbuch!$F$3:$F$200,"Hase") -> 0 | I26: =SUMIFS(Schussbuch!$H$3:$H$200,Schussbuch!$A$3:$A$200,2047,Schussbuch!$F$3:$F$200,"Kanin") -> 0 | J26: =SUMIFS(Schussbuch!$H$3:$H$200,Schussbuch!$A$3:$A$200,2047,Schussbuch!$F$3:$F$200,"Fuchs") -> 0 | K26: =SUMIFS(Schussbuch!$H$3:$H$200,Schussbuch!$A$3:$A$200,2047,Schussbuch!$F$3:$F$200,"Marder") -> 0 | L26: =SUMIFS(Schussbuch!$H$3:$H$200,Schussbuch!$A$3:$A$200,2047,Schussbuch!$F$3:$F$200,"Fasan") -> 0 | M26: =SUMIFS(Schussbuch!$H$3:$H$200,Schussbuch!$A$3:$A$200,2047,Schussbuch!$F$3:$F$200,"Gans") -> 0 | N26: =SUMIFS(Schussbuch!$H$3:$H$200,Schussbuch!$A$3:$A$200,2047,Schussbuch!$F$3:$F$200,"Ente") -> 0 | O26: =SUMIFS(Schussbuch!$H$3:$H$200,Schussbuch!$A$3:$A$200,2047,Schussbuch!$F$3:$F$200,"Schnepfe") -> 0 | P26: =SUMIFS(Schussbuch!$H$3:$H$200,Schussbuch!$A$3:$A$200,2047,Schussbuch!$F$3:$F$200,"Ringeltaube") -> 0 | Q26: =SUMIFS(Schussbuch!$H$3:$H$200,Schussbuch!$A$3:$A$200,2047,Schussbuch!$F$3:$F$200,"Eichelhäher") -> 0 | R26: =SUMIFS(Schussbuch!$H$3:$H$200,Schussbuch!$A$3:$A$200,2047,Schussbuch!$F$3:$F$200,"Krähe") -> 0 | S26: =SUMIFS(Schussbuch!$H$3:$H$200,Schussbuch!$A$3:$A$200,2047,Schussbuch!$F$3:$F$200,"Elster") -> 0 | T26: =SUMIFS(Schussbuch!$H$3:$H$200,Schussbuch!$A$3:$A$200,2047,Schussbuch!$F$3:$F$200,"Katze") -> 0 | U26: =SUMIFS(Schussbuch!$H$3:$H$200,Schussbuch!$A$3:$A$200,2047,Schussbuch!$F$3:$F$200,"Hund") -> 0 | V26: =SUM(B26:U26) -> 0
A27: 2048/49 | B27: =SUMIFS(Schussbuch!$H$3:$H$200,Schussbuch!$A$3:$A$200,2048,Schussbuch!$F$3:$F$200,"Rotwild") -> 0 | C27: =SUMIFS(Schussbuch!$H$3:$H$200,Schussbuch!$A$3:$A$200,2048,Schussbuch!$F$3:$F$200,"Schwarzwild") -> 0 | D27: =SUMIFS(Schussbuch!$H$3:$H$200,Schussbuch!$A$3:$A$200,2048,Schussbuch!$F$3:$F$200,"Rehwild") -> 0 | E27: =SUMIFS(Schussbuch!$H$3:$H$200,Schussbuch!$A$3:$A$200,2048,Schussbuch!$F$3:$F$200,"Gamswild") -> 0 | F27: =SUMIFS(Schussbuch!$H$3:$H$200,Schussbuch!$A$3:$A$200,2048,Schussbuch!$F$3:$F$200,"Damwild") -> 0 | G27: =SUMIFS(Schussbuch!$H$3:$H$200,Schussbuch!$A$3:$A$200,2048,Schussbuch!$F$3:$F$200,"Muffelwild") -> 0 | H27: =SUMIFS(Schussbuch!$H$3:$H$200,Schussbuch!$A$3:$A$200,2048,Schussbuch!$F$3:$F$200,"Hase") -> 0 | I27: =SUMIFS(Schussbuch!$H$3:$H$200,Schussbuch!$A$3:$A$200,2048,Schussbuch!$F$3:$F$200,"Kanin") -> 0 | J27: =SUMIFS(Schussbuch!$H$3:$H$200,Schussbuch!$A$3:$A$200,2048,Schussbuch!$F$3:$F$200,"Fuchs") -> 0 | K27: =SUMIFS(Schussbuch!$H$3:$H$200,Schussbuch!$A$3:$A$200,2048,Schussbuch!$F$3:$F$200,"Marder") -> 0 | L27: =SUMIFS(Schussbuch!$H$3:$H$200,Schussbuch!$A$3:$A$200,2048,Schussbuch!$F$3:$F$200,"Fasan") -> 0 | M27: =SUMIFS(Schussbuch!$H$3:$H$200,Schussbuch!$A$3:$A$200,2048,Schussbuch!$F$3:$F$200,"Gans") -> 0 | N27: =SUMIFS(Schussbuch!$H$3:$H$200,Schussbuch!$A$3:$A$200,2048,Schussbuch!$F$3:$F$200,"Ente") -> 0 | O27: =SUMIFS(Schussbuch!$H$3:$H$200,Schussbuch!$A$3:$A$200,2048,Schussbuch!$F$3:$F$200,"Schnepfe") -> 0 | P27: =SUMIFS(Schussbuch!$H$3:$H$200,Schussbuch!$A$3:$A$200,2048,Schussbuch!$F$3:$F$200,"Ringeltaube") -> 0 | Q27: =SUMIFS(Schussbuch!$H$3:$H$200,Schussbuch!$A$3:$A$200,2048,Schussbuch!$F$3:$F$200,"Eichelhäher") -> 0 | R27: =SUMIFS(Schussbuch!$H$3:$H$200,Schussbuch!$A$3:$A$200,2048,Schussbuch!$F$3:$F$200,"Krähe") -> 0 | S27: =SUMIFS(Schussbuch!$H$3:$H$200,Schussbuch!$A$3:$A$200,2048,Schussbuch!$F$3:$F$200,"Elster") -> 0 | T27: =SUMIFS(Schussbuch!$H$3:$H$200,Schussbuch!$A$3:$A$200,2048,Schussbuch!$F$3:$F$200,"Katze") -> 0 | U27: =SUMIFS(Schussbuch!$H$3:$H$200,Schussbuch!$A$3:$A$200,2048,Schussbuch!$F$3:$F$200,"Hund") -> 0 | V27: =SUM(B27:U27) -> 0
A28: 2049/50 | B28: =SUMIFS(Schussbuch!$H$3:$H$200,Schussbuch!$A$3:$A$200,2049,Schussbuch!$F$3:$F$200,"Rotwild") -> 0 | C28: =SUMIFS(Schussbuch!$H$3:$H$200,Schussbuch!$A$3:$A$200,2049,Schussbuch!$F$3:$F$200,"Schwarzwild") -> 0 | D28: =SUMIFS(Schussbuch!$H$3:$H$200,Schussbuch!$A$3:$A$200,2049,Schussbuch!$F$3:$F$200,"Rehwild") -> 0 | E28: =SUMIFS(Schussbuch!$H$3:$H$200,Schussbuch!$A$3:$A$200,2049,Schussbuch!$F$3:$F$200,"Gamswild") -> 0 | F28: =SUMIFS(Schussbuch!$H$3:$H$200,Schussbuch!$A$3:$A$200,2049,Schussbuch!$F$3:$F$200,"Damwild") -> 0 | G28: =SUMIFS(Schussbuch!$H$3:$H$200,Schussbuch!$A$3:$A$200,2049,Schussbuch!$F$3:$F$200,"Muffelwild") -> 0 | H28: =SUMIFS(Schussbuch!$H$3:$H$200,Schussbuch!$A$3:$A$200,2049,Schussbuch!$F$3:$F$200,"Hase") -> 0 | I28: =SUMIFS(Schussbuch!$H$3:$H$200,Schussbuch!$A$3:$A$200,2049,Schussbuch!$F$3:$F$200,"Kanin") -> 0 | J28: =SUMIFS(Schussbuch!$H$3:$H$200,Schussbuch!$A$3:$A$200,2049,Schussbuch!$F$3:$F$200,"Fuchs") -> 0 | K28: =SUMIFS(Schussbuch!$H$3:$H$200,Schussbuch!$A$3:$A$200,2049,Schussbuch!$F$3:$F$200,"Marder") -> 0 | L28: =SUMIFS(Schussbuch!$H$3:$H$200,Schussbuch!$A$3:$A$200,2049,Schussbuch!$F$3:$F$200,"Fasan") -> 0 | M28: =SUMIFS(Schussbuch!$H$3:$H$200,Schussbuch!$A$3:$A$200,2049,Schussbuch!$F$3:$F$200,"Gans") -> 0 | N28: =SUMIFS(Schussbuch!$H$3:$H$200,Schussbuch!$A$3:$A$200,2049,Schussbuch!$F$3:$F$200,"Ente") -> 0 | O28: =SUMIFS(Schussbuch!$H$3:$H$200,Schussbuch!$A$3:$A$200,2049,Schussbuch!$F$3:$F$200,"Schnepfe") -> 0 | P28: =SUMIFS(Schussbuch!$H$3:$H$200,Schussbuch!$A$3:$A$200,2049,Schussbuch!$F$3:$F$200,"Ringeltaube") -> 0 | Q28: =SUMIFS(Schussbuch!$H$3:$H$200,Schussbuch!$A$3:$A$200,2049,Schussbuch!$F$3:$F$200,"Eichelhäher") -> 0 | R28: =SUMIFS(Schussbuch!$H$3:$H$200,Schussbuch!$A$3:$A$200,2049,Schussbuch!$F$3:$F$200,"Krähe") -> 0 | S28: =SUMIFS(Schussbuch!$H$3:$H$200,Schussbuch!$A$3:$A$200,2049,Schussbuch!$F$3:$F$200,"Elster") -> 0 | T28: =SUMIFS(Schussbuch!$H$3:$H$200,Schussbuch!$A$3:$A$200,2049,Schussbuch!$F$3:$F$200,"Katze") -> 0 | U28: =SUMIFS(Schussbuch!$H$3:$H$200,Schussbuch!$A$3:$A$200,2049,Schussbuch!$F$3:$F$200,"Hund") -> 0 | V28: =SUM(B28:U28) -> 0
A30: Ergebnis | B30: =SUM(Tabelle3[Rotwild]) -> 0 | C30: =SUM(Tabelle3[Schwarzwild]) -> 0 | D30: =SUM(Tabelle3[Rehwild]) -> 3 | E30: =SUM(Tabelle3[Gamswild]) -> 0 | F30: =SUM(Tabelle3[Damwild]) -> 0 | G30: =SUM(Tabelle3[Muffelwild]) -> 0 | H30: =SUM(Tabelle3[Hase]) -> 0 | I30: =SUM(Tabelle3[Kanin]) -> 0 | J30: =SUM(Tabelle3[Fuchs]) -> 0 | K30: =SUM(Tabelle3[Marder]) -> 0 | L30: =SUM(Tabelle3[Fasan]) -> 0 | M30: =SUM(Tabelle3[Gans]) -> 0 | N30: =SUM(Tabelle3[Ente]) -> 0 | O30: =SUM(Tabelle3[Schnepfe]) -> 0 | P30: =SUM(Tabelle3[Ringeltaube]) -> 0 | Q30: =SUM(Tabelle3[Eichelhäher]) -> 0 | R30: =SUM(Tabelle3[Krähe]) -> 0 | S30: =SUM(Tabelle3[Elster]) -> 0 | T30: =SUM(Tabelle3[Katze]) -> 0 | U30: =SUM(Tabelle3[Hund]) -> 0 | V30: =SUM(Tabelle3[[Summe ]]) -> 3
E32: Bei Bedarf Tabelle nach unten erweitern!

Sheet Notizen
A1: Notizen
A2: Nr.: | B2: Datum | C2: Begebenheit | D2: Bemerkungen

Sheet Ansitze
A1: Ansitze
A2: Jagdjahr Datum | B2: Zeit | C2: Revier | D2: Ort | E2: Hochsitz Örtlichkeit (wenn Name bekannt) | F2: Anblick | G2: erlegtes Wild | H2: Schüsse | I2: Bemerkungen

Sheet Jagdreisen
A1: Jagdreisen
A2: Datum von bis | C2: Land / Ort | D2: Veranstalter | E2: Mitjäger | F2: Jagdart | G2: Jagd- gebühren € | H2: Neben- kosten € | I2: Gesamt- kosten € | J2: Strecke | K2: Bemerkungen

Sheet Drückjagden
A1: Bewegungsjagden / Drückjagden
A2: Jagdjahr Datum | B2: Dauer | C2: Revier | D2: Ort | E2: Strecke | F2: selbst erleg- tes Wild | G2: Schüsse | H2: Bemerkungen

Sheet Wildarten
A1: Wildarten
A2: 0 | B2: Fehlschuß
A3: 1 | B3: Rotwild
A4: 2 | B4: Schwarzwild
A5: 3 | B5: Rehwild
A6: 4 | B6: Gamswild
A7: 5 | B7: Damwild
A8: 6 | B8: Muffelwild
A9: 7 | B9: Hase
A10: 8 | B10: Kanin
A11: 9 | B11: Fuchs
A12: 10 | B12: Marder
A13: 11 | B13: Fasan
... A22: 20 | B22: Hund

Sheet Wildarten 2
A1: 1 | B1: 2 | C1: 3 | D1: 4 | E1: 5 | F1: 6 | G1: 7 | H1: 8 | I1: 9 | J1: 10 | K1: 11 | L1: 12 | M1: 13 | N1: 14 | O1: 15 | P1: 16 | Q1: 17 | R1: 18 | S1: 19 | T1: 20
A2: Rotwild | B2: Schwarzwild | C2: Rehwild | D2: Gamswild | E2: Damwild | F2: Muffelwild | G2: Hase | H2: Kanin | I2: Fuchs | J2: Marder | K2: Fasan | L2: Ente | M2: Gans | N2: Schnepfe | O2: Ringeltaube | P2: Eichelhäher | Q2: Krähe | R2: Elster | S2: Katze | T2: Hund
