Workbook

Sheet Info
A1: Haushaltstführung
A2: Überwachen Sie Ihren Haushalt und Erstellen Sie Statistiken in Excel. Erzeugen Sie komfortabel Diagramme und
A3: Übersichten.
A5: Excel-Anwendung von
A6: WERNER LUCK
A8: INHALT
A9: Info | D9: Dieses Blatt
A10: E | D10: Eingaben (Anweisung zum Gebrauch der Arbeitsmappe)
A11: Buchungsplan | D11: Buchungsplan über Einnahmen und Ausgaben
A12: HÜL | D12: Zusammenstellung der jährlichen Einnahmen und Ausgaben nach Monaten
A13: Einnahmenliste | D13: Datumsweise Auflistung der Einnahmen
A14: Ausgabenliste | D14: Datumsweise Auflistung der Ausgaben
A15: Einnahmen | D15: Übersicht über die Einnahmen des Jahres nach Monaten
A16: Ausgaben | D16: Übersicht über die Ausgaben des Jahres nach Monaten
A17: Feste Ausgaben | D17: Auflistung der festen Ausgaben
A18: Veränderliche Ausgaben | D18: Auflistung der variablen Ausgaben
A19: Kreditkartenausgaben | D19: Aufteilung der Ausgaben via Kreditkarte
A20: HÜL-Diagramm | D20: Übersichtsdiagramm Einnahmen/Ausgaben nach Monaten
A23: Excel-Anwendung speziell für die Buchführung rund um Ihren Haushalt
A24: Entwickelt von Werner Luck
A25: Hauptstraße 2
A26: 54413 Beuren
A27: Tel.: 06586 986025
A28: E-Mail: wernerluck@web.de

Sheet E
A1: Anweisungen und Erläuterungen zum Gebrauch der Arbeitsmappe
A2: Allgemeines | B2: Die Arbeitsmappe dient der Überwachung und Dokumentation der Haushaltseinnahmen und -ausgaben.
B3: Sie dient weiters dazu, Kostentransparenz und Kostenbewusstsein zu schaffen sowie die Haushaltseinnahmen
B4: aufzuzeigen, wobei hierbei auch Möglichkeiten neuer Einnahmequellen aufscheinen können.
B5: All diese Informationen sollen eine wirksamere Planung, Steuerung und Kontrolle von Kosten und Einnahmen
B6: ermöglichen.
B7: Das Haushaltsbuch unterstützt Sie bei der Budgetkontrolle und hilft, finanzielle Spielräume zu schaffen und
B8: sich bei Finanzentscheidungen sicher zu fühlen.
B9: Die vorliegende Haushaltsbuchführung ist nach dem Konzept einer einfachen Einnahmen-Ausgaben-Aufschrei-
B10: bung für private Haushalte gestaltet.
A12: Tipp: | B12: Hinweis (z. B. auf mögliche andere Verfahrensweisen, Fundstellen usw.)
A14: Hinweise zur Durchführung der Haushaltsbuchführung
A15: Laufende Buchungen | B15: Einnahmen | C15: Im Tabellenblatt "Einn._Liste" werden die monatlichen Einkünfte eingetragen.
B16: Ausgaben | C16: Für die Dokumentation der Ausgaben sind 14 Konten und 67 Kostenstellen vorgesehen.
C17: Die Konten werden in Kostenstellen für feste und variable Ausgaben unterteilt. Es gibt Konten,
C18: die nur feste oder variable, aber auch Konten, die feste und variable Ausgaben enthalten. Die
C19: Eintragungen erfolgen im Tabellenblatt "Ausg._Liste".
C20: Im Tabellenblatt "Ausgaben" werden die Eintragungen nach Konten zusammengefasst.
A22: Begriffserklärungen
B23: Aufwand
B24: Wird nur erforderlich, wenn mit dem privaten
B25: Haushalt auch unternehmerischen Tätigkeiten
B26: verbunden werden.
B29: Berichtigungen
B30: Diese Buchungen werden in der vorliegenden
B31: Haushaltsbuchführung in der Haushaltsstelle
B32: 140 "Rückerstattungen" durchgeführt.
B49: Entnahmen
B50: Spielen hier keine Rolle.
B73: Versorgungsgrad
B74: Der Begriff findet hier keine Anwendung. Es
... B76: wirtschaftlich geprägte Buchführung.
A97: Tabelle "Info" | B97: Inhaltsbeschreibung der Arbeitsmappe und Informationen über den Autor.
A99: Anweisungen und Erläuterungen (dieses Tabellenblatt "E")
B100: Die Arbeitsmappe enthält folgende weitere Tabellenblätter:
A105: Tabellenblatt "Buchungsplan"
B106: Der Buchungsplan gliedert die Haushaltseinnahmen und -ausgaben nach Haushalts- (Einnahmen), Buchungs-
B107: und Kostenstellen (Ausgaben).
B108: Er kann - je nach Bedürfnis - ergänzt und geändert werden. Auch weitergehende Differenzierungen in den
B109: Haushalts- und Kostenstellen sind möglich.
...

Sheet Buchungsplan
A1: Buchungsplan | F1: Einnahme- und Kostenarten
A2: Einnahmen | C2: Ausgaben | F2: Einnahmearten | H2: Kostenarten
A3: Haushalts stelle | B3: Einkommen | C3: Kosten stelle fest | D3: Kosten stelle variabel | E3: Ausgaben | F3: Zusammenstellung der Einnahme- und Kostenarten von privaten Haushalten
A4: 100 | B4: Erwerbseinkommen | C4: 200 | E4: Wohnen | F4: 100 | G4: Erwerbseinkommen | H4: 200 | I4: Wohnen
A5: 101 | B5: Nettolohn, -gehalt | C5: 201 | E5: Miete | F5: 110 | G5: Staatliche Zahlungen | H5: 300 | I5: Hauswirtschaft
A6: 102 | B6: Urlaubsgeld | C6: 202 | E6: Immobilienkredite | F6: 120 | G6: Private Zahlungen | H6: 400 | I6: Ernährung
A7: 103 | B7: Weihnachtsgeld | C7: 203 | E7: Heizenergie, Heizungswartung, Schornsteinfeger | F7: 130 | G7: Einnahmen aus Vermögen | H7: 500 | I7: Körper- und Gesundheitspflege
A8: 104 | B8: Provision | C8: 204 | E8: Strom | F8: 140 | G8: Rückerstattung | H8: 600 | I8: Persönliche Ausstattung
A9: 110 | B9: Staatliche Zahlungen | C9: 205 | E9: Wasser | F9: 150 | G9: Kredite, Darlehen | H9: 700 | I9: Mobilität
A10: 111 | B10: Kindergeld | C10: 206 | E10: Bausparvertrag Wüstenrot | H10: 800 | I10: Kommunikation
A11: 112 | B11: Wohngeld | C11: 207 | E11: Müllabfuhr | H11: 900 | I11: Bildung und Freizeit
A12: 113 | B12: Elterngeld | D12: 208 | E12: Schönheitsreperaturen | H12: 1000 | I12: Betreuung und Pflege
A13: 114 | B13: Pension | D13: 209 | E13: Instandsetzung | H13: 1100 | I13: Beiträge, Honorare, Geldtransfers
A14: 115 | B14: Rente | D14: 210 | E14: Wohnungseinrichtung | H14: 1200 | I14: Versicherungen
A15: 116 | B15: Arbeitslosengeld | C15: 300 | E15: Hauswirtschaft | H15: 1300 | I15: Vermögensbildung
A16: 120 | B16: Private Zahlungen | D16: 301 | E16: Hausrat und kleine Geräte, Verbrauchsmaterial | H16: 1400 | I16: Verbindlichkeiten
A17: 121 | B17: Unterhalt | D17: 302 | E17: Reinigungsmittel | H17: 1500 | I17: Außerordentliche Aufwendungen
A18: 122 | B18: Geldgeschenke | D18: 303 | E18: Blumen, Gartenbedarf
A19: 123 | B19: Sonstiges (auch Boni) | D19: 304 | E19: Haustiere, incl. Hundesteuer | F19: Die Einnahme- und Kostenarten können je nach privaten Bedürfnissen verändert und
A20: 130 | B20: Einnahmen aus Vermögen | D20: 305 | E20: Reperaturen, Werkzeuge, Geräte, Maschinen | F20: angepasst werden. Die vorstehende Gliederung stellt lediglich einen Vorschlag dar.
A21: 131 | B21: Zinsen | D21: 306 | E21: Hilfe für Haushalt, Garten, Grabpflege | F21: Verfeinerungen und diffizilere Untergliederungen sind dem jeweiligen Benutzer
A22: 132 | B22: Dividenden | C22: 400 | E22: Ernährung | F22: unbenommen.
A23: 133 | B23: Sparbeträge, ausgezahlt | D23: 401 | E23: Nahrungsmittel, Getränke
A24: 134 | B24: Kursgewinne | D24: 402 | E24: Alkohol, Tabakwaren
A25: 135 | B25: Mieteinnahmen | D25: 403 | E25: Außer-Haus-Verzehr (Schule, Kita)
A26: 140 | B26: Rückerstattung | D26: 404 | E26: Genussmittel (Süßwaren)
A27: 141 | B27: Steuer | C27: 500 | E27: Körper- und Gesundheitspflege
A28: 142 | B28: Strom, Gas, Wasser | D28: 501 | E28: Körperpflegemittel
A29: 143 | B29: Krankenkasse | D29: 502 | E29: Friseur, Sauna, Solarium
A30: 144 | B30: Beihilfe | D30: 503 | E30: Praxisgebühren, Arznei-/Heilmittel
A31: 145 | B31: Versicherungsbeiträge | D31: 504 | E31: Arzthonorare, Krankenhaus
A32: 150 | B32: Kredite, Darlehen | D32: 505 | E32: Labor, Physiotherapie
C33: 600 | E33: Persönliche Ausstattung
D34: 601 | E34: Bekleidung, Schuhe
D35: 602 | E35: Schmuck, Taschen, Schirme usf.
D36: 603 | E36: Reinigung und Reperaturen
C37: 700 | E37: Mobilität
C38: 701 | E38: Öffentliche Verkehrsmittel (Fahrkarten)
C39: 702 | E39: Kfz-Steuer
C40: 703 | E40: Kfz-Versicherung
...

Sheet HÜL
A1: HÜL | B1: Einnahmen und Ausgaben im Haushaltsjahr nach Monaten
A2: xxxx | B2: EINNAHMEN | C2: AUSGABEN | R2: SALDO
A3: Monat | B3: Einnahmen | C3: Wohnen | D3: Hauswirtschaft | E3: Ernährung | F3: Körper- und Gesundheitspflege | G3: Persönliche Ausstattung | H3: Mobilität | I3: Kommunikation | J3: Bildung und Freizeit | K3: Betreuung und Pflege | L3: Beiträge, Honorare, Geldtransfers | M3: Versicherungen | N3: Vermögensbildung | O3: Verbindlichkeiten | P3: Außerordentliche Aufwendungen | Q3: Summe Ausgaben | R3: Saldo
A4: Januar | B4: =SUMIF(Einn._Liste!$F$4:$F$1000,1,Einn._Liste!$G$4:$G$1000) -> 0 | C4: =SUMIFS(Ausg._Liste!$H$4:$H$550,Ausg._Liste!$E$4:$E$550,200,Ausg._Liste!$G$4:$G$550,1) -> 0 | D4: =SUMIFS(Ausg._Liste!$H$4:$H$550,Ausg._Liste!$E$4:$E$550,300,Ausg._Liste!$G$4:$G$550,1) -> 0 | E4: =SUMIFS(Ausg._Liste!$H$4:$H$550,Ausg._Liste!$E$4:$E$550,400,Ausg._Liste!$G$4:$G$550,1) -> 0 | F4: =SUMIFS(Ausg._Liste!$H$4:$H$550,Ausg._Liste!$E$4:$E$550,500,Ausg._Liste!$G$4:$G$550,1) -> 0 | G4: =SUMIFS(Ausg._Liste!$H$4:$H$550,Ausg._Liste!$E$4:$E$550,600,Ausg._Liste!$G$4:$G$550,1) -> 0 | H4: =SUMIFS(Ausg._Liste!$H$4:$H$550,Ausg._Liste!$E$4:$E$550,700,Ausg._Liste!$G$4:$G$550,1) -> 0 | I4: =SUMIFS(Ausg._Liste!$H$4:$H$550,Ausg._Liste!$E$4:$E$550,800,Ausg._Liste!$G$4:$G$550,1) -> 0 | J4: =SUMIFS(Ausg._Liste!$H$4:$H$550,Ausg._Liste!$E$4:$E$550,900,Ausg._Liste!$G$4:$G$550,1) -> 0 | K4: =SUMIFS(Ausg._Liste!$H$4:$H$550,Ausg._Liste!$E$4:$E$550,1000,Ausg._Liste!$G$4:$G$550,1) -> 0 | L4: =SUMIFS(Ausg._Liste!$H$4:$H$550,Ausg._Liste!$E$4:$E$550,1100,Ausg._Liste!$G$4:$G$550,1) -> 0 | M4: =SUMIFS(Ausg._Liste!$H$4:$H$550,Ausg._Liste!$E$4:$E$550,1200,Ausg._Liste!$G$4:$G$550,1) -> 0 | N4: =SUMIFS(Ausg._Liste!$H$4:$H$550,Ausg._Liste!$E$4:$E$550,1300,Ausg._Liste!$G$4:$G$550,1) -> 0 | O4: =SUMIFS(Ausg._Liste!$H$4:$H$550,Ausg._Liste!$E$4:$E$550,1400,Ausg._Liste!$G$4:$G$550,1) -> 0 | P4: =SUMIFS(Ausg._Liste!$H$4:$H$550,Ausg._Liste!$E$4:$E$550,1500,Ausg._Liste!$G$4:$G$550,1) -> 0 | Q4: =SUM(C4:P4) -> 0 | R4: =B4-Q4 -> 0
A5: Februar | B5: =SUMIF(Einn._Liste!$F$4:$F$1000,2,Einn._Liste!$G$4:$G$1000) -> 0 | C5: =SUMIFS(Ausg._Liste!$H$4:$H$550,Ausg._Liste!$E$4:$E$550,200,Ausg._Liste!$G$4:$G$550,2) -> 0 | D5: =SUMIFS(Ausg._Liste!$H$4:$H$550,Ausg._Liste!$E$4:$E$550,300,Ausg._Liste!$G$4:$G$550,2) -> 0 | E5: =SUMIFS(Ausg._Liste!$H$4:$H$550,Ausg._Liste!$E$4:$E$550,400,Ausg._Liste!$G$4:$G$550,2) -> 0 | F5: =SUMIFS(Ausg._Liste!$H$4:$H$550,Ausg._Liste!$E$4:$E$550,500,Ausg._Liste!$G$4:$G$550,2) -> 0 | G5: =SUMIFS(Ausg._Liste!$H$4:$H$550,Ausg._Liste!$E$4:$E$550,600,Ausg._Liste!$G$4:$G$550,2) -> 0 | H5: =SUMIFS(Ausg._Liste!$H$4:$H$550,Ausg._Liste!$E$4:$E$550,700,Ausg._Liste!$G$4:$G$550,2) -> 0 | I5: =SUMIFS(Ausg._Liste!$H$4:$H$550,Ausg._Liste!$E$4:$E$550,800,Ausg._Liste!$G$4:$G$550,2) -> 0 | J5: =SUMIFS(Ausg._Liste!$H$4:$H$550,Ausg._Liste!$E$4:$E$550,900,Ausg._Liste!$G$4:$G$550,2) -> 0 | K5: =SUMIFS(Ausg._Liste!$H$4:$H$550,Ausg._Liste!$E$4:$E$550,1000,Ausg._Liste!$G$4:$G$550,2) -> 0 | L5: =SUMIFS(Ausg._Liste!$H$4:$H$550,Ausg._Liste!$E$4:$E$550,1100,Ausg._Liste!$G$4:$G$550,2) -> 0 | M5: =SUMIFS(Ausg._Liste!$H$4:$H$550,Ausg._Liste!$E$4:$E$550,1200,Ausg._Liste!$G$4:$G$550,2) -> 0 | N5: =SUMIFS(Ausg._Liste!$H$4:$H$550,Ausg._Liste!$E$4:$E$550,1300,Ausg._Liste!$G$4:$G$550,2) -> 0 | O5: =SUMIFS(Ausg._Liste!$H$4:$H$550,Ausg._Liste!$E$4:$E$550,1400,Ausg._Liste!$G$4:$G$550,2) -> 0 | P5: =SUMIFS(Ausg._Liste!$H$4:$H$550,Ausg._Liste!$E$4:$E$550,1500,Ausg._Liste!$G$4:$G$550,2) -> 0 | Q5: =SUM(C5:P5) -> 0 | R5: =B5-Q5 -> 0
A6: März | B6: =SUMIF(Einn._Liste!$F$4:$F$1000,3,Einn._Liste!$G$4:$G$1000) -> 0 | C6: =SUMIFS(Ausg._Liste!$H$4:$H$550,Ausg._Liste!$E$4:$E$550,200,Ausg._Liste!$G$4:$G$550,3) -> 0 | D6: =SUMIFS(Ausg._Liste!$H$4:$H$550,Ausg._Liste!$E$4:$E$550,300,Ausg._Liste!$G$4:$G$550,3) -> 0 | E6: =SUMIFS(Ausg._Liste!$H$4:$H$550,Ausg._Liste!$E$4:$E$550,400,Ausg._Liste!$G$4:$G$550,3) -> 0 | F6: =SUMIFS(Ausg._Liste!$H$4:$H$550,Ausg._Liste!$E$4:$E$550,500,Ausg._Liste!$G$4:$G$550,3) -> 0 | G6: =SUMIFS(Ausg._Liste!$H$4:$H$550,Ausg._Liste!$E$4:$E$550,600,Ausg._Liste!$G$4:$G$550,3) -> 0 | H6: =SUMIFS(Ausg._Liste!$H$4:$H$550,Ausg._Liste!$E$4:$E$550,700,Ausg._Liste!$G$4:$G$550,3) -> 0 | I6: =SUMIFS(Ausg._Liste!$H$4:$H$550,Ausg._Liste!$E$4:$E$550,800,Ausg._Liste!$G$4:$G$550,3) -> 0 | J6: =SUMIFS(Ausg._Liste!$H$4:$H$550,Ausg._Liste!$E$4:$E$550,900,Ausg._Liste!$G$4:$G$550,3) -> 0 | K6: =SUMIFS(Ausg._Liste!$H$4:$H$550,Ausg._Liste!$E$4:$E$550,1000,Ausg._Liste!$G$4:$G$550,3) -> 0 | L6: =SUMIFS(Ausg._Liste!$H$4:$H$550,Ausg._Liste!$E$4:$E$550,1100,Ausg._Liste!$G$4:$G$550,3) -> 0 | M6: =SUMIFS(Ausg._Liste!$H$4:$H$550,Ausg._Liste!$E$4:$E$550,1200,Ausg._Liste!$G$4:$G$550,3) -> 0 | N6: =SUMIFS(Ausg._Liste!$H$4:$H$550,Ausg._Liste!$E$4:$E$550,1300,Ausg._Liste!$G$4:$G$550,3) -> 0 | O6: =SUMIFS(Ausg._Liste!$H$4:$H$550,Ausg._Liste!$E$4:$E$550,1400,Ausg._Liste!$G$4:$G$550,3) -> 0 | P6: =SUMIFS(Ausg._Liste!$H$4:$H$550,Ausg._Liste!$E$4:$E$550,1500,Ausg._Liste!$G$4:$G$550,3) -> 0 | Q6: =SUM(C6:P6) -> 0 | R6: =B6-Q6 -> 0
A7: April | B7: =SUMIF(Einn._Liste!$F$4:$F$1000,4,Einn._Liste!$G$4:$G$1000) -> 0 | C7: =SUMIFS(Ausg._Liste!$H$4:$H$550,Ausg._Liste!$E$4:$E$550,200,Ausg._Liste!$G$4:$G$550,4) -> 0 | D7: =SUMIFS(Ausg._Liste!$H$4:$H$550,Ausg._Liste!$E$4:$E$550,300,Ausg._Liste!$G$4:$G$550,4) -> 0 | E7: =SUMIFS(Ausg._Liste!$H$4:$H$550,Ausg._Liste!$E$4:$E$550,400,Ausg._Liste!$G$4:$G$550,4) -> 0 | F7: =SUMIFS(Ausg._Liste!$H$4:$H$550,Ausg._Liste!$E$4:$E$550,500,Ausg._Liste!$G$4:$G$550,4) -> 0 | G7: =SUMIFS(Ausg._Liste!$H$4:$H$550,Ausg._Liste!$E$4:$E$550,600,Ausg._Liste!$G$4:$G$550,4) -> 0 | H7: =SUMIFS(Ausg._Liste!$H$4:$H$550,Ausg._Liste!$E$4:$E$550,700,Ausg._Liste!$G$4:$G$550,4) -> 0 | I7: =SUMIFS(Ausg._Liste!$H$4:$H$550,Ausg._Liste!$E$4:$E$550,800,Ausg._Liste!$G$4:$G$550,4) -> 0 | J7: =SUMIFS(Ausg._Liste!$H$4:$H$550,Ausg._Liste!$E$4:$E$550,900,Ausg._Liste!$G$4:$G$550,4) -> 0 | K7: =SUMIFS(Ausg._Liste!$H$4:$H$550,Ausg._Liste!$E$4:$E$550,1000,Ausg._Liste!$G$4:$G$550,4) -> 0 | L7: =SUMIFS(Ausg._Liste!$H$4:$H$550,Ausg._Liste!$E$4:$E$550,1100,Ausg._Liste!$G$4:$G$550,4) -> 0 | M7: =SUMIFS(Ausg._Liste!$H$4:$H$550,Ausg._Liste!$E$4:$E$550,1200,Ausg._Liste!$G$4:$G$550,4) -> 0 | N7: =SUMIFS(Ausg._Liste!$H$4:$H$550,Ausg._Liste!$E$4:$E$550,1300,Ausg._Liste!$G$4:$G$550,4) -> 0 | O7: =SUMIFS(Ausg._Liste!$H$4:$H$550,Ausg._Liste!$E$4:$E$550,1400,Ausg._Liste!$G$4:$G$550,4) -> 0 | P7: =SUMIFS(Ausg._Liste!$H$4:$H$550,Ausg._Liste!$E$4:$E$550,1500,Ausg._Liste!$G$4:$G$550,3) -> 0 | Q7: =SUM(C7:P7) -> 0 | R7: =B7-Q7 -> 0
A8: Mai | B8: =SUMIF(Einn._Liste!$F$4:$F$1000,5,Einn._Liste!$G$4:$G$1000) -> 0 | C8: =SUMIFS(Ausg._Liste!$H$4:$H$550,Ausg._Liste!$E$4:$E$550,200,Ausg._Liste!$G$4:$G$550,5) -> 0 | D8: =SUMIFS(Ausg._Liste!$H$4:$H$550,Ausg._Liste!$E$4:$E$550,300,Ausg._Liste!$G$4:$G$550,5) -> 0 | E8: =SUMIFS(Ausg._Liste!$H$4:$H$550,Ausg._Liste!$E$4:$E$550,400,Ausg._Liste!$G$4:$G$550,5) -> 0 | F8: =SUMIFS(Ausg._Liste!$H$4:$H$550,Ausg._Liste!$E$4:$E$550,500,Ausg._Liste!$G$4:$G$550,5) -> 0 | G8: =SUMIFS(Ausg._Liste!$H$4:$H$550,Ausg._Liste!$E$4:$E$550,600,Ausg._Liste!$G$4:$G$550,5) -> 0 | H8: =SUMIFS(Ausg._Liste!$H$4:$H$550,Ausg._Liste!$E$4:$E$550,700,Ausg._Liste!$G$4:$G$550,5) -> 0 | I8: =SUMIFS(Ausg._Liste!$H$4:$H$550,Ausg._Liste!$E$4:$E$550,800,Ausg._Liste!$G$4:$G$550,5) -> 0 | J8: =SUMIFS(Ausg._Liste!$H$4:$H$550,Ausg._Liste!$E$4:$E$550,900,Ausg._Liste!$G$4:$G$550,5) -> 0 | K8: =SUMIFS(Ausg._Liste!$H$4:$H$550,Ausg._Liste!$E$4:$E$550,1000,Ausg._Liste!$G$4:$G$550,5) -> 0 | L8: =SUMIFS(Ausg._Liste!$H$4:$H$550,Ausg._Liste!$E$4:$E$550,1100,Ausg._Liste!$G$4:$G$550,5) -> 0 | M8: =SUMIFS(Ausg._Liste!$H$4:$H$550,Ausg._Liste!$E$4:$E$550,1200,Ausg._Liste!$G$4:$G$550,5) -> 0 | N8: =SUMIFS(Ausg._Liste!$H$4:$H$550,Ausg._Liste!$E$4:$E$550,1300,Ausg._Liste!$G$4:$G$550,5) -> 0 | O8: =SUMIFS(Ausg._Liste!$H$4:$H$550,Ausg._Liste!$E$4:$E$550,1400,Ausg._Liste!$G$4:$G$550,5) -> 0 | P8: =SUMIFS(Ausg._Liste!$H$4:$H$550,Ausg._Liste!$E$4:$E$550,1500,Ausg._Liste!$G$4:$G$550,5) -> 0 | Q8: =SUM(C8:P8) -> 0 | R8: =B8-Q8 -> 0
A9: Juni | B9: =SUMIF(Einn._Liste!$F$4:$F$1000,6,Einn._Liste!$G$4:$G$1000) -> 0 | C9: =SUMIFS(Ausg._Liste!$H$4:$H$550,Ausg._Liste!$E$4:$E$550,200,Ausg._Liste!$G$4:$G$550,6) -> 0 | D9: =SUMIFS(Ausg._Liste!$H$4:$H$550,Ausg._Liste!$E$4:$E$550,300,Ausg._Liste!$G$4:$G$550,6) -> 0 | E9: =SUMIFS(Ausg._Liste!$H$4:$H$550,Ausg._Liste!$E$4:$E$550,400,Ausg._Liste!$G$4:$G$550,6) -> 0 | F9: =SUMIFS(Ausg._Liste!$H$4:$H$550,Ausg._Liste!$E$4:$E$550,500,Ausg._Liste!$G$4:$G$550,6) -> 0 | G9: =SUMIFS(Ausg._Liste!$H$4:$H$550,Ausg._Liste!$E$4:$E$550,600,Ausg._Liste!$G$4:$G$550,6) -> 0 | H9: =SUMIFS(Ausg._Liste!$H$4:$H$550,Ausg._Liste!$E$4:$E$550,700,Ausg._Liste!$G$4:$G$550,6) -> 0 | I9: =SUMIFS(Ausg._Liste!$H$4:$H$550,Ausg._Liste!$E$4:$E$550,800,Ausg._Liste!$G$4:$G$550,6) -> 0 | J9: =SUMIFS(Ausg._Liste!$H$4:$H$550,Ausg._Liste!$E$4:$E$550,900,Ausg._Liste!$G$4:$G$550,6) -> 0 | K9: =SUMIFS(Ausg._Liste!$H$4:$H$550,Ausg._Liste!$E$4:$E$550,1000,Ausg._Liste!$G$4:$G$550,6) -> 0 | L9: =SUMIFS(Ausg._Liste!$H$4:$H$550,Ausg._Liste!$E$4:$E$550,1100,Ausg._Liste!$G$4:$G$550,6) -> 0 | M9: =SUMIFS(Ausg._Liste!$H$4:$H$550,Ausg._Liste!$E$4:$E$550,1200,Ausg._Liste!$G$4:$G$550,6) -> 0 | N9: =SUMIFS(Ausg._Liste!$H$4:$H$550,Ausg._Liste!$E$4:$E$550,1300,Ausg._Liste!$G$4:$G$550,6) -> 0 | O9: =SUMIFS(Ausg._Liste!$H$4:$H$550,Ausg._Liste!$E$4:$E$550,1400,Ausg._Liste!$G$4:$G$550,6) -> 0 | P9: =SUMIFS(Ausg._Liste!$H$4:$H$550,Ausg._Liste!$E$4:$E$550,1500,Ausg._Liste!$G$4:$G$550,6) -> 0 | Q9: =SUM(C9:P9) -> 0 | R9: =B9-Q9 -> 0
A10: Juli | B10: =SUMIF(Einn._Liste!$F$4:$F$1000,7,Einn._Liste!$G$4:$G$1000) -> 0 | C10: =SUMIFS(Ausg._Liste!$H$4:$H$550,Ausg._Liste!$E$4:$E$550,200,Ausg._Liste!$G$4:$G$550,7) -> 0 | D10: =SUMIFS(Ausg._Liste!$H$4:$H$550,Ausg._Liste!$E$4:$E$550,300,Ausg._Liste!$G$4:$G$550,7) -> 0 | E10: =SUMIFS(Ausg._Liste!$H$4:$H$550,Ausg._Liste!$E$4:$E$550,400,Ausg._Liste!$G$4:$G$550,7) -> 0 | F10: =SUMIFS(Ausg._Liste!$H$4:$H$550,Ausg._Liste!$E$4:$E$550,500,Ausg._Liste!$G$4:$G$550,7) -> 0 | G10: =SUMIFS(Ausg._Liste!$H$4:$H$550,Ausg._Liste!$E$4:$E$550,600,Ausg._Liste!$G$4:$G$550,7) -> 0 | H10: =SUMIFS(Ausg._Liste!$H$4:$H$550,Ausg._Liste!$E$4:$E$550,700,Ausg._Liste!$G$4:$G$550,7) -> 0 | I10: =SUMIFS(Ausg._Liste!$H$4:$H$550,Ausg._Liste!$E$4:$E$550,800,Ausg._Liste!$G$4:$G$550,7) -> 0 | J10: =SUMIFS(Ausg._Liste!$H$4:$H$550,Ausg._Liste!$E$4:$E$550,900,Ausg._Liste!$G$4:$G$550,7) -> 0 | K10: =SUMIFS(Ausg._Liste!$H$4:$H$550,Ausg._Liste!$E$4:$E$550,1000,Ausg._Liste!$G$4:$G$550,7) -> 0 | L10: =SUMIFS(Ausg._Liste!$H$4:$H$550,Ausg._Liste!$E$4:$E$550,1100,Ausg._Liste!$G$4:$G$550,7) -> 0 | M10: =SUMIFS(Ausg._Liste!$H$4:$H$550,Ausg._Liste!$E$4:$E$550,1200,Ausg._Liste!$G$4:$G$550,7) -> 0 | N10: =SUMIFS(Ausg._Liste!$H$4:$H$550,Ausg._Liste!$E$4:$E$550,1300,Ausg._Liste!$G$4:$G$550,7) -> 0 | O10: =SUMIFS(Ausg._Liste!$H$4:$H$550,Ausg._Liste!$E$4:$E$550,1400,Ausg._Liste!$G$4:$G$550,7) -> 0 | P10: =SUMIFS(Ausg._Liste!$H$4:$H$550,Ausg._Liste!$E$4:$E$550,1500,Ausg._Liste!$G$4:$G$550,7) -> 0 | Q10: =SUM(C10:P10) -> 0 | R10: =B10-Q10 -> 0
A11: August | B11: =SUMIF(Einn._Liste!$F$4:$F$1000,8,Einn._Liste!$G$4:$G$1000) -> 0 | C11: =SUMIFS(Ausg._Liste!$H$4:$H$550,Ausg._Liste!$E$4:$E$550,200,Ausg._Liste!$G$4:$G$550,8) -> 0 | D11: =SUMIFS(Ausg._Liste!$H$4:$H$550,Ausg._Liste!$E$4:$E$550,300,Ausg._Liste!$G$4:$G$550,8) -> 0 | E11: =SUMIFS(Ausg._Liste!$H$4:$H$550,Ausg._Liste!$E$4:$E$550,400,Ausg._Liste!$G$4:$G$550,8) -> 0 | F11: =SUMIFS(Ausg._Liste!$H$4:$H$550,Ausg._Liste!$E$4:$E$550,500,Ausg._Liste!$G$4:$G$550,8) -> 0 | G11: =SUMIFS(Ausg._Liste!$H$4:$H$550,Ausg._Liste!$E$4:$E$550,600,Ausg._Liste!$G$4:$G$550,8) -> 0 | H11: =SUMIFS(Ausg._Liste!$H$4:$H$550,Ausg._Liste!$E$4:$E$550,700,Ausg._Liste!$G$4:$G$550,8) -> 0 | I11: =SUMIFS(Ausg._Liste!$H$4:$H$550,Ausg._Liste!$E$4:$E$550,800,Ausg._Liste!$G$4:$G$550,8) -> 0 | J11: =SUMIFS(Ausg._Liste!$H$4:$H$550,Ausg._Liste!$E$4:$E$550,900,Ausg._Liste!$G$4:$G$550,8) -> 0 | K11: =SUMIFS(Ausg._Liste!$H$4:$H$550,Ausg._Liste!$E$4:$E$550,1000,Ausg._Liste!$G$4:$G$550,8) -> 0 | L11: =SUMIFS(Ausg._Liste!$H$4:$H$550,Ausg._Liste!$E$4:$E$550,1100,Ausg._Liste!$G$4:$G$550,8) -> 0 | M11: =SUMIFS(Ausg._Liste!$H$4:$H$550,Ausg._Liste!$E$4:$E$550,1200,Ausg._Liste!$G$4:$G$550,8) -> 0 | N11: =SUMIFS(Ausg._Liste!$H$4:$H$550,Ausg._Liste!$E$4:$E$550,1300,Ausg._Liste!$G$4:$G$550,8) -> 0 | O11: =SUMIFS(Ausg._Liste!$H$4:$H$550,Ausg._Liste!$E$4:$E$550,1400,Ausg._Liste!$G$4:$G$550,8) -> 0 | P11: =SUMIFS(Ausg._Liste!$H$4:$H$550,Ausg._Liste!$E$4:$E$550,1500,Ausg._Liste!$G$4:$G$550,8) -> 0 | Q11: =SUM(C11:P11) -> 0 | R11: =B11-Q11 -> 0
A12: September | B12: =SUMIF(Einn._Liste!$F$4:$F$1000,9,Einn._Liste!$G$4:$G$1000) -> 0 | C12: =SUMIFS(Ausg._Liste!$H$4:$H$550,Ausg._Liste!$E$4:$E$550,200,Ausg._Liste!$G$4:$G$550,9) -> 0 | D12: =SUMIFS(Ausg._Liste!$H$4:$H$550,Ausg._Liste!$E$4:$E$550,300,Ausg._Liste!$G$4:$G$550,9) -> 0 | E12: =SUMIFS(Ausg._Liste!$H$4:$H$550,Ausg._Liste!$E$4:$E$550,400,Ausg._Liste!$G$4:$G$550,9) -> 0 | F12: =SUMIFS(Ausg._Liste!$H$4:$H$550,Ausg._Liste!$E$4:$E$550,500,Ausg._Liste!$G$4:$G$550,9) -> 0 | G12: =SUMIFS(Ausg._Liste!$H$4:$H$550,Ausg._Liste!$E$4:$E$550,600,Ausg._Liste!$G$4:$G$550,9) -> 0 | H12: =SUMIFS(Ausg._Liste!$H$4:$H$550,Ausg._Liste!$E$4:$E$550,700,Ausg._Liste!$G$4:$G$550,9) -> 0 | I12: =SUMIFS(Ausg._Liste!$H$4:$H$550,Ausg._Liste!$E$4:$E$550,800,Ausg._Liste!$G$4:$G$550,9) -> 0 | J12: =SUMIFS(Ausg._Liste!$H$4:$H$550,Ausg._Liste!$E$4:$E$550,900,Ausg._Liste!$G$4:$G$550,9) -> 0 | K12: =SUMIFS(Ausg._Liste!$H$4:$H$550,Ausg._Liste!$E$4:$E$550,1000,Ausg._Liste!$G$4:$G$550,9) -> 0 | L12: =SUMIFS(Ausg._Liste!$H$4:$H$550,Ausg._Liste!$E$4:$E$550,1100,Ausg._Liste!$G$4:$G$550,9) -> 0 | M12: =SUMIFS(Ausg._Liste!$H$4:$H$550,Ausg._Liste!$E$4:$E$550,1200,Ausg._Liste!$G$4:$G$550,9) -> 0 | N12: =SUMIFS(Ausg._Liste!$H$4:$H$550,Ausg._Liste!$E$4:$E$550,1300,Ausg._Liste!$G$4:$G$550,9) -> 0 | O12: =SUMIFS(Ausg._Liste!$H$4:$H$550,Ausg._Liste!$E$4:$E$550,1400,Ausg._Liste!$G$4:$G$550,9) -> 0 | P12: =SUMIFS(Ausg._Liste!$H$4:$H$550,Ausg._Liste!$E$4:$E$550,1500,Ausg._Liste!$G$4:$G$550,9) -> 0 | Q12: =SUM(C12:P12) -> 0 | R12: =B12-Q12 -> 0
A13: Oktober | B13: =SUMIF(Einn._Liste!$F$4:$F$1000,10,Einn._Liste!$G$4:$G$1000) -> 0 | C13: =SUMIFS(Ausg._Liste!$H$4:$H$550,Ausg._Liste!$E$4:$E$550,200,Ausg._Liste!$G$4:$G$550,10) -> 0 | D13: =SUMIFS(Ausg._Liste!$H$4:$H$550,Ausg._Liste!$E$4:$E$550,300,Ausg._Liste!$G$4:$G$550,10) -> 0 | E13: =SUMIFS(Ausg._Liste!$H$4:$H$550,Ausg._Liste!$E$4:$E$550,400,Ausg._Liste!$G$4:$G$550,10) -> 0 | F13: =SUMIFS(Ausg._Liste!$H$4:$H$550,Ausg._Liste!$E$4:$E$550,500,Ausg._Liste!$G$4:$G$550,10) -> 0 | G13: =SUMIFS(Ausg._Liste!$H$4:$H$550,Ausg._Liste!$E$4:$E$550,600,Ausg._Liste!$G$4:$G$550,10) -> 0 | H13: =SUMIFS(Ausg._Liste!$H$4:$H$550,Ausg._Liste!$E$4:$E$550,700,Ausg._Liste!$G$4:$G$550,10) -> 0 | I13: =SUMIFS(Ausg._Liste!$H$4:$H$550,Ausg._Liste!$E$4:$E$550,800,Ausg._Liste!$G$4:$G$550,10) -> 0 | J13: =SUMIFS(Ausg._Liste!$H$4:$H$550,Ausg._Liste!$E$4:$E$550,900,Ausg._Liste!$G$4:$G$550,10) -> 0 | K13: =SUMIFS(Ausg._Liste!$H$4:$H$550,Ausg._Liste!$E$4:$E$550,1000,Ausg._Liste!$G$4:$G$550,10) -> 0 | L13: =SUMIFS(Ausg._Liste!$H$4:$H$550,Ausg._Liste!$E$4:$E$550,1100,Ausg._Liste!$G$4:$G$550,10) -> 0 | M13: =SUMIFS(Ausg._Liste!$H$4:$H$550,Ausg._Liste!$E$4:$E$550,1200,Ausg._Liste!$G$4:$G$550,10) -> 0 | N13: =SUMIFS(Ausg._Liste!$H$4:$H$550,Ausg._Liste!$E$4:$E$550,1300,Ausg._Liste!$G$4:$G$550,10) -> 0 | O13: =SUMIFS(Ausg._Liste!$H$4:$H$550,Ausg._Liste!$E$4:$E$550,1400,Ausg._Liste!$G$4:$G$550,10) -> 0 | P13: =SUMIFS(Ausg._Liste!$H$4:$H$550,Ausg._Liste!$E$4:$E$550,1500,Ausg._Liste!$G$4:$G$550,10) -> 0 | Q13: =SUM(C13:P13) -> 0 | R13: =B13-Q13 -> 0
A14: November | B14: =SUMIF(Einn._Liste!$F$4:$F$1000,11,Einn._Liste!$G$4:$G$1000) -> 0 | C14: =SUMIFS(Ausg._Liste!$H$4:$H$550,Ausg._Liste!$E$4:$E$550,200,Ausg._Liste!$G$4:$G$550,11) -> 0 | D14: =SUMIFS(Ausg._Liste!$H$4:$H$550,Ausg._Liste!$E$4:$E$550,300,Ausg._Liste!$G$4:$G$550,11) -> 0 | E14: =SUMIFS(Ausg._Liste!$H$4:$H$550,Ausg._Liste!$E$4:$E$550,400,Ausg._Liste!$G$4:$G$550,11) -> 0 | F14: =SUMIFS(Ausg._Liste!$H$4:$H$550,Ausg._Liste!$E$4:$E$550,500,Ausg._Liste!$G$4:$G$550,11) -> 0 | G14: =SUMIFS(Ausg._Liste!$H$4:$H$550,Ausg._Liste!$E$4:$E$550,600,Ausg._Liste!$G$4:$G$550,11) -> 0 | H14: =SUMIFS(Ausg._Liste!$H$4:$H$550,Ausg._Liste!$E$4:$E$550,700,Ausg._Liste!$G$4:$G$550,11) -> 0 | I14: =SUMIFS(Ausg._Liste!$H$4:$H$550,Ausg._Liste!$E$4:$E$550,800,Ausg._Liste!$G$4:$G$550,11) -> 0 | J14: =SUMIFS(Ausg._Liste!$H$4:$H$550,Ausg._Liste!$E$4:$E$550,900,Ausg._Liste!$G$4:$G$550,11) -> 0 | K14: =SUMIFS(Ausg._Liste!$H$4:$H$550,Ausg._Liste!$E$4:$E$550,1000,Ausg._Liste!$G$4:$G$550,11) -> 0 | L14: =SUMIFS(Ausg._Liste!$H$4:$H$550,Ausg._Liste!$E$4:$E$550,1100,Ausg._Liste!$G$4:$G$550,11) -> 0 | M14: =SUMIFS(Ausg._Liste!$H$4:$H$550,Ausg._Liste!$E$4:$E$550,1200,Ausg._Liste!$G$4:$G$550,11) -> 0 | N14: =SUMIFS(Ausg._Liste!$H$4:$H$550,Ausg._Liste!$E$4:$E$550,1300,Ausg._Liste!$G$4:$G$550,11) -> 0 | O14: =SUMIFS(Ausg._Liste!$H$4:$H$550,Ausg._Liste!$E$4:$E$550,1400,Ausg._Liste!$G$4:$G$550,11) -> 0 | P14: =SUMIFS(Ausg._Liste!$H$4:$H$550,Ausg._Liste!$E$4:$E$550,1500,Ausg._Liste!$G$4:$G$550,11) -> 0 | Q14: =SUM(C14:P14) -> 0 | R14: =B14-Q14 -> 0
A15: Dezember | B15: =SUMIF(Einn._Liste!$F$4:$F$1000,12,Einn._Liste!$G$4:$G$1000) -> 0 | C15: =SUMIFS(Ausg._Liste!$H$4:$H$550,Ausg._Liste!$E$4:$E$550,200,Ausg._Liste!$G$4:$G$550,12) -> 0 | D15: =SUMIFS(Ausg._Liste!$H$4:$H$550,Ausg._Liste!$E$4:$E$550,300,Ausg._Liste!$G$4:$G$550,12) -> 0 | E15: =SUMIFS(Ausg._Liste!$H$4:$H$550,Ausg._Liste!$E$4:$E$550,400,Ausg._Liste!$G$4:$G$550,12) -> 0 | F15: =SUMIFS(Ausg._Liste!$H$4:$H$550,Ausg._Liste!$E$4:$E$550,500,Ausg._Liste!$G$4:$G$550,12) -> 0 | G15: =SUMIFS(Ausg._Liste!$H$4:$H$550,Ausg._Liste!$E$4:$E$550,600,Ausg._Liste!$G$4:$G$550,12) -> 0 | H15: =SUMIFS(Ausg._Liste!$H$4:$H$550,Ausg._Liste!$E$4:$E$550,700,Ausg._Liste!$G$4:$G$550,12) -> 0 | I15: =SUMIFS(Ausg._Liste!$H$4:$H$550,Ausg._Liste!$E$4:$E$550,800,Ausg._Liste!$G$4:$G$550,12) -> 0 | J15: =SUMIFS(Ausg._Liste!$H$4:$H$550,Ausg._Liste!$E$4:$E$550,900,Ausg._Liste!$G$4:$G$550,12) -> 0 | K15: =SUMIFS(Ausg._Liste!$H$4:$H$550,Ausg._Liste!$E$4:$E$550,1000,Ausg._Liste!$G$4:$G$550,12) -> 0 | L15: =SUMIFS(Ausg._Liste!$H$4:$H$550,Ausg._Liste!$E$4:$E$550,1100,Ausg._Liste!$G$4:$G$550,12) -> 0 | M15: =SUMIFS(Ausg._Liste!$H$4:$H$550,Ausg._Liste!$E$4:$E$550,1200,Ausg._Liste!$G$4:$G$550,12) -> 0 | N15: =SUMIFS(Ausg._Liste!$H$4:$H$550,Ausg._Liste!$E$4:$E$550,1300,Ausg._Liste!$G$4:$G$550,12) -> 0 | O15: =SUMIFS(Ausg._Liste!$H$4:$H$550,Ausg._Liste!$E$4:$E$550,1400,Ausg._Liste!$G$4:$G$550,12) -> 0 | P15: =SUMIFS(Ausg._Liste!$H$4:$H$550,Ausg._Liste!$E$4:$E$550,1500,Ausg._Liste!$G$4:$G$550,12) -> 0 | Q15: =SUM(C15:P15) -> 0 | R15: =B15-Q15 -> 0
A16: Jahr | B16: =SUM(B4:B15) -> 0 | C16: =SUM(C4:C15) -> 0 | D16: =SUM(D4:D15) -> 0 | E16: =SUM(E4:E15) -> 0 | F16: =SUM(F4:F15) -> 0 | G16: =SUM(G4:G15) -> 0 | H16: =SUM(H4:H15) -> 0 | I16: =SUM(I4:I15) -> 0 | ... O16: =SUM(O4:O15) -> 0 | Q16: =SUM(Q4:Q15) -> 0 | R16: =SUM(R4:R15) -> 0

Sheet Einn._Liste
A1: Einnahmenliste
A2: xxxx | E2: Teilbetrag bei Filterung: | G2: =SUBTOTAL(9,G4:G500) -> 0
A3: Datum | B3: Einzahler | C3: Bezeichnung | D3: Buchungs stelle | E3: Haushalts stelle | F3: Monat | G3: Betrag

Sheet Ausg._Liste
A1: Ausgabenliste | I1: Kontrolle: | K1: Differenz
A2: xxxx | F2: Teilbetrag bei Filterung: | H2: =SUBTOTAL(9,H4:H550) -> 0 | I2: ='Feste Ausgaben'!O1+'Veränderliche Ausgaben'!O1 -> 0 | K2: =H2-I2 -> 0
A3: Datum | B3: Aussteller/Empfänger | C3: Bezeichnung | D3: Zahl- art | E3: Buchungs stelle | F3: Kosten stelle | G3: Monat | H3: Betrag | I3: Summe bei Aufteilung

Sheet Einnahmen
A1: Einnahmen | B1: Sa.: | C1: =SUM(C3,C8,C15,C19,C25) -> 0 | D1: =SUM(D3,D8,D15,D19,D25) -> 0 | E1: =SUM(E3,E8,E15,E19,E25) -> 0 | F1: =SUM(F3,F8,F15,F19,F25) -> 0 | G1: =SUM(G3,G8,G15,G19,G25) -> 0 | H1: =SUM(H3,H8,H15,H19,H25) -> 0 | I1: =SUM(I3,I8,I15,I19,I25) -> 0 | J1: =SUM(J3,J8,J15,J19,J25) -> 0 | ... N1: =SUM(N3,N8,N15,N19,N25) -> 0 | O1: =O3+O8+O15+O19+O25+O31 -> 0 | P1: Datum | Q1: =TODAY() -> 43579 | R1: Ø je Monat
B2: Haushalts stelle | C2: Januar | D2: Februar | E2: März | F2: April | G2: Mai | H2: Juni | I2: Juli | J2: August | K2: September | L2: Oktober | M2: November | N2: Dezember | O2: Gesamt | P2: Lfd. Monat | Q2: =MONTH(Q1) -> 4 | R2: =O1/Q2 -> 0
A3: Erwerbseinkommen | B3: 100 | C3: =SUM(C4:C7) -> 0 | D3: =SUM(D4:D7) -> 0 | E3: =SUM(E4:E7) -> 0 | F3: =SUM(F4:F7) -> 0 | G3: =SUM(G4:G7) -> 0 | H3: =SUM(H4:H7) -> 0 | I3: =SUM(I4:I7) -> 0 | J3: =SUM(J4:J7) -> 0 | ... N3: =SUM(N4:N7) -> 0 | O3: =SUM(C3:N3) -> 0
A4: Nettolohn, -gehalt | B4: 101 | C4: =SUMIFS(Einn._Liste!$G$4:$G$1000,Einn._Liste!$E$4:$E$1000,101,Einn._Liste!$F$4:$F$1000,1) -> 0 | D4: =SUMIFS(Einn._Liste!$G$4:$G$1000,Einn._Liste!$E$4:$E$1000,101,Einn._Liste!$F$4:$F$1000,2) -> 0 | E4: =SUMIFS(Einn._Liste!$G$4:$G$1000,Einn._Liste!$E$4:$E$1000,101,Einn._Liste!$F$4:$F$1000,3) -> 0 | F4: =SUMIFS(Einn._Liste!$G$4:$G$1000,Einn._Liste!$E$4:$E$1000,101,Einn._Liste!$F$4:$F$1000,4) -> 0 | G4: =SUMIFS(Einn._Liste!$G$4:$G$1000,Einn._Liste!$E$4:$E$1000,101,Einn._Liste!$F$4:$F$1000,5) -> 0 | H4: =SUMIFS(Einn._Liste!$G$4:$G$1000,Einn._Liste!$E$4:$E$1000,101,Einn._Liste!$F$4:$F$1000,6) -> 0 | I4: =SUMIFS(Einn._Liste!$G$4:$G$1000,Einn._Liste!$E$4:$E$1000,101,Einn._Liste!$F$4:$F$1000,7) -> 0 | J4: =SUMIFS(Einn._Liste!$G$4:$G$1000,Einn._Liste!$E$4:$E$1000,101,Einn._Liste!$F$4:$F$1000,8) -> 0 | K4: =SUMIFS(Einn._Liste!$G$4:$G$1000,Einn._Liste!$E$4:$E$1000,101,Einn._Liste!$F$4:$F$1000,9) -> 0 | L4: =SUMIFS(Einn._Liste!$G$4:$G$1000,Einn._Liste!$E$4:$E$1000,101,Einn._Liste!$F$4:$F$1000,10) -> 0 | M4: =SUMIFS(Einn._Liste!$G$4:$G$1000,Einn._Liste!$E$4:$E$1000,101,Einn._Liste!$F$4:$F$1000,11) -> 0 | N4: =SUMIFS(Einn._Liste!$G$4:$G$1000,Einn._Liste!$E$4:$E$1000,101,Einn._Liste!$F$4:$F$1000,12) -> 0 | O4: =SUM(C4:N4) -> 0
A5: Urlaubsgeld | B5: 102 | C5: =SUMIFS(Einn._Liste!$G$4:$G$1000,Einn._Liste!$E$4:$E$1000,102,Einn._Liste!$F$4:$F$1000,1) -> 0 | D5: =SUMIFS(Einn._Liste!$G$4:$G$1000,Einn._Liste!$E$4:$E$1000,102,Einn._Liste!$F$4:$F$1000,2) -> 0 | E5: =SUMIFS(Einn._Liste!$G$4:$G$1000,Einn._Liste!$E$4:$E$1000,102,Einn._Liste!$F$4:$F$1000,3) -> 0 | F5: =SUMIFS(Einn._Liste!$G$4:$G$1000,Einn._Liste!$E$4:$E$1000,102,Einn._Liste!$F$4:$F$1000,4) -> 0 | G5: =SUMIFS(Einn._Liste!$G$4:$G$1000,Einn._Liste!$E$4:$E$1000,102,Einn._Liste!$F$4:$F$1000,5) -> 0 | H5: =SUMIFS(Einn._Liste!$G$4:$G$1000,Einn._Liste!$E$4:$E$1000,102,Einn._Liste!$F$4:$F$1000,6) -> 0 | I5: =SUMIFS(Einn._Liste!$G$4:$G$1000,Einn._Liste!$E$4:$E$1000,102,Einn._Liste!$F$4:$F$1000,7) -> 0 | J5: =SUMIFS(Einn._Liste!$G$4:$G$1000,Einn._Liste!$E$4:$E$1000,102,Einn._Liste!$F$4:$F$1000,8) -> 0 | K5: =SUMIFS(Einn._Liste!$G$4:$G$1000,Einn._Liste!$E$4:$E$1000,102,Einn._Liste!$F$4:$F$1000,9) -> 0 | L5: =SUMIFS(Einn._Liste!$G$4:$G$1000,Einn._Liste!$E$4:$E$1000,102,Einn._Liste!$F$4:$F$1000,10) -> 0 | M5: =SUMIFS(Einn._Liste!$G$4:$G$1000,Einn._Liste!$E$4:$E$1000,102,Einn._Liste!$F$4:$F$1000,11) -> 0 | N5: =SUMIFS(Einn._Liste!$G$4:$G$1000,Einn._Liste!$E$4:$E$1000,102,Einn._Liste!$F$4:$F$1000,12) -> 0 | O5: =SUM(C5:N5) -> 0
A6: Weihnachtsgeld | B6: 103 | C6: =SUMIFS(Einn._Liste!$G$4:$G$1000,Einn._Liste!$E$4:$E$1000,103,Einn._Liste!$F$4:$F$1000,1) -> 0 | D6: =SUMIFS(Einn._Liste!$G$4:$G$1000,Einn._Liste!$E$4:$E$1000,103,Einn._Liste!$F$4:$F$1000,2) -> 0 | E6: =SUMIFS(Einn._Liste!$G$4:$G$1000,Einn._Liste!$E$4:$E$1000,103,Einn._Liste!$F$4:$F$1000,3) -> 0 | F6: =SUMIFS(Einn._Liste!$G$4:$G$1000,Einn._Liste!$E$4:$E$1000,103,Einn._Liste!$F$4:$F$1000,4) -> 0 | G6: =SUMIFS(Einn._Liste!$G$4:$G$1000,Einn._Liste!$E$4:$E$1000,103,Einn._Liste!$F$4:$F$1000,5) -> 0 | H6: =SUMIFS(Einn._Liste!$G$4:$G$1000,Einn._Liste!$E$4:$E$1000,103,Einn._Liste!$F$4:$F$1000,6) -> 0 | I6: =SUMIFS(Einn._Liste!$G$4:$G$1000,Einn._Liste!$E$4:$E$1000,103,Einn._Liste!$F$4:$F$1000,7) -> 0 | J6: =SUMIFS(Einn._Liste!$G$4:$G$1000,Einn._Liste!$E$4:$E$1000,103,Einn._Liste!$F$4:$F$1000,8) -> 0 | K6: =SUMIFS(Einn._Liste!$G$4:$G$1000,Einn._Liste!$E$4:$E$1000,103,Einn._Liste!$F$4:$F$1000,9) -> 0 | L6: =SUMIFS(Einn._Liste!$G$4:$G$1000,Einn._Liste!$E$4:$E$1000,103,Einn._Liste!$F$4:$F$1000,10) -> 0 | M6: =SUMIFS(Einn._Liste!$G$4:$G$1000,Einn._Liste!$E$4:$E$1000,103,Einn._Liste!$F$4:$F$1000,11) -> 0 | N6: =SUMIFS(Einn._Liste!$G$4:$G$1000,Einn._Liste!$E$4:$E$1000,103,Einn._Liste!$F$4:$F$1000,12) -> 0 | O6: =SUM(C6:N6) -> 0
A7: Provision | B7: 104 | C7: =SUMIFS(Einn._Liste!$G$4:$G$1000,Einn._Liste!$E$4:$E$1000,104,Einn._Liste!$F$4:$F$1000,1) -> 0 | D7: =SUMIFS(Einn._Liste!$G$4:$G$1000,Einn._Liste!$E$4:$E$1000,104,Einn._Liste!$F$4:$F$1000,2) -> 0 | E7: =SUMIFS(Einn._Liste!$G$4:$G$1000,Einn._Liste!$E$4:$E$1000,104,Einn._Liste!$F$4:$F$1000,3) -> 0 | F7: =SUMIFS(Einn._Liste!$G$4:$G$1000,Einn._Liste!$E$4:$E$1000,104,Einn._Liste!$F$4:$F$1000,4) -> 0 | G7: =SUMIFS(Einn._Liste!$G$4:$G$1000,Einn._Liste!$E$4:$E$1000,104,Einn._Liste!$F$4:$F$1000,5) -> 0 | H7: =SUMIFS(Einn._Liste!$G$4:$G$1000,Einn._Liste!$E$4:$E$1000,104,Einn._Liste!$F$4:$F$1000,6) -> 0 | I7: =SUMIFS(Einn._Liste!$G$4:$G$1000,Einn._Liste!$E$4:$E$1000,104,Einn._Liste!$F$4:$F$1000,7) -> 0 | J7: =SUMIFS(Einn._Liste!$G$4:$G$1000,Einn._Liste!$E$4:$E$1000,104,Einn._Liste!$F$4:$F$1000,8) -> 0 | K7: =SUMIFS(Einn._Liste!$G$4:$G$1000,Einn._Liste!$E$4:$E$1000,104,Einn._Liste!$F$4:$F$1000,9) -> 0 | L7: =SUMIFS(Einn._Liste!$G$4:$G$1000,Einn._Liste!$E$4:$E$1000,104,Einn._Liste!$F$4:$F$1000,10) -> 0 | M7: =SUMIFS(Einn._Liste!$G$4:$G$1000,Einn._Liste!$E$4:$E$1000,104,Einn._Liste!$F$4:$F$1000,11) -> 0 | N7: =SUMIFS(Einn._Liste!$G$4:$G$1000,Einn._Liste!$E$4:$E$1000,104,Einn._Liste!$F$4:$F$1000,12) -> 0 | O7: =SUM(C7:N7) -> 0
A8: Staatliche Zahlungen | B8: 110 | C8: =SUM(C9:C14) -> 0 | D8: =SUM(D9:D14) -> 0 | E8: =SUM(E9:E14) -> 0 | F8: =SUM(F9:F14) -> 0 | G8: =SUM(G9:G14) -> 0 | H8: =SUM(H9:H14) -> 0 | I8: =SUM(I9:I14) -> 0 | J8: =SUM(J9:J14) -> 0 | ... N8: =SUM(N9:N14) -> 0 | O8: =SUM(C8:N8) -> 0
A9: Kindergeld | B9: 111 | C9: =SUMIFS(Einn._Liste!$G$4:$G$1000,Einn._Liste!$E$4:$E$1000,111,Einn._Liste!$F$4:$F$1000,1) -> 0 | D9: =SUMIFS(Einn._Liste!$G$4:$G$1000,Einn._Liste!$E$4:$E$1000,111,Einn._Liste!$F$4:$F$1000,2) -> 0 | E9: =SUMIFS(Einn._Liste!$G$4:$G$1000,Einn._Liste!$E$4:$E$1000,111,Einn._Liste!$F$4:$F$1000,3) -> 0 | F9: =SUMIFS(Einn._Liste!$G$4:$G$1000,Einn._Liste!$E$4:$E$1000,111,Einn._Liste!$F$4:$F$1000,4) -> 0 | G9: =SUMIFS(Einn._Liste!$G$4:$G$1000,Einn._Liste!$E$4:$E$1000,111,Einn._Liste!$F$4:$F$1000,5) -> 0 | H9: =SUMIFS(Einn._Liste!$G$4:$G$1000,Einn._Liste!$E$4:$E$1000,111,Einn._Liste!$F$4:$F$1000,6) -> 0 | I9: =SUMIFS(Einn._Liste!$G$4:$G$1000,Einn._Liste!$E$4:$E$1000,111,Einn._Liste!$F$4:$F$1000,7) -> 0 | J9: =SUMIFS(Einn._Liste!$G$4:$G$1000,Einn._Liste!$E$4:$E$1000,111,Einn._Liste!$F$4:$F$1000,8) -> 0 | K9: =SUMIFS(Einn._Liste!$G$4:$G$1000,Einn._Liste!$E$4:$E$1000,111,Einn._Liste!$F$4:$F$1000,9) -> 0 | L9: =SUMIFS(Einn._Liste!$G$4:$G$1000,Einn._Liste!$E$4:$E$1000,111,Einn._Liste!$F$4:$F$1000,10) -> 0 | M9: =SUMIFS(Einn._Liste!$G$4:$G$1000,Einn._Liste!$E$4:$E$1000,111,Einn._Liste!$F$4:$F$1000,11) -> 0 | N9: =SUMIFS(Einn._Liste!$G$4:$G$1000,Einn._Liste!$E$4:$E$1000,111,Einn._Liste!$F$4:$F$1000,12) -> 0 | O9: =SUM(C9:N9) -> 0
A10: Wohngeld | B10: 112 | C10: =SUMIFS(Einn._Liste!$G$4:$G$1000,Einn._Liste!$E$4:$E$1000,112,Einn._Liste!$F$4:$F$1000,1) -> 0 | D10: =SUMIFS(Einn._Liste!$G$4:$G$1000,Einn._Liste!$E$4:$E$1000,112,Einn._Liste!$F$4:$F$1000,2) -> 0 | E10: =SUMIFS(Einn._Liste!$G$4:$G$1000,Einn._Liste!$E$4:$E$1000,112,Einn._Liste!$F$4:$F$1000,3) -> 0 | F10: =SUMIFS(Einn._Liste!$G$4:$G$1000,Einn._Liste!$E$4:$E$1000,112,Einn._Liste!$F$4:$F$1000,4) -> 0 | G10: =SUMIFS(Einn._Liste!$G$4:$G$1000,Einn._Liste!$E$4:$E$1000,112,Einn._Liste!$F$4:$F$1000,5) -> 0 | H10: =SUMIFS(Einn._Liste!$G$4:$G$1000,Einn._Liste!$E$4:$E$1000,112,Einn._Liste!$F$4:$F$1000,6) -> 0 | I10: =SUMIFS(Einn._Liste!$G$4:$G$1000,Einn._Liste!$E$4:$E$1000,112,Einn._Liste!$F$4:$F$1000,7) -> 0 | J10: =SUMIFS(Einn._Liste!$G$4:$G$1000,Einn._Liste!$E$4:$E$1000,112,Einn._Liste!$F$4:$F$1000,8) -> 0 | K10: =SUMIFS(Einn._Liste!$G$4:$G$1000,Einn._Liste!$E$4:$E$1000,112,Einn._Liste!$F$4:$F$1000,9) -> 0 | L10: =SUMIFS(Einn._Liste!$G$4:$G$1000,Einn._Liste!$E$4:$E$1000,112,Einn._Liste!$F$4:$F$1000,10) -> 0 | M10: =SUMIFS(Einn._Liste!$G$4:$G$1000,Einn._Liste!$E$4:$E$1000,112,Einn._Liste!$F$4:$F$1000,11) -> 0 | N10: =SUMIFS(Einn._Liste!$G$4:$G$1000,Einn._Liste!$E$4:$E$1000,112,Einn._Liste!$F$4:$F$1000,12) -> 0 | O10: =SUM(C10:N10) -> 0
A11: Elterngeld | B11: 113 | C11: =SUMIFS(Einn._Liste!$G$4:$G$1000,Einn._Liste!$E$4:$E$1000,113,Einn._Liste!$F$4:$F$1000,1) -> 0 | D11: =SUMIFS(Einn._Liste!$G$4:$G$1000,Einn._Liste!$E$4:$E$1000,113,Einn._Liste!$F$4:$F$1000,2) -> 0 | E11: =SUMIFS(Einn._Liste!$G$4:$G$1000,Einn._Liste!$E$4:$E$1000,113,Einn._Liste!$F$4:$F$1000,3) -> 0 | F11: =SUMIFS(Einn._Liste!$G$4:$G$1000,Einn._Liste!$E$4:$E$1000,113,Einn._Liste!$F$4:$F$1000,4) -> 0 | G11: =SUMIFS(Einn._Liste!$G$4:$G$1000,Einn._Liste!$E$4:$E$1000,113,Einn._Liste!$F$4:$F$1000,5) -> 0 | H11: =SUMIFS(Einn._Liste!$G$4:$G$1000,Einn._Liste!$E$4:$E$1000,113,Einn._Liste!$F$4:$F$1000,6) -> 0 | I11: =SUMIFS(Einn._Liste!$G$4:$G$1000,Einn._Liste!$E$4:$E$1000,113,Einn._Liste!$F$4:$F$1000,7) -> 0 | J11: =SUMIFS(Einn._Liste!$G$4:$G$1000,Einn._Liste!$E$4:$E$1000,113,Einn._Liste!$F$4:$F$1000,8) -> 0 | K11: =SUMIFS(Einn._Liste!$G$4:$G$1000,Einn._Liste!$E$4:$E$1000,113,Einn._Liste!$F$4:$F$1000,9) -> 0 | L11: =SUMIFS(Einn._Liste!$G$4:$G$1000,Einn._Liste!$E$4:$E$1000,113,Einn._Liste!$F$4:$F$1000,10) -> 0 | M11: =SUMIFS(Einn._Liste!$G$4:$G$1000,Einn._Liste!$E$4:$E$1000,113,Einn._Liste!$F$4:$F$1000,11) -> 0 | N11: =SUMIFS(Einn._Liste!$G$4:$G$1000,Einn._Liste!$E$4:$E$1000,113,Einn._Liste!$F$4:$F$1000,12) -> 0 | O11: =SUM(C11:N11) -> 0
A12: Pension | B12: 114 | C12: =SUMIFS(Einn._Liste!$G$4:$G$1000,Einn._Liste!$E$4:$E$1000,114,Einn._Liste!$F$4:$F$1000,1) -> 0 | D12: =SUMIFS(Einn._Liste!$G$4:$G$1000,Einn._Liste!$E$4:$E$1000,114,Einn._Liste!$F$4:$F$1000,2) -> 0 | E12: =SUMIFS(Einn._Liste!$G$4:$G$1000,Einn._Liste!$E$4:$E$1000,114,Einn._Liste!$F$4:$F$1000,3) -> 0 | F12: =SUMIFS(Einn._Liste!$G$4:$G$1000,Einn._Liste!$E$4:$E$1000,114,Einn._Liste!$F$4:$F$1000,4) -> 0 | G12: =SUMIFS(Einn._Liste!$G$4:$G$1000,Einn._Liste!$E$4:$E$1000,114,Einn._Liste!$F$4:$F$1000,5) -> 0 | H12: =SUMIFS(Einn._Liste!$G$4:$G$1000,Einn._Liste!$E$4:$E$1000,114,Einn._Liste!$F$4:$F$1000,6) -> 0 | I12: =SUMIFS(Einn._Liste!$G$4:$G$1000,Einn._Liste!$E$4:$E$1000,114,Einn._Liste!$F$4:$F$1000,7) -> 0 | J12: =SUMIFS(Einn._Liste!$G$4:$G$1000,Einn._Liste!$E$4:$E$1000,114,Einn._Liste!$F$4:$F$1000,8) -> 0 | K12: =SUMIFS(Einn._Liste!$G$4:$G$1000,Einn._Liste!$E$4:$E$1000,114,Einn._Liste!$F$4:$F$1000,9) -> 0 | L12: =SUMIFS(Einn._Liste!$G$4:$G$1000,Einn._Liste!$E$4:$E$1000,114,Einn._Liste!$F$4:$F$1000,10) -> 0 | M12: =SUMIFS(Einn._Liste!$G$4:$G$1000,Einn._Liste!$E$4:$E$1000,114,Einn._Liste!$F$4:$F$1000,11) -> 0 | N12: =SUMIFS(Einn._Liste!$G$4:$G$1000,Einn._Liste!$E$4:$E$1000,114,Einn._Liste!$F$4:$F$1000,12) -> 0 | O12: =SUM(C12:N12) -> 0
A13: Rente | B13: 115 | C13: =SUMIFS(Einn._Liste!$G$4:$G$1000,Einn._Liste!$E$4:$E$1000,115,Einn._Liste!$F$4:$F$1000,1) -> 0 | D13: =SUMIFS(Einn._Liste!$G$4:$G$1000,Einn._Liste!$E$4:$E$1000,115,Einn._Liste!$F$4:$F$1000,2) -> 0 | E13: =SUMIFS(Einn._Liste!$G$4:$G$1000,Einn._Liste!$E$4:$E$1000,115,Einn._Liste!$F$4:$F$1000,3) -> 0 | F13: =SUMIFS(Einn._Liste!$G$4:$G$1000,Einn._Liste!$E$4:$E$1000,115,Einn._Liste!$F$4:$F$1000,4) -> 0 | G13: =SUMIFS(Einn._Liste!$G$4:$G$1000,Einn._Liste!$E$4:$E$1000,115,Einn._Liste!$F$4:$F$1000,5) -> 0 | H13: =SUMIFS(Einn._Liste!$G$4:$G$1000,Einn._Liste!$E$4:$E$1000,115,Einn._Liste!$F$4:$F$1000,6) -> 0 | I13: =SUMIFS(Einn._Liste!$G$4:$G$1000,Einn._Liste!$E$4:$E$1000,115,Einn._Liste!$F$4:$F$1000,7) -> 0 | J13: =SUMIFS(Einn._Liste!$G$4:$G$1000,Einn._Liste!$E$4:$E$1000,115,Einn._Liste!$F$4:$F$1000,8) -> 0 | K13: =SUMIFS(Einn._Liste!$G$4:$G$1000,Einn._Liste!$E$4:$E$1000,115,Einn._Liste!$F$4:$F$1000,9) -> 0 | L13: =SUMIFS(Einn._Liste!$G$4:$G$1000,Einn._Liste!$E$4:$E$1000,115,Einn._Liste!$F$4:$F$1000,10) -> 0 | M13: =SUMIFS(Einn._Liste!$G$4:$G$1000,Einn._Liste!$E$4:$E$1000,115,Einn._Liste!$F$4:$F$1000,11) -> 0 | N13: =SUMIFS(Einn._Liste!$G$4:$G$1000,Einn._Liste!$E$4:$E$1000,115,Einn._Liste!$F$4:$F$1000,12) -> 0 | O13: =SUM(C13:N13) -> 0
A14: Arbeitslosengeld | B14: 116 | C14: =SUMIFS(Einn._Liste!$G$4:$G$1000,Einn._Liste!$E$4:$E$1000,116,Einn._Liste!$F$4:$F$1000,1) -> 0 | D14: =SUMIFS(Einn._Liste!$G$4:$G$1000,Einn._Liste!$E$4:$E$1000,116,Einn._Liste!$F$4:$F$1000,2) -> 0 | E14: =SUMIFS(Einn._Liste!$G$4:$G$1000,Einn._Liste!$E$4:$E$1000,116,Einn._Liste!$F$4:$F$1000,3) -> 0 | F14: =SUMIFS(Einn._Liste!$G$4:$G$1000,Einn._Liste!$E$4:$E$1000,116,Einn._Liste!$F$4:$F$1000,4) -> 0 | G14: =SUMIFS(Einn._Liste!$G$4:$G$1000,Einn._Liste!$E$4:$E$1000,116,Einn._Liste!$F$4:$F$1000,5) -> 0 | H14: =SUMIFS(Einn._Liste!$G$4:$G$1000,Einn._Liste!$E$4:$E$1000,116,Einn._Liste!$F$4:$F$1000,6) -> 0 | I14: =SUMIFS(Einn._Liste!$G$4:$G$1000,Einn._Liste!$E$4:$E$1000,116,Einn._Liste!$F$4:$F$1000,7) -> 0 | J14: =SUMIFS(Einn._Liste!$G$4:$G$1000,Einn._Liste!$E$4:$E$1000,116,Einn._Liste!$F$4:$F$1000,8) -> 0 | K14: =SUMIFS(Einn._Liste!$G$4:$G$1000,Einn._Liste!$E$4:$E$1000,116,Einn._Liste!$F$4:$F$1000,9) -> 0 | L14: =SUMIFS(Einn._Liste!$G$4:$G$1000,Einn._Liste!$E$4:$E$1000,116,Einn._Liste!$F$4:$F$1000,10) -> 0 | M14: =SUMIFS(Einn._Liste!$G$4:$G$1000,Einn._Liste!$E$4:$E$1000,116,Einn._Liste!$F$4:$F$1000,11) -> 0 | N14: =SUMIFS(Einn._Liste!$G$4:$G$1000,Einn._Liste!$E$4:$E$1000,116,Einn._Liste!$F$4:$F$1000,12) -> 0 | O14: =SUM(C14:N14) -> 0
A15: Private Zahlungen | B15: 120 | C15: =SUM(C16:C18) -> 0 | D15: =SUM(D16:D18) -> 0 | E15: =SUM(E16:E18) -> 0 | F15: =SUM(F16:F18) -> 0 | G15: =SUM(G16:G18) -> 0 | H15: =SUM(H16:H18) -> 0 | I15: =SUM(I16:I18) -> 0 | J15: =SUM(J16:J18) -> 0 | ... N15: =SUM(N16:N18) -> 0 | O15: =SUM(C15:N15) -> 0
A16: Unterhalt | B16: 121 | C16: =SUMIFS(Einn._Liste!$G$4:$G$1000,Einn._Liste!$E$4:$E$1000,121,Einn._Liste!$F$4:$F$1000,1) -> 0 | D16: =SUMIFS(Einn._Liste!$G$4:$G$1000,Einn._Liste!$E$4:$E$1000,121,Einn._Liste!$F$4:$F$1000,2) -> 0 | E16: =SUMIFS(Einn._Liste!$G$4:$G$1000,Einn._Liste!$E$4:$E$1000,121,Einn._Liste!$F$4:$F$1000,3) -> 0 | F16: =SUMIFS(Einn._Liste!$G$4:$G$1000,Einn._Liste!$E$4:$E$1000,121,Einn._Liste!$F$4:$F$1000,4) -> 0 | G16: =SUMIFS(Einn._Liste!$G$4:$G$1000,Einn._Liste!$E$4:$E$1000,121,Einn._Liste!$F$4:$F$1000,5) -> 0 | H16: =SUMIFS(Einn._Liste!$G$4:$G$1000,Einn._Liste!$E$4:$E$1000,121,Einn._Liste!$F$4:$F$1000,6) -> 0 | I16: =SUMIFS(Einn._Liste!$G$4:$G$1000,Einn._Liste!$E$4:$E$1000,121,Einn._Liste!$F$4:$F$1000,7) -> 0 | J16: =SUMIFS(Einn._Liste!$G$4:$G$1000,Einn._Liste!$E$4:$E$1000,121,Einn._Liste!$F$4:$F$1000,8) -> 0 | K16: =SUMIFS(Einn._Liste!$G$4:$G$1000,Einn._Liste!$E$4:$E$1000,121,Einn._Liste!$F$4:$F$1000,9) -> 0 | L16: =SUMIFS(Einn._Liste!$G$4:$G$1000,Einn._Liste!$E$4:$E$1000,121,Einn._Liste!$F$4:$F$1000,10) -> 0 | M16: =SUMIFS(Einn._Liste!$G$4:$G$1000,Einn._Liste!$E$4:$E$1000,121,Einn._Liste!$F$4:$F$1000,11) -> 0 | N16: =SUMIFS(Einn._Liste!$G$4:$G$1000,Einn._Liste!$E$4:$E$1000,121,Einn._Liste!$F$4:$F$1000,12) -> 0 | O16: =SUM(C16:N16) -> 0
A17: Geldgeschenke | B17: 122 | C17: =SUMIFS(Einn._Liste!$G$4:$G$1000,Einn._Liste!$E$4:$E$1000,122,Einn._Liste!$F$4:$F$1000,1) -> 0 | D17: =SUMIFS(Einn._Liste!$G$4:$G$1000,Einn._Liste!$E$4:$E$1000,122,Einn._Liste!$F$4:$F$1000,2) -> 0 | E17: =SUMIFS(Einn._Liste!$G$4:$G$1000,Einn._Liste!$E$4:$E$1000,122,Einn._Liste!$F$4:$F$1000,3) -> 0 | F17: =SUMIFS(Einn._Liste!$G$4:$G$1000,Einn._Liste!$E$4:$E$1000,122,Einn._Liste!$F$4:$F$1000,4) -> 0 | G17: =SUMIFS(Einn._Liste!$G$4:$G$1000,Einn._Liste!$E$4:$E$1000,122,Einn._Liste!$F$4:$F$1000,5) -> 0 | H17: =SUMIFS(Einn._Liste!$G$4:$G$1000,Einn._Liste!$E$4:$E$1000,122,Einn._Liste!$F$4:$F$1000,6) -> 0 | I17: =SUMIFS(Einn._Liste!$G$4:$G$1000,Einn._Liste!$E$4:$E$1000,122,Einn._Liste!$F$4:$F$1000,7) -> 0 | J17: =SUMIFS(Einn._Liste!$G$4:$G$1000,Einn._Liste!$E$4:$E$1000,122,Einn._Liste!$F$4:$F$1000,8) -> 0 | K17: =SUMIFS(Einn._Liste!$G$4:$G$1000,Einn._Liste!$E$4:$E$1000,122,Einn._Liste!$F$4:$F$1000,9) -> 0 | L17: =SUMIFS(Einn._Liste!$G$4:$G$1000,Einn._Liste!$E$4:$E$1000,122,Einn._Liste!$F$4:$F$1000,10) -> 0 | M17: =SUMIFS(Einn._Liste!$G$4:$G$1000,Einn._Liste!$E$4:$E$1000,122,Einn._Liste!$F$4:$F$1000,11) -> 0 | N17: =SUMIFS(Einn._Liste!$G$4:$G$1000,Einn._Liste!$E$4:$E$1000,122,Einn._Liste!$F$4:$F$1000,12) -> 0 | O17: =SUM(C17:N17) -> 0
A18: Sonstiges | B18: 123 | C18: =SUMIFS(Einn._Liste!$G$4:$G$1000,Einn._Liste!$E$4:$E$1000,123,Einn._Liste!$F$4:$F$1000,1) -> 0 | D18: =SUMIFS(Einn._Liste!$G$4:$G$1000,Einn._Liste!$E$4:$E$1000,123,Einn._Liste!$F$4:$F$1000,2) -> 0 | E18: =SUMIFS(Einn._Liste!$G$4:$G$1000,Einn._Liste!$E$4:$E$1000,123,Einn._Liste!$F$4:$F$1000,3) -> 0 | F18: =SUMIFS(Einn._Liste!$G$4:$G$1000,Einn._Liste!$E$4:$E$1000,123,Einn._Liste!$F$4:$F$1000,4) -> 0 | G18: =SUMIFS(Einn._Liste!$G$4:$G$1000,Einn._Liste!$E$4:$E$1000,123,Einn._Liste!$F$4:$F$1000,5) -> 0 | H18: =SUMIFS(Einn._Liste!$G$4:$G$1000,Einn._Liste!$E$4:$E$1000,123,Einn._Liste!$F$4:$F$1000,6) -> 0 | I18: =SUMIFS(Einn._Liste!$G$4:$G$1000,Einn._Liste!$E$4:$E$1000,123,Einn._Liste!$F$4:$F$1000,7) -> 0 | J18: =SUMIFS(Einn._Liste!$G$4:$G$1000,Einn._Liste!$E$4:$E$1000,123,Einn._Liste!$F$4:$F$1000,8) -> 0 | K18: =SUMIFS(Einn._Liste!$G$4:$G$1000,Einn._Liste!$E$4:$E$1000,123,Einn._Liste!$F$4:$F$1000,9) -> 0 | L18: =SUMIFS(Einn._Liste!$G$4:$G$1000,Einn._Liste!$E$4:$E$1000,123,Einn._Liste!$F$4:$F$1000,10) -> 0 | M18: =SUMIFS(Einn._Liste!$G$4:$G$1000,Einn._Liste!$E$4:$E$1000,123,Einn._Liste!$F$4:$F$1000,11) -> 0 | N18: =SUMIFS(Einn._Liste!$G$4:$G$1000,Einn._Liste!$E$4:$E$1000,123,Einn._Liste!$F$4:$F$1000,12) -> 0 | O18: =SUM(C18:N18) -> 0
A19: Einnahmen aus Vermögen | B19: 130 | C19: =SUM(C20:C24) -> 0 | D19: =SUM(D20:D24) -> 0 | E19: =SUM(E20:E24) -> 0 | F19: =SUM(F20:F24) -> 0 | G19: =SUM(G20:G24) -> 0 | H19: =SUM(H20:H24) -> 0 | I19: =SUM(I20:I24) -> 0 | J19: =SUM(J20:J24) -> 0 | ... N19: =SUM(N20:N24) -> 0 | O19: =SUM(C19:N19) -> 0
A20: Zinsen | B20: 131 | C20: =SUMIFS(Einn._Liste!$G$4:$G$1000,Einn._Liste!$E$4:$E$1000,131,Einn._Liste!$F$4:$F$1000,1) -> 0 | D20: =SUMIFS(Einn._Liste!$G$4:$G$1000,Einn._Liste!$E$4:$E$1000,131,Einn._Liste!$F$4:$F$1000,2) -> 0 | E20: =SUMIFS(Einn._Liste!$G$4:$G$1000,Einn._Liste!$E$4:$E$1000,131,Einn._Liste!$F$4:$F$1000,3) -> 0 | F20: =SUMIFS(Einn._Liste!$G$4:$G$1000,Einn._Liste!$E$4:$E$1000,131,Einn._Liste!$F$4:$F$1000,4) -> 0 | G20: =SUMIFS(Einn._Liste!$G$4:$G$1000,Einn._Liste!$E$4:$E$1000,131,Einn._Liste!$F$4:$F$1000,5) -> 0 | H20: =SUMIFS(Einn._Liste!$G$4:$G$1000,Einn._Liste!$E$4:$E$1000,131,Einn._Liste!$F$4:$F$1000,6) -> 0 | I20: =SUMIFS(Einn._Liste!$G$4:$G$1000,Einn._Liste!$E$4:$E$1000,131,Einn._Liste!$F$4:$F$1000,7) -> 0 | J20: =SUMIFS(Einn._Liste!$G$4:$G$1000,Einn._Liste!$E$4:$E$1000,131,Einn._Liste!$F$4:$F$1000,8) -> 0 | K20: =SUMIFS(Einn._Liste!$G$4:$G$1000,Einn._Liste!$E$4:$E$1000,131,Einn._Liste!$F$4:$F$1000,9) -> 0 | L20: =SUMIFS(Einn._Liste!$G$4:$G$1000,Einn._Liste!$E$4:$E$1000,131,Einn._Liste!$F$4:$F$1000,10) -> 0 | M20: =SUMIFS(Einn._Liste!$G$4:$G$1000,Einn._Liste!$E$4:$E$1000,131,Einn._Liste!$F$4:$F$1000,11) -> 0 | N20: =SUMIFS(Einn._Liste!$G$4:$G$1000,Einn._Liste!$E$4:$E$1000,131,Einn._Liste!$F$4:$F$1000,12) -> 0 | O20: =SUM(C20:N20) -> 0
A21: Dividenden | B21: 132 | C21: =SUMIFS(Einn._Liste!$G$4:$G$1000,Einn._Liste!$E$4:$E$1000,132,Einn._Liste!$F$4:$F$1000,1) -> 0 | D21: =SUMIFS(Einn._Liste!$G$4:$G$1000,Einn._Liste!$E$4:$E$1000,132,Einn._Liste!$F$4:$F$1000,2) -> 0 | E21: =SUMIFS(Einn._Liste!$G$4:$G$1000,Einn._Liste!$E$4:$E$1000,132,Einn._Liste!$F$4:$F$1000,3) -> 0 | F21: =SUMIFS(Einn._Liste!$G$4:$G$1000,Einn._Liste!$E$4:$E$1000,132,Einn._Liste!$F$4:$F$1000,4) -> 0 | G21: =SUMIFS(Einn._Liste!$G$4:$G$1000,Einn._Liste!$E$4:$E$1000,132,Einn._Liste!$F$4:$F$1000,5) -> 0 | H21: =SUMIFS(Einn._Liste!$G$4:$G$1000,Einn._Liste!$E$4:$E$1000,132,Einn._Liste!$F$4:$F$1000,6) -> 0 | I21: =SUMIFS(Einn._Liste!$G$4:$G$1000,Einn._Liste!$E$4:$E$1000,132,Einn._Liste!$F$4:$F$1000,7) -> 0 | J21: =SUMIFS(Einn._Liste!$G$4:$G$1000,Einn._Liste!$E$4:$E$1000,132,Einn._Liste!$F$4:$F$1000,8) -> 0 | K21: =SUMIFS(Einn._Liste!$G$4:$G$1000,Einn._Liste!$E$4:$E$1000,132,Einn._Liste!$F$4:$F$1000,9) -> 0 | L21: =SUMIFS(Einn._Liste!$G$4:$G$1000,Einn._Liste!$E$4:$E$1000,132,Einn._Liste!$F$4:$F$1000,10) -> 0 | M21: =SUMIFS(Einn._Liste!$G$4:$G$1000,Einn._Liste!$E$4:$E$1000,132,Einn._Liste!$F$4:$F$1000,11) -> 0 | N21: =SUMIFS(Einn._Liste!$G$4:$G$1000,Einn._Liste!$E$4:$E$1000,132,Einn._Liste!$F$4:$F$1000,12) -> 0 | O21: =SUM(C21:N21) -> 0
A22: Sparbeträge, ausgezahlt | B22: 133 | C22: =SUMIFS(Einn._Liste!$G$4:$G$1000,Einn._Liste!$E$4:$E$1000,133,Einn._Liste!$F$4:$F$1000,1) -> 0 | D22: =SUMIFS(Einn._Liste!$G$4:$G$1000,Einn._Liste!$E$4:$E$1000,133,Einn._Liste!$F$4:$F$1000,2) -> 0 | E22: =SUMIFS(Einn._Liste!$G$4:$G$1000,Einn._Liste!$E$4:$E$1000,133,Einn._Liste!$F$4:$F$1000,3) -> 0 | F22: =SUMIFS(Einn._Liste!$G$4:$G$1000,Einn._Liste!$E$4:$E$1000,133,Einn._Liste!$F$4:$F$1000,4) -> 0 | G22: =SUMIFS(Einn._Liste!$G$4:$G$1000,Einn._Liste!$E$4:$E$1000,133,Einn._Liste!$F$4:$F$1000,5) -> 0 | H22: =SUMIFS(Einn._Liste!$G$4:$G$1000,Einn._Liste!$E$4:$E$1000,133,Einn._Liste!$F$4:$F$1000,6) -> 0 | I22: =SUMIFS(Einn._Liste!$G$4:$G$1000,Einn._Liste!$E$4:$E$1000,133,Einn._Liste!$F$4:$F$1000,7) -> 0 | J22: =SUMIFS(Einn._Liste!$G$4:$G$1000,Einn._Liste!$E$4:$E$1000,133,Einn._Liste!$F$4:$F$1000,8) -> 0 | K22: =SUMIFS(Einn._Liste!$G$4:$G$1000,Einn._Liste!$E$4:$E$1000,133,Einn._Liste!$F$4:$F$1000,9) -> 0 | L22: =SUMIFS(Einn._Liste!$G$4:$G$1000,Einn._Liste!$E$4:$E$1000,133,Einn._Liste!$F$4:$F$1000,10) -> 0 | M22: =SUMIFS(Einn._Liste!$G$4:$G$1000,Einn._Liste!$E$4:$E$1000,133,Einn._Liste!$F$4:$F$1000,11) -> 0 | N22: =SUMIFS(Einn._Liste!$G$4:$G$1000,Einn._Liste!$E$4:$E$1000,133,Einn._Liste!$F$4:$F$1000,12) -> 0 | O22: =SUM(C22:N22) -> 0
A23: Kursgewinne | B23: 134 | C23: =SUMIFS(Einn._Liste!$G$4:$G$1000,Einn._Liste!$E$4:$E$1000,134,Einn._Liste!$F$4:$F$1000,1) -> 0 | D23: =SUMIFS(Einn._Liste!$G$4:$G$1000,Einn._Liste!$E$4:$E$1000,134,Einn._Liste!$F$4:$F$1000,2) -> 0 | E23: =SUMIFS(Einn._Liste!$G$4:$G$1000,Einn._Liste!$E$4:$E$1000,134,Einn._Liste!$F$4:$F$1000,3) -> 0 | F23: =SUMIFS(Einn._Liste!$G$4:$G$1000,Einn._Liste!$E$4:$E$1000,134,Einn._Liste!$F$4:$F$1000,4) -> 0 | G23: =SUMIFS(Einn._Liste!$G$4:$G$1000,Einn._Liste!$E$4:$E$1000,134,Einn._Liste!$F$4:$F$1000,5) -> 0 | H23: =SUMIFS(Einn._Liste!$G$4:$G$1000,Einn._Liste!$E$4:$E$1000,134,Einn._Liste!$F$4:$F$1000,6) -> 0 | I23: =SUMIFS(Einn._Liste!$G$4:$G$1000,Einn._Liste!$E$4:$E$1000,134,Einn._Liste!$F$4:$F$1000,7) -> 0 | J23: =SUMIFS(Einn._Liste!$G$4:$G$1000,Einn._Liste!$E$4:$E$1000,134,Einn._Liste!$F$4:$F$1000,8) -> 0 | K23: =SUMIFS(Einn._Liste!$G$4:$G$1000,Einn._Liste!$E$4:$E$1000,134,Einn._Liste!$F$4:$F$1000,9) -> 0 | L23: =SUMIFS(Einn._Liste!$G$4:$G$1000,Einn._Liste!$E$4:$E$1000,134,Einn._Liste!$F$4:$F$1000,10) -> 0 | M23: =SUMIFS(Einn._Liste!$G$4:$G$1000,Einn._Liste!$E$4:$E$1000,134,Einn._Liste!$F$4:$F$1000,11) -> 0 | N23: =SUMIFS(Einn._Liste!$G$4:$G$1000,Einn._Liste!$E$4:$E$1000,134,Einn._Liste!$F$4:$F$1000,12) -> 0 | O23: =SUM(C23:N23) -> 0
A24: Mieteinnahmen | B24: 135 | C24: =SUMIFS(Einn._Liste!$G$4:$G$1000,Einn._Liste!$E$4:$E$1000,135,Einn._Liste!$F$4:$F$1000,1) -> 0 | D24: =SUMIFS(Einn._Liste!$G$4:$G$1000,Einn._Liste!$E$4:$E$1000,135,Einn._Liste!$F$4:$F$1000,2) -> 0 | E24: =SUMIFS(Einn._Liste!$G$4:$G$1000,Einn._Liste!$E$4:$E$1000,135,Einn._Liste!$F$4:$F$1000,3) -> 0 | F24: =SUMIFS(Einn._Liste!$G$4:$G$1000,Einn._Liste!$E$4:$E$1000,135,Einn._Liste!$F$4:$F$1000,4) -> 0 | G24: =SUMIFS(Einn._Liste!$G$4:$G$1000,Einn._Liste!$E$4:$E$1000,135,Einn._Liste!$F$4:$F$1000,5) -> 0 | H24: =SUMIFS(Einn._Liste!$G$4:$G$1000,Einn._Liste!$E$4:$E$1000,135,Einn._Liste!$F$4:$F$1000,6) -> 0 | I24: =SUMIFS(Einn._Liste!$G$4:$G$1000,Einn._Liste!$E$4:$E$1000,135,Einn._Liste!$F$4:$F$1000,7) -> 0 | J24: =SUMIFS(Einn._Liste!$G$4:$G$1000,Einn._Liste!$E$4:$E$1000,135,Einn._Liste!$F$4:$F$1000,8) -> 0 | K24: =SUMIFS(Einn._Liste!$G$4:$G$1000,Einn._Liste!$E$4:$E$1000,135,Einn._Liste!$F$4:$F$1000,9) -> 0 | L24: =SUMIFS(Einn._Liste!$G$4:$G$1000,Einn._Liste!$E$4:$E$1000,135,Einn._Liste!$F$4:$F$1000,10) -> 0 | M24: =SUMIFS(Einn._Liste!$G$4:$G$1000,Einn._Liste!$E$4:$E$1000,135,Einn._Liste!$F$4:$F$1000,11) -> 0 | N24: =SUMIFS(Einn._Liste!$G$4:$G$1000,Einn._Liste!$E$4:$E$1000,135,Einn._Liste!$F$4:$F$1000,12) -> 0 | O24: =SUM(C24:N24) -> 0
A25: Rückerstattung | B25: 140 | C25: =SUM(C26:C30) -> 0 | D25: =SUM(D26:D30) -> 0 | E25: =SUM(E26:E30) -> 0 | F25: =SUM(F26:F30) -> 0 | G25: =SUM(G26:G30) -> 0 | H25: =SUM(H26:H30) -> 0 | I25: =SUM(I26:I30) -> 0 | J25: =SUM(J26:J30) -> 0 | ... N25: =SUM(N26:N30) -> 0 | O25: =SUM(C25:N25) -> 0
A26: Steuer | B26: 141 | C26: =SUMIFS(Einn._Liste!$G$4:$G$1000,Einn._Liste!$E$4:$E$1000,141,Einn._Liste!$F$4:$F$1000,1) -> 0 | D26: =SUMIFS(Einn._Liste!$G$4:$G$1000,Einn._Liste!$E$4:$E$1000,141,Einn._Liste!$F$4:$F$1000,2) -> 0 | E26: =SUMIFS(Einn._Liste!$G$4:$G$1000,Einn._Liste!$E$4:$E$1000,141,Einn._Liste!$F$4:$F$1000,3) -> 0 | F26: =SUMIFS(Einn._Liste!$G$4:$G$1000,Einn._Liste!$E$4:$E$1000,141,Einn._Liste!$F$4:$F$1000,4) -> 0 | G26: =SUMIFS(Einn._Liste!$G$4:$G$1000,Einn._Liste!$E$4:$E$1000,141,Einn._Liste!$F$4:$F$1000,5) -> 0 | H26: =SUMIFS(Einn._Liste!$G$4:$G$1000,Einn._Liste!$E$4:$E$1000,141,Einn._Liste!$F$4:$F$1000,6) -> 0 | I26: =SUMIFS(Einn._Liste!$G$4:$G$1000,Einn._Liste!$E$4:$E$1000,141,Einn._Liste!$F$4:$F$1000,7) -> 0 | J26: =SUMIFS(Einn._Liste!$G$4:$G$1000,Einn._Liste!$E$4:$E$1000,141,Einn._Liste!$F$4:$F$1000,8) -> 0 | K26: =SUMIFS(Einn._Liste!$G$4:$G$1000,Einn._Liste!$E$4:$E$1000,141,Einn._Liste!$F$4:$F$1000,9) -> 0 | L26: =SUMIFS(Einn._Liste!$G$4:$G$1000,Einn._Liste!$E$4:$E$1000,141,Einn._Liste!$F$4:$F$1000,10) -> 0 | M26: =SUMIFS(Einn._Liste!$G$4:$G$1000,Einn._Liste!$E$4:$E$1000,141,Einn._Liste!$F$4:$F$1000,11) -> 0 | N26: =SUMIFS(Einn._Liste!$G$4:$G$1000,Einn._Liste!$E$4:$E$1000,141,Einn._Liste!$F$4:$F$1000,12) -> 0 | O26: =SUM(C26:N26) -> 0
A27: Strom, Gas, Wasser | B27: 142 | C27: =SUMIFS(Einn._Liste!$G$4:$G$1000,Einn._Liste!$E$4:$E$1000,142,Einn._Liste!$F$4:$F$1000,1) -> 0 | D27: =SUMIFS(Einn._Liste!$G$4:$G$1000,Einn._Liste!$E$4:$E$1000,142,Einn._Liste!$F$4:$F$1000,2) -> 0 | E27: =SUMIFS(Einn._Liste!$G$4:$G$1000,Einn._Liste!$E$4:$E$1000,142,Einn._Liste!$F$4:$F$1000,3) -> 0 | F27: =SUMIFS(Einn._Liste!$G$4:$G$1000,Einn._Liste!$E$4:$E$1000,142,Einn._Liste!$F$4:$F$1000,4) -> 0 | G27: =SUMIFS(Einn._Liste!$G$4:$G$1000,Einn._Liste!$E$4:$E$1000,142,Einn._Liste!$F$4:$F$1000,5) -> 0 | H27: =SUMIFS(Einn._Liste!$G$4:$G$1000,Einn._Liste!$E$4:$E$1000,142,Einn._Liste!$F$4:$F$1000,6) -> 0 | I27: =SUMIFS(Einn._Liste!$G$4:$G$1000,Einn._Liste!$E$4:$E$1000,142,Einn._Liste!$F$4:$F$1000,7) -> 0 | J27: =SUMIFS(Einn._Liste!$G$4:$G$1000,Einn._Liste!$E$4:$E$1000,142,Einn._Liste!$F$4:$F$1000,8) -> 0 | K27: =SUMIFS(Einn._Liste!$G$4:$G$1000,Einn._Liste!$E$4:$E$1000,142,Einn._Liste!$F$4:$F$1000,9) -> 0 | L27: =SUMIFS(Einn._Liste!$G$4:$G$1000,Einn._Liste!$E$4:$E$1000,142,Einn._Liste!$F$4:$F$1000,10) -> 0 | M27: =SUMIFS(Einn._Liste!$G$4:$G$1000,Einn._Liste!$E$4:$E$1000,142,Einn._Liste!$F$4:$F$1000,11) -> 0 | N27: =SUMIFS(Einn._Liste!$G$4:$G$1000,Einn._Liste!$E$4:$E$1000,142,Einn._Liste!$F$4:$F$1000,12) -> 0 | O27: =SUM(C27:N27) -> 0
A28: Krankenkasse | B28: 143 | C28: =SUMIFS(Einn._Liste!$G$4:$G$1000,Einn._Liste!$E$4:$E$1000,143,Einn._Liste!$F$4:$F$1000,1) -> 0 | D28: =SUMIFS(Einn._Liste!$G$4:$G$1000,Einn._Liste!$E$4:$E$1000,143,Einn._Liste!$F$4:$F$1000,2) -> 0 | E28: =SUMIFS(Einn._Liste!$G$4:$G$1000,Einn._Liste!$E$4:$E$1000,143,Einn._Liste!$F$4:$F$1000,3) -> 0 | F28: =SUMIFS(Einn._Liste!$G$4:$G$1000,Einn._Liste!$E$4:$E$1000,143,Einn._Liste!$F$4:$F$1000,4) -> 0 | G28: =SUMIFS(Einn._Liste!$G$4:$G$1000,Einn._Liste!$E$4:$E$1000,143,Einn._Liste!$F$4:$F$1000,5) -> 0 | H28: =SUMIFS(Einn._Liste!$G$4:$G$1000,Einn._Liste!$E$4:$E$1000,143,Einn._Liste!$F$4:$F$1000,6) -> 0 | I28: =SUMIFS(Einn._Liste!$G$4:$G$1000,Einn._Liste!$E$4:$E$1000,143,Einn._Liste!$F$4:$F$1000,7) -> 0 | J28: =SUMIFS(Einn._Liste!$G$4:$G$1000,Einn._Liste!$E$4:$E$1000,143,Einn._Liste!$F$4:$F$1000,8) -> 0 | K28: =SUMIFS(Einn._Liste!$G$4:$G$1000,Einn._Liste!$E$4:$E$1000,143,Einn._Liste!$F$4:$F$1000,9) -> 0 | L28: =SUMIFS(Einn._Liste!$G$4:$G$1000,Einn._Liste!$E$4:$E$1000,143,Einn._Liste!$F$4:$F$1000,10) -> 0 | M28: =SUMIFS(Einn._Liste!$G$4:$G$1000,Einn._Liste!$E$4:$E$1000,143,Einn._Liste!$F$4:$F$1000,11) -> 0 | N28: =SUMIFS(Einn._Liste!$G$4:$G$1000,Einn._Liste!$E$4:$E$1000,143,Einn._Liste!$F$4:$F$1000,12) -> 0 | O28: =SUM(C28:N28) -> 0
A29: Beihilfe | B29: 144 | C29: =SUMIFS(Einn._Liste!$G$4:$G$1000,Einn._Liste!$E$4:$E$1000,144,Einn._Liste!$F$4:$F$1000,1) -> 0 | D29: =SUMIFS(Einn._Liste!$G$4:$G$1000,Einn._Liste!$E$4:$E$1000,144,Einn._Liste!$F$4:$F$1000,2) -> 0 | E29: =SUMIFS(Einn._Liste!$G$4:$G$1000,Einn._Liste!$E$4:$E$1000,144,Einn._Liste!$F$4:$F$1000,3) -> 0 | F29: =SUMIFS(Einn._Liste!$G$4:$G$1000,Einn._Liste!$E$4:$E$1000,144,Einn._Liste!$F$4:$F$1000,4) -> 0 | G29: =SUMIFS(Einn._Liste!$G$4:$G$1000,Einn._Liste!$E$4:$E$1000,144,Einn._Liste!$F$4:$F$1000,5) -> 0 | H29: =SUMIFS(Einn._Liste!$G$4:$G$1000,Einn._Liste!$E$4:$E$1000,144,Einn._Liste!$F$4:$F$1000,6) -> 0 | I29: =SUMIFS(Einn._Liste!$G$4:$G$1000,Einn._Liste!$E$4:$E$1000,144,Einn._Liste!$F$4:$F$1000,7) -> 0 | J29: =SUMIFS(Einn._Liste!$G$4:$G$1000,Einn._Liste!$E$4:$E$1000,144,Einn._Liste!$F$4:$F$1000,8) -> 0 | K29: =SUMIFS(Einn._Liste!$G$4:$G$1000,Einn._Liste!$E$4:$E$1000,144,Einn._Liste!$F$4:$F$1000,9) -> 0 | L29: =SUMIFS(Einn._Liste!$G$4:$G$1000,Einn._Liste!$E$4:$E$1000,144,Einn._Liste!$F$4:$F$1000,10) -> 0 | M29: =SUMIFS(Einn._Liste!$G$4:$G$1000,Einn._Liste!$E$4:$E$1000,144,Einn._Liste!$F$4:$F$1000,11) -> 0 | N29: =SUMIFS(Einn._Liste!$G$4:$G$1000,Einn._Liste!$E$4:$E$1000,144,Einn._Liste!$F$4:$F$1000,12) -> 0 | O29: =SUM(C29:N29) -> 0
A30: Versicherungsbeiträge | B30: 145 | C30: =SUMIFS(Einn._Liste!$G$4:$G$1000,Einn._Liste!$E$4:$E$1000,145,Einn._Liste!$F$4:$F$1000,1) -> 0 | D30: =SUMIFS(Einn._Liste!$G$4:$G$1000,Einn._Liste!$E$4:$E$1000,145,Einn._Liste!$F$4:$F$1000,2) -> 0 | E30: =SUMIFS(Einn._Liste!$G$4:$G$1000,Einn._Liste!$E$4:$E$1000,145,Einn._Liste!$F$4:$F$1000,3) -> 0 | F30: =SUMIFS(Einn._Liste!$G$4:$G$1000,Einn._Liste!$E$4:$E$1000,145,Einn._Liste!$F$4:$F$1000,4) -> 0 | G30: =SUMIFS(Einn._Liste!$G$4:$G$1000,Einn._Liste!$E$4:$E$1000,145,Einn._Liste!$F$4:$F$1000,5) -> 0 | H30: =SUMIFS(Einn._Liste!$G$4:$G$1000,Einn._Liste!$E$4:$E$1000,145,Einn._Liste!$F$4:$F$1000,6) -> 0 | I30: =SUMIFS(Einn._Liste!$G$4:$G$1000,Einn._Liste!$E$4:$E$1000,145,Einn._Liste!$F$4:$F$1000,7) -> 0 | J30: =SUMIFS(Einn._Liste!$G$4:$G$1000,Einn._Liste!$E$4:$E$1000,145,Einn._Liste!$F$4:$F$1000,8) -> 0 | K30: =SUMIFS(Einn._Liste!$G$4:$G$1000,Einn._Liste!$E$4:$E$1000,145,Einn._Liste!$F$4:$F$1000,9) -> 0 | L30: =SUMIFS(Einn._Liste!$G$4:$G$1000,Einn._Liste!$E$4:$E$1000,145,Einn._Liste!$F$4:$F$1000,10) -> 0 | M30: =SUMIFS(Einn._Liste!$G$4:$G$1000,Einn._Liste!$E$4:$E$1000,145,Einn._Liste!$F$4:$F$1000,11) -> 0 | N30: =SUMIFS(Einn._Liste!$G$4:$G$1000,Einn._Liste!$E$4:$E$1000,145,Einn._Liste!$F$4:$F$1000,12) -> 0 | O30: =SUM(C30:N30) -> 0
A31: Kredite, Darlehen | B31: 150 | C31: =SUMIFS(Einn._Liste!$G$4:$G$1000,Einn._Liste!$E$4:$E$1000,150,Einn._Liste!$F$4:$F$1000,1) -> 0 | D31: =SUMIFS(Einn._Liste!$G$4:$G$1000,Einn._Liste!$E$4:$E$1000,150,Einn._Liste!$F$4:$F$1000,2) -> 0 | E31: =SUMIFS(Einn._Liste!$G$4:$G$1000,Einn._Liste!$E$4:$E$1000,150,Einn._Liste!$F$4:$F$1000,3) -> 0 | F31: =SUMIFS(Einn._Liste!$G$4:$G$1000,Einn._Liste!$E$4:$E$1000,150,Einn._Liste!$F$4:$F$1000,4) -> 0 | G31: =SUMIFS(Einn._Liste!$G$4:$G$1000,Einn._Liste!$E$4:$E$1000,150,Einn._Liste!$F$4:$F$1000,5) -> 0 | H31: =SUMIFS(Einn._Liste!$G$4:$G$1000,Einn._Liste!$E$4:$E$1000,150,Einn._Liste!$F$4:$F$1000,6) -> 0 | I31: =SUMIFS(Einn._Liste!$G$4:$G$1000,Einn._Liste!$E$4:$E$1000,150,Einn._Liste!$F$4:$F$1000,7) -> 0 | J31: =SUMIFS(Einn._Liste!$G$4:$G$1000,Einn._Liste!$E$4:$E$1000,150,Einn._Liste!$F$4:$F$1000,8) -> 0 | K31: =SUMIFS(Einn._Liste!$G$4:$G$1000,Einn._Liste!$E$4:$E$1000,150,Einn._Liste!$F$4:$F$1000,9) -> 0 | L31: =SUMIFS(Einn._Liste!$G$4:$G$1000,Einn._Liste!$E$4:$E$1000,150,Einn._Liste!$F$4:$F$1000,10) -> 0 | M31: =SUMIFS(Einn._Liste!$G$4:$G$1000,Einn._Liste!$E$4:$E$1000,150,Einn._Liste!$F$4:$F$1000,11) -> 0 | N31: =SUMIFS(Einn._Liste!$G$4:$G$1000,Einn._Liste!$E$4:$E$1000,150,Einn._Liste!$F$4:$F$1000,12) -> 0 | O31: =SUM(C31:N31) -> 0

Sheet Ausgaben
