Workbook
Name Abkürzung: #REF!
Name Abkürzung: #REF!
Name Abkürzung: #REF!
Name Abkürzung: #REF!
Name Abkürzung: #REF!
Name Abkürzung: #REF!
Name Abkürzung: #REF!
Name Abkürzung: #REF!
Name igrendwie: #REF!
Name igrendwie: #REF!
Name igrendwie: #REF!
Name igrendwie: #REF!
Name km: #REF!
Name km: #REF!
Name km: #REF!
Name km: #REF!
Name km: #REF!
Name km: #REF!
Name km: #REF!
Name km: #REF!
Name Kurse: #REF!
Name Kurse: #REF!
Name Kurse: #REF!
Name Kurse: #REF!
Name Kurse: #REF!
Name Kurse: #REF!
Name Kurse: #REF!
Name Kurse: #REF!
Name Name: #REF!
Name Name: #REF!
Name Name: #REF!
Name Name: #REF!
Name Name: #REF!
Name Name: #REF!
Name Name: #REF!
Name Name: #REF!
Name Ort: #REF!
Name Ort: #REF!
Name Ort: #REF!
Name Ort: #REF!
Name Ort: #REF!
Name Ort: #REF!
Name Ort: #REF!
Name Ort: #REF!
Name Umrechnungskurs: #REF!
Name Umrechnungskurs: #REF!
Name Umrechnungskurs: #REF!
Name Umrechnungskurs: #REF!
Name Umrechnungskurs: #REF!
Name Umrechnungskurs: #REF!
Name Umrechnungskurs: #REF!
Name Umrechnungskurs: #REF!
Name xx: #REF!
Name xx: #REF!
Name xx: #REF!
Name xxx: #REF!
Name xxx: #REF!
Name xxx: #REF!
Name xxx: #REF!

Sheet Info
A1: Persönlicher Excel_Jahreskalender
A2: Erstellen Sie Ihre Tagesaufzeichnungen, Vermerke und Termine in Excel. Sie können nach Bedarf auch Bilder einfügen.
A3: Es entsteht so ein ganz persönlicher Almanach.
A5: Excel-Anwendung von
A6: WERNER LUCK
A8: INHALT
A9: Info | B9: Dieses Blatt
A10: E | B10: Erläuterungen und Anweisungen zum Gebrauch der Arbeitsmappe
A11: A | B11: Angaben allgemeiner Art, Hyperlinks, weitere Erläuterungen, Formeln
A12: Jahreskalender | B12: mit Zusammenstellung von Urlaubs-, Krankheits-, FT- und Sonderurlaubstagen (FT = freie Tage)
A13: Adressen | B13: Persönliche Adressenübersicht
A14: Lebensfreude | B14: Merksätze zu Lebenskunst und Lebensfreude
A15: Regeln | B15: Wichtige "Lebensregeln" zu Artikulation, Rhetorik, Zusammenarbeit, Umgang mit der Zeit, Gruppenzusammenarbeit,
B16: Präsentation, Information, Motivation u.a.
A17: Merksätze | B17: Merksätze, Sprichwörter, Redensarten, Assoziationen, Sinnsprüche
A18: Tierkreise | B18: Astrologische Tierkreiszeichen
A19: Geburtstagsliste | B19: Vorlage, aus der der Eintrag der Geburtstage im Kalendarium gesteuert wird
A20: Geburtstage | B20: Geburtstagsübersicht
A21: Sterbetage | B21: Sterbetageübersicht
A22: Feiertage | B22: Vorlage, aus der der Eintrag der Feiertage im Kalendarium gesteuert wird
A23: Merktage | B23: Vorlage, aus der der Eintrag der Merktage im Kalendarium gesteuert wird
A24: Monat Vorlage | B24: Monatsübersicht mit Motto oder Merksatz, allgemeinen Terminvorgaben, Vermerken und Aufgabenverwaltung
A25: KW Vorlage | B25: Übersicht über die Kalenderwoche mit Aufzeichnungsmöglichkeiten
A26: Tageskalender | B26: Detaillierter Tageskalender bei Bedarf
A27: Tagesplan | B27: Detaillierter Tagesplan bei Bedarf
A28: Wochenplan | B28: Wochenplanung und Vormerkungen bei Bedarf
A30: Excel-Anwendung "Persönlicher Jahreskalender"
A31: Entwickelt von Werner Luck
A32: Hauptstraße 2
A33: 54413 Beuren
A34: Tel.: 06586/986025
A35: E-Mail: wernerluck@web.de

Sheet E
A1: Erläuterungen und Anweisungen zum Gebrauch der Arbeitsmappe
A3: Vorgehen beim Erstellen eines Jahreskalenders
A4: Schritt | B4: Arbeit | C4: Beschreibung des Vorgehens | D4: Bemerkungen
A5: 1 | B5: Kopieren der Vorlage
A6: 2 | B6: Umstellen aller Datumsangaben | C6: Tabellen Geburtstagliste, Feiertage, Merktage | D6: Eingabe des betreffenden Jahres (Ersetzen)
A7: 3 | B7: Anlegen des Kalenderjahres | C7: Kopieren der Tabellen "Monat Vorlage" und "KW Vorlage" | D7: Datum eingeben und Woche markieren
A8: 4 | B8: Bezüge kontrollieren und ggfls. korrigieren
A20: Erläuterungen
A21: Lfd. Nr. | B21: Beschreibung / Vorgabe | C21: Erklärungen
A22: 1
A23: 2

Sheet A
A1: KW 1 | B1: 2020 | H1: Erklärungen, Erläuterungen, Anweisungen:
B2: Allgemeine Angaben | D2: Aktuelle Namen | H2: Formel Geburtstagsnamen einblenden:
D3: =A1 -> KW 1 | H3: 1. Zeile: SVERWEIS(B6;Geburtstagsliste'!$A$3:$D$70;4;FALSCH)
D4: NN | H4: 2. Zeile: SVERWEIS(B6;Geburtstagsliste'!$B$3:$D$70;3;FALSCH) | M4: doppelt
B5: Geben Sie das Datum des ersten | D5: NN | H5: 3. Zeile: SVERWEIS(B6;Geburtstagsliste'!$C$3:$D$70;2;FALSCH) | M5: dreifach
B6: Montags im Jahr hier in Zelle B7 ein: | D6: NN | H6: Die 2. und 3. Zeile dienen dazu, Geburtstage darzustellen, die doppelt und dreifach
B7: 43829 | D7: NN | H7: vorhanden sind. Kommen weitere Geburtstage mit gleichem Datum vor, können sie
H8: derzeit nur händisch nachgetragen werden.
H9: Wenn kein Geburtstagskind am betreffenden Datum vorhanden ist, erscheint der
H10: Fehlerwert #NV. Dieser kann durch eine bedingte Formatierung ausgeblendet werden
A11: Hyperlinks zu den Monatsübersichten | C11: Jan | D11: Hyperlinks zu den Kalender- | E11: 1 | F11: 27 | H11: (Beitrag F 204 des Excel-Beraters)!
A12: (Die Hyperlinks sind nach dem Erstellen des neuen Jahres- | C12: Feb | D12: Wochen | E12: 2 | F12: 28
A13: kalenders zu aktivieren [Menue "Einfügen"]) | C13: Mrz | E13: 3 | F13: 29
C14: Apr | E14: 4 | F14: 30 | H14: Feiertage werden via Liste und SVerweis eingetragen und per bedingter
A15: Zusammenstellung | C15: Mai | E15: 5 | F15: 31 | H15: Fomatierung automatisch lila eingefärbt.
A16: von "Nicht-Arbeitstagen" im Kalenderjahr: | C16: Jun | E16: 6 | F16: 32 | H16: Gleichermaßen wird beim Eintrag der Merktage vorgegangen. Sie werden
A17: Urlaubstage im KJ: | B17: SUMME(Jan!N27;Feb!N27;Mrz!N27;Apr!N27;Mai!N27;Juni!N27;Juli!N27;Aug!N27;Sep!N27;Okt!N27;Nov!N27;Dez!N27) | C17: Jul | E17: 7 | F17: 33 | H17: hellblau eingefärbt.
A18: Freie Tage im KJ: | B18: SUMME(Jan!N28;Feb!N28;Mrz!N28;Apr!N28;Mai!N28;Juni!N28;Juli!N28;Aug!N28;Sep!N28;Okt!N28;Nov!N28;Dez!N28) | C18: Aug | E18: 8 | F18: 34
A19: Krankheitstage im KJ: | B19: SUMME(Jan!N29;Feb!N29;Mrz!N29;Apr!N29;Mai!N29;Juni!N29;Juli!N29;Aug!N29;Sep!N29;Okt!N29;Nov!N29;Dez!N29) | C19: Sep | E19: 9 | F19: 35 | H19: Prioritäten
A20: Sonderurlaub im KJ: | B20: SUMME(Jan!N30;Feb!N30;Mrz!N30;Apr!N30;Mai!N30;Juni!N30;Juli!N30;Aug!N30;Sep!N30;Okt!N30;Nov!N30;Dez!N30) | C20: Okt | E20: 10 | F20: 36 | H20: A | I20: höchste, nicht delegierbar | K20: (rote Einfärbung im Bereich "delegiert an"!)
C21: Nov | E21: 11 | F21: 37 | H21: B | I21: mittlere, delegierbar
C22: Dez | E22: 12 | F22: 38 | H22: C | I22: niedrige, delegierbar
A23: Abkürzungen, Symbole, Smilies: | E23: 13 | F23: 39
A24: þ | B24: erledigt | C24: þ | D24: erledigt | E24: 14 | F24: 40 | H24: Ausdrucke der Kalenderwoche und Monatsübersicht (bei Bedarf):
A25: FT | B25: Freier Tag | C25: J | D25: gut drauf | E25: 15 | F25: 41 | H25: Die Kalenderwochen werden im DIN A4-Querformat auf 2 Seiten ausgedruckt!
A26: K | B26: Krankheitstag | C26: K | D26: na ja | E26: 16 | F26: 42 | H26: Die Monatsübersicht wird im Querformat DIN A4 auf 2 Seiten ausgedruckt!
A27: S | B27: Sonderurlaub | C27: L | D27: schlecht drauf | E27: 17 | F27: 43
A28: U | B28: Urlaub | C28: M | D28: explosiv | E28: 18 | F28: 44 | H28: KW Steuerung:
A29: Upl | B29: Urlaubsplanung | C29: R | D29: sonnig | E29: 19 | F29: 45 | H29: Liegt der erste Montag der 1. KW im neuen Jahr noch im alten, ist dieses Datum
A30: D | B30: abwählen | C30: N | D30: giftig | E30: 20 | F30: 46 | H30: als Steuerungsdatum für die 1. KW in Zelle B7 einzusetzen.
A31: * | B31: schreiben | C31: $ | D31: lesen | E31: 21 | F31: 47
A32: · | B32: Termin | C32: ( | D32: anrufen | E32: 22 | F32: 48 | H32: Aktuelle Namen:
A33: + | B33: E-Mail | C33: P | D33: erledigen | E33: 23 | F33: 49 | H33: Hier können die Namen der Familienmitglieder eingetragen werden.
A34: 7 | B34: Fax | C34: " | D34: erinnern | E34: 24 | F34: 50
A35: I | B35: Vorsicht | C35: < | D35: speichern | E35: 25 | F35: 51 | H35: Vermerke (im Tabellenblatt KW):
A36: G | B36: Hinweis | C36: A | D36: hervorragend | E36: 26 | F36: 52 | H36: Hier können in Zeile 9 die Urlaubs-, Sonderurlaubs-, Freien- usf.-Tage eingetragen
A37:  | B37: Vollmond | C37:  | D37: Neumond | F37: 53 | H37: werden. Mit der Funktion "Zählen wenn" können Sie die Gesamttage je Jahr / Monat
A38: x | B38: vergessen | C38: % | D38: nicht vergessen | H38: erfassen.
A39: V | B39: verstorben | C39: N | D39: Achtung!

Sheet Jahreskalender
A1: 2020 | B1: 1 | C1: 2 | D1: 3 | E1: 4 | F1: 5 | G1: 6 | H1: 7 | I1: 8 | J1: 9 | K1: 10 | L1: 11 | M1: 12 | N1: 13 | O1: 14 | P1: 15 | Q1: 16 | R1: 17 | S1: 18 | T1: 19 | U1: 20 | V1: 21 | W1: 22 | X1: 23 | Y1: 24 | Z1: 25 | AA1: 26 | AB1: 27 | AC1: 28 | AD1: 29 | AE1: 30 | AF1: 31 | AG1: =A1 -> 2020 | AH1: Summe Urlaubs- u.a.-Tage
A2: =K2 -> 43840 | B2: =IF(A1="",0,DATE(A1,1,B1)) -> 43831 | C2: =B2+1 -> 43832 | D2: =C2+1 -> 43833 | E2: =D2+1 -> 43834 | F2: =E2+1 -> 43835 | G2: =F2+1 -> 43836 | H2: =G2+1 -> 43837 | I2: =H2+1 -> 43838 | J2: =I2+1 -> 43839 | ... AF2: =AE2+1 -> 43861 | AG2: =A2 -> 43840 | AH2: U | AI2: FT | AJ2: K | AK2: S
AH3: =COUNTIF($B3:$AF3,"U") -> 0 | AI3: =COUNTIF($B3:$AF3,"FT") -> 0 | AJ3: =COUNTIF($B3:$AF3,"K") -> 0 | AK3: =COUNTIF($B3:$AF3,"S") -> 0
A4: =K4 -> 43871 | B4: =AF2+1 -> 43862 | C4: =B4+1 -> 43863 | D4: =C4+1 -> 43864 | E4: =D4+1 -> 43865 | F4: =E4+1 -> 43866 | G4: =F4+1 -> 43867 | H4: =G4+1 -> 43868 | I4: =H4+1 -> 43869 | J4: =I4+1 -> 43870 | ... AC4: =AB4+1 -> 43889 | AD4: =IF(OR(AC4+1=35124,AC4+1=36585,AC4+1=38046,AC4+1=39507,AC4+1=40968),AC4+1,"") | AG4: =A4 -> 43871
AH5: =COUNTIF($B5:$AF5,"U") -> 0 | AI5: =COUNTIF($B5:$AF5,"FT") -> 0 | AJ5: =COUNTIF($B5:$AF5,"K") -> 0 | AK5: =COUNTIF($B5:$AF5,"S") -> 0
A6: =K6 -> 43899 | B6: =IF(AD4="",AC4+1,AD4+1) -> 43890 | C6: =B6+1 -> 43891 | D6: =C6+1 -> 43892 | E6: =D6+1 -> 43893 | F6: =E6+1 -> 43894 | G6: =F6+1 -> 43895 | H6: =G6+1 -> 43896 | I6: =H6+1 -> 43897 | J6: =I6+1 -> 43898 | ... AF6: =AE6+1 -> 43920 | AG6: =A6 -> 43899
AH7: =COUNTIF($B7:$AF7,"U") -> 0 | AI7: =COUNTIF($B7:$AF7,"FT") -> 0 | AJ7: =COUNTIF($B7:$AF7,"K") -> 0 | AK7: =COUNTIF($B7:$AF7,"S") -> 0
A8: =K8 -> 43930 | B8: =AF6+1 -> 43921 | C8: =B8+1 -> 43922 | D8: =C8+1 -> 43923 | E8: =D8+1 -> 43924 | F8: =E8+1 -> 43925 | G8: =F8+1 -> 43926 | H8: =G8+1 -> 43927 | I8: =H8+1 -> 43928 | J8: =I8+1 -> 43929 | ... AE8: =AD8+1 -> 43950 | AG8: =A8 -> 43930
AH9: =COUNTIF($B9:$AF9,"U") -> 0 | AI9: =COUNTIF($B9:$AF9,"FT") -> 0 | AJ9: =COUNTIF($B9:$AF9,"K") -> 0 | AK9: =COUNTIF($B9:$AF9,"S") -> 0
A10: =K10 -> 43960 | B10: =AE8+1 -> 43951 | C10: =B10+1 -> 43952 | D10: =C10+1 -> 43953 | E10: =D10+1 -> 43954 | F10: =E10+1 -> 43955 | G10: =F10+1 -> 43956 | H10: =G10+1 -> 43957 | I10: =H10+1 -> 43958 | J10: =I10+1 -> 43959 | ... AF10: =AE10+1 -> 43981 | AG10: =A10 -> 43960
AH11: =COUNTIF($B11:$AF11,"U") -> 0 | AI11: =COUNTIF($B11:$AF11,"FT") -> 0 | AJ11: =COUNTIF($B11:$AF11,"K") -> 0 | AK11: =COUNTIF($B11:$AF11,"S") -> 0
A12: =K12 -> 43991 | B12: =AF10+1 -> 43982 | C12: =B12+1 -> 43983 | D12: =C12+1 -> 43984 | E12: =D12+1 -> 43985 | F12: =E12+1 -> 43986 | G12: =F12+1 -> 43987 | H12: =G12+1 -> 43988 | I12: =H12+1 -> 43989 | J12: =I12+1 -> 43990 | ... AE12: =AD12+1 -> 44011 | AG12: =A12 -> 43991
AH13: =COUNTIF($B13:$AF13,"U") -> 0 | AI13: =COUNTIF($B13:$AF13,"FT") -> 0 | AJ13: =COUNTIF($B13:$AF13,"K") -> 0 | AK13: =COUNTIF($B13:$AF13,"S") -> 0
A14: =K14 -> 44021 | B14: =AE12+1 -> 44012 | C14: =B14+1 -> 44013 | D14: =C14+1 -> 44014 | E14: =D14+1 -> 44015 | F14: =E14+1 -> 44016 | G14: =F14+1 -> 44017 | H14: =G14+1 -> 44018 | I14: =H14+1 -> 44019 | J14: =I14+1 -> 44020 | ... AF14: =AE14+1 -> 44042 | AG14: =A14 -> 44021
AH15: =COUNTIF($B15:$AF15,"U") -> 0 | AI15: =COUNTIF($B15:$AF15,"FT") -> 0 | AJ15: =COUNTIF($B15:$AF15,"K") -> 0 | AK15: =COUNTIF($B15:$AF15,"S") -> 0
A16: =K16 -> 44052 | B16: =AF14+1 -> 44043 | C16: =B16+1 -> 44044 | D16: =C16+1 -> 44045 | E16: =D16+1 -> 44046 | F16: =E16+1 -> 44047 | G16: =F16+1 -> 44048 | H16: =G16+1 -> 44049 | I16: =H16+1 -> 44050 | J16: =I16+1 -> 44051 | ... AF16: =AE16+1 -> 44073 | AG16: =A16 -> 44052
AH17: =COUNTIF($B17:$AF17,"U") -> 0 | AI17: =COUNTIF($B17:$AF17,"FT") -> 0 | AJ17: =COUNTIF($B17:$AF17,"K") -> 0 | AK17: =COUNTIF($B17:$AF17,"S") -> 0
A18: =K18 -> 44083 | B18: =AF16+1 -> 44074 | C18: =B18+1 -> 44075 | D18: =C18+1 -> 44076 | E18: =D18+1 -> 44077 | F18: =E18+1 -> 44078 | G18: =F18+1 -> 44079 | H18: =G18+1 -> 44080 | I18: =H18+1 -> 44081 | J18: =I18+1 -> 44082 | ... AE18: =AD18+1 -> 44103 | AG18: =A18 -> 44083
AH19: =COUNTIF($B19:$AF19,"U") -> 0 | AI19: =COUNTIF($B19:$AF19,"FT") -> 0 | AJ19: =COUNTIF($B19:$AF19,"K") -> 0 | AK19: =COUNTIF($B19:$AF19,"S") -> 0
A20: =K20 -> 44113 | B20: =AE18+1 -> 44104 | C20: =B20+1 -> 44105 | D20: =C20+1 -> 44106 | E20: =D20+1 -> 44107 | F20: =E20+1 -> 44108 | G20: =F20+1 -> 44109 | H20: =G20+1 -> 44110 | I20: =H20+1 -> 44111 | J20: =I20+1 -> 44112 | ... AF20: =AE20+1 -> 44134 | AG20: =A20 -> 44113
AH21: =COUNTIF($B21:$AF21,"U") -> 0 | AI21: =COUNTIF($B21:$AF21,"FT") -> 0 | AJ21: =COUNTIF($B21:$AF21,"K") -> 0 | AK21: =COUNTIF($B21:$AF21,"S") -> 0
A22: =K22 -> 44144 | B22: =AF20+1 -> 44135 | C22: =B22+1 -> 44136 | D22: =C22+1 -> 44137 | E22: =D22+1 -> 44138 | F22: =E22+1 -> 44139 | G22: =F22+1 -> 44140 | H22: =G22+1 -> 44141 | I22: =H22+1 -> 44142 | J22: =I22+1 -> 44143 | ... AE22: =AD22+1 -> 44164 | AG22: =A22 -> 44144
AH23: =COUNTIF($B23:$AF23,"U") -> 0 | AI23: =COUNTIF($B23:$AF23,"FT") -> 0 | AJ23: =COUNTIF($B23:$AF23,"K") -> 0 | AK23: =COUNTIF($B23:$AF23,"S") -> 0
A24: =K24 -> 44174 | B24: =AE22+1 -> 44165 | C24: =B24+1 -> 44166 | D24: =C24+1 -> 44167 | E24: =D24+1 -> 44168 | F24: =E24+1 -> 44169 | G24: =F24+1 -> 44170 | H24: =G24+1 -> 44171 | I24: =H24+1 -> 44172 | J24: =I24+1 -> 44173 | ... AF24: =AE24+1 -> 44195 | AG24: =A24 -> 44174
AH25: =COUNTIF($B25:$AF25,"U") -> 0 | AI25: =COUNTIF($B25:$AF25,"FT") -> 0 | AJ25: =COUNTIF($B25:$AF25,"K") -> 0 | AK25: =COUNTIF($B25:$AF25,"S") -> 0
A26: =A1 -> 2020 | B26: =B1 -> 1 | C26: =C1 -> 2 | D26: =D1 -> 3 | E26: =E1 -> 4 | F26: =F1 -> 5 | G26: =G1 -> 6 | H26: =H1 -> 7 | ... AG26: =AG1 -> 2020 | AH26: =SUM(AH3:AH25) -> 0 | AI26: =SUM(AI3:AI25) -> 0 | AJ26: =SUM(AJ3:AJ25) -> 0 | AK26: =SUM(AK3:AK25) -> 0

Sheet Adressen
A1: Name | B1: Vorname | C1: Straße | D1: PLZ | E1: Wohnort | F1: Festtelefon | G1: Fax | H1: Mobiltelefon | I1: Bemerkungen | J1: E-Mail 1 | K1: E-Mail 2

Sheet Lebensfreude
A1: Merksätze zu Lebenskunst
A2: und Lebensfreude
A4: Über unser Leben
A5: l | B5: Alle Lebewesen sind von Natur aus mit einem Gefühl für lebens- und arterhaltende
B6: Verhaltensweisen ausgerüstet; der Mensch besitzt darüber hinaus die Kräfte seines
B7: Verstandes.
A8: l | B8: Der Mensch ist das einzige Lebewesen, das seine Umwelt selbst gestalten, aber auch
B9: zerstören kann.
A10: l | B10: Die größte Sünde ist das Handeln des Menschen, der tut, was er zwar tun kann, aber
B11: nicht tun darf.
A12: l | B12: Der Mensch darf nie seinen Verstand oder sein Gefühl allein berücksichtigen, das eine
B13: muss das andere ergänzen.
A14: l | B14: Das Streben nach Selbstverwirklichung ist das Kennzeichen des geistigen Lebens,
B15: das uns vom Leben aller übrigen Lebewesen unterscheidet.
A16: l | B16: Die meisten Erkrankungen sind das Ergebnis einer falschen Lebensführung, eben eines
B17: Lebens ohne Übereinstimmung mit uns selbst.
A18: l | B18: Ein freundliches Wort kann heilsamer sein als alle Medizin.
A20: Über berufliche und außerberufliche Aktivitäten
A21: l | B21: Der Beruf ist eine der wichtigsten Aktivitäten unseres Lebens, aber nicht das Leben selbst.
A22: l | B22: Wir arbeiten um zu leben, aber wir leben nicht um zu arbeiten.
A23: l | B23: Nichts wird uns im Leben geschenkt, wir müssen uns alles selbst erarbeiten, und auch
B24: Lernen ist Arbeit.
A25: l | B25: Handeln ist immer besser als Nichtstun; denn alle Fehler sind korrigierbar.
A26: l | B26: Freude am Tun und der Genuss der Ergebnisse sind die beste Medizin gegen Dauer=
B27: stress und Depressionen.
A28: l | B28: Arbeit an sich macht niemals krank, nur die Bedingungen, unter denen wir sie ausführen
B29: müssen.
A30: l | B30: Erfolg ist vor allem eine Frage der Zielsetzung.
A31: l | B31: Berufliche und außerberufliche Aktivitäten sind keine getrennten Bereiche, sie sollten
B32: sich vielmehr ergänzen und gegenseitig fördern.
A34: Über Ehe und Liebe
A35: l | B35: In einer Liebesbeziehung bleibt zwar das Sexuelle die tragende Komponente, doch echte
B36: Liebe erfasst das gesamte Gefühls- und Geistesleben der beiden Partner, auch Zärt=
B37: lichkeiten körperlicher und geistiger Art gehören dazu.
A38: l | B38: Wer eine dauerhafte Bindung an seinen Partner als Unterdrückung seiner Persönlich=
B39: keit empfindet, sollte sich für ein Leben als Single entscheiden.
A40: l | B40: Die Grundlagen einer Ehe bilden die intakte Kommunikation zwischen den Partnern und
B41: die Anerkennung und Achtung ihres Andersseins, das die Möglichkeiten einer frucht=
B42: baren Ergänzung vom körperlich-sexuellen bis zum geistig-seelischen Bereich eröffnert.
A44: Über die Gesellschaft
...

Sheet Regeln
A1: Artikulation
A3: Regel Nr. 1 | B3: Sinnvolle Lautstärke und angemessenes Tempo
A4: Regel Nr. 2 | B4: Wörter und Sätze richtig betonen
A5: Regel Nr. 3 | B5: Wörter korrekt aussprechen
A6: Regel Nr. 4 | B6: Verlegenheitstöne vermeiden
A7: Regel Nr. 5 | B7: Dialekte eindämmen
A8: Regel Nr. 6 | B8: Sprechfluss anstreben
A9: Regel Nr. 7 | B9: Sprechstörungen korrigieren
A12: Gute Rhetorik, Grundvoraussetzungen
A13: Erste | B13: Die wahre und die gehaltvolle Aussage
A14: Zweite | B14: Die richtig gesprochene und gut platzierte Aussage
A15: Dritte | B15: Die wirkungsvoll vorgetragene Aussage
A16: Vierte | B16: Die Kunst des Schweigens und Zuhörens
A19: Gute Rhetorik, Gesetze
A20: Gesetz Nr. 1 | B20: Gut überlegen
A21: Gesetz Nr. 2 | B21: Körpersprache einsetzen
A22: Gesetz Nr. 3 | B22: Kurz und knapp sprechen
A23: Gesetz Nr. 4 | B23: Anschaulich formulieren
A24: Gesetz Nr. 5 | B24: Argumente präsentieren
A25: Gesetz Nr. 6 | B25: Spannend ausführen
A26: Gesetz Nr. 7 | B26: Positiv verhalten
A29: Zusammenarbeit im Team, Grundvoraussetzungen
A30: 1. | B30: Jeder muss ein und dasselbe Ziel vor Augen haben.
A31: 2. | B31: Jeder muss sein gesamtes Können einsetzen, um das Ziel zu erreichen.
A32: 3. | B32: Jeder muss bereit sein, Gruppeninteressen vor individuellen Absichten gelten zu lassen.
A33: 4. | B33: Jeder muss dafür sorgen, dass die Atmosphäre in der Gruppe positiv ist.
A36: Umgang mit der Zeit - Selftiming
A37: 1. | B37: Ranglisten erstellen
A38: 2. | B38: Zeiträume einteilen
A39: 3. | B39: Zeit einbehalten (Zeiträuber abwehren)
A40: 4. | B40: Redeüberflüssigkeiten vermeiden
A41: 5. | B41: Checklisten benutzen
A42: 6. | B42: Besprechungsregeln befolgen
A43: 7. | B43: Dipositionen machen (Auflistungen: was, wann, wie, wo, von wem, mit wem)
A44: 8. | B44: Tätigkeiten delegieren
A45: 9. | B45: Idealzeiten nutzen
A46: 10. | B46: Zeit erleben (bewusster Umgang mit der Zeit)
A49: Umgang miteinander - Teamtalking
A50: 1. | B50: Richtige Einstellung (menschenfreundliche Grundeinstellung, andere sind Mit- nicht Gegenspieler)
A51: 2. | B51: Freundlicher Umgangston
...

Sheet Merksätze
A1: Merksätze, Sprichwörter, Redensarten, Assoziationen, Sinnsprüche
A3: Martin Luther
A4: Mach´s Maul auf, tritt fest auf, hör´ bald auf!
A6: Emanuel Kant
A7: Wer sich aber zum Wurm macht, kann nachher nicht klagen, wenn er mit Füßen getreten wird.
A9: Unbekannt
A10: Was ihr seid, sind wir gewesen, was wir sind, werdet ihr werden.
A12: Ernst Jünger
A13: Auf alle Fälle führt die Hoffnung weiter als die Furcht!
A15: Horst Conen
A16: Bewusstseinstraining ist ein Weg, um aus eigener Kraft von negativen Denk- und Verhaltensmustern wegzukommen.
A18: Rabindranath Tagore
... A959: Wind in St. Silvesters Nacht, hat nie Wein und Korn gebracht.

Sheet Tierkreise
A1: T I E R K R E I S Z E I C H E N
A2: Steinbock | B2: g | C2: 22. Dezember | D2: - | E2: 20. Januar
A3: Wassermann | B3: h | C3: 21. Januar | D3: - | E3: 19. Februar
A4: Fische | B4: i | C4: 20. Februar | D4: - | E4: 20. März
A5: Widder | B5: ^ | C5: 21. März | D5: - | E5: 20. April
A6: Stier | B6: _ | C6: 21. April | D6: - | E6: 20. Mai
A7: Zwillinge | B7: ` | C7: 21. Mai | D7: - | E7: 21. Juni
A8: Krebs | B8: a | C8: 22. Juni | D8: - | E8: 22. Juli
A9: Löwe | B9: b | C9: 23. Juli | D9: - | E9: 23. August
A10: Jungfrau | B10: c | C10: 24. August | D10: - | E10: 23. September
A11: Waage | B11: d | C11: 24. September | D11: - | E11: 23. Oktober
A12: Skorpion | B12: e | C12: 24. Oktober | D12: - | E12: 22. November
A13: Schütze | B13: f | C13: 23. November | D13: - | E13: 21. Dezember

Sheet Geburtstagsliste
A1: Geburtstagsliste | F1: Vermerk
A2: Dat | B2: Dat doppelt | C2: Dat dreifach | D2: Name | F2: doppelt | G2: dreifach
F3: =IF(A3=B4,"doppelt","") -> doppelt | G3: =IF(A3=C5,"dreifach","") -> dreifach | H3: Tragen Sie in die Spalten A, B und C die Geburtsdaten im Format TT.MM ein.
F4: =IF(A4=B5,"doppelt","") -> doppelt | G4: =IF(A4=C6,"dreifach","") -> dreifach | H4: Das laufende Jahr wird automatisch angefügt. Ist dieses Geburtsdatum in ihrem
F5: =IF(A5=B6,"doppelt","") -> doppelt | G5: =IF(A5=C7,"dreifach","") -> dreifach | H5: Bekanntenkreis nocheinmal vorhanden, tragen Sie sowohl in Spalte A, als auch
F6: =IF(A6=B7,"doppelt","") -> doppelt | G6: =IF(A6=C8,"dreifach","") -> dreifach | H6: in Spalte B (in der ersten und zweiten Zeile!) das gleiche Datum ein. Sollte
F7: =IF(A7=B8,"doppelt","") -> doppelt | G7: =IF(A7=C9,"dreifach","") -> dreifach | H7: dieses Datum dreimal vorkommen, tragen Sie es dreimal in der Spalte A und
F8: =IF(A8=B9,"doppelt","") -> doppelt | G8: =IF(A8=C10,"dreifach","") -> dreifach | H8: einmal in der Spalte C, ein (an dritter Stelle).
F9: =IF(A9=B10,"doppelt","") -> doppelt | G9: =IF(A9=C11,"dreifach","") -> dreifach | H9: So ist gewährleistet, dass in den Kalenderwochen der Names des Geburtstags-
F10: =IF(A10=B11,"doppelt","") -> doppelt | G10: =IF(A10=C12,"dreifach","") -> dreifach | H10: kindes am Kalendertag erscheint.
F11: =IF(A11=B12,"doppelt","") -> doppelt | G11: =IF(A11=C13,"dreifach","") -> dreifach | H11: Werden in die Spalten a, B und C Daten eingetragen, veschwindet die Bezeich-
F12: =IF(A12=B13,"doppelt","") -> doppelt | G12: =IF(A12=C14,"dreifach","") -> dreifach | H12: nung "doppelt" und "dreifach", es sei denn, das Datum ist in Spalte B oder C
F13: =IF(A13=B14,"doppelt","") -> doppelt | G13: =IF(A13=C15,"dreifach","") -> dreifach | H13: nochmals vorhanden.
F14: =IF(A14=B15,"doppelt","") -> doppelt | G14: =IF(A14=C16,"dreifach","") -> dreifach | H14: Die Formate und Formeln sind bis zur Zeile 100 vorgegeben. Sollten Sie mehr
... F16: =IF(A16=B17,"doppelt","") -> doppelt | G16: =IF(A16=C18,"dreifach","") -> dreifach | H16: (Zelle am rechten unteren Punkt packen und nach unten ziehen).
F17: =IF(A17=B18,"doppelt","") -> doppelt | G17: =IF(A17=C19,"dreifach","") -> dreifach
F18: =IF(A18=B19,"doppelt","") -> doppelt | G18: =IF(A18=C20,"dreifach","") -> dreifach
F19: =IF(A19=B20,"doppelt","") -> doppelt | G19: =IF(A19=C21,"dreifach","") -> dreifach
F20: =IF(A20=B21,"doppelt","") -> doppelt | G20: =IF(A20=C22,"dreifach","") -> dreifach
F21: =IF(A21=B22,"doppelt","") -> doppelt | G21: =IF(A21=C23,"dreifach","") -> dreifach
F22: =IF(A22=B23,"doppelt","") -> doppelt | G22: =IF(A22=C24,"dreifach","") -> dreifach
F23: =IF(A23=B24,"doppelt","") -> doppelt | G23: =IF(A23=C25,"dreifach","") -> dreifach
F24: =IF(A24=B25,"doppelt","") -> doppelt | G24: =IF(A24=C26,"dreifach","") -> dreifach
F25: =IF(A25=B26,"doppelt","") -> doppelt | G25: =IF(A25=C27,"dreifach","") -> dreifach
F26: =IF(A26=B27,"doppelt","") -> doppelt | G26: =IF(A26=C28,"dreifach","") -> dreifach
F27: =IF(A27=B28,"doppelt","") -> doppelt | G27: =IF(A27=C29,"dreifach","") -> dreifach
F28: =IF(A28=B29,"doppelt","") -> doppelt | G28: =IF(A28=C30,"dreifach","") -> dreifach
... F100: =IF(A100=B101,"doppelt","") -> doppelt | G100: =IF(A100=C102,"dreifach","") -> dreifach

Sheet Geburtstage
A1: Geburtstage
A2: Monat | B2: Datum | C2: Vorname | D2: Name | E2: 40 | F2: 50 | G2: 60 | H2: 70 | I2: 80 | J2: 90 | K2: 100 | L2: Alter
E3: 2001 | F3: =E3+10 -> 2011 | G3: =F3+10 -> 2021 | H3: =G3+10 -> 2031 | I3: =H3+10 -> 2041 | J3: =I3+10 -> 2051 | K3: =J3+10 -> 2061 | L3: =DATEDIF(B3,TODAY(),"y") -> 119 | N3: In Spalte E bitte die Jahreszahl des 40. Geburtstags eintragen!
F4: =E4+10 -> 10 | G4: =F4+10 -> 20 | H4: =G4+10 -> 30 | I4: =H4+10 -> 40 | J4: =I4+10 -> 50 | K4: =J4+10 -> 60 | L4: =DATEDIF(B4,TODAY(),"y") -> 119
F5: =E5+10 -> 10 | G5: =F5+10 -> 20 | H5: =G5+10 -> 30 | I5: =H5+10 -> 40 | J5: =I5+10 -> 50 | K5: =J5+10 -> 60 | L5: =DATEDIF(B5,TODAY(),"y") -> 119
F6: =E6+10 -> 10 | G6: =F6+10 -> 20 | H6: =G6+10 -> 30 | I6: =H6+10 -> 40 | J6: =I6+10 -> 50 | K6: =J6+10 -> 60 | L6: =DATEDIF(B6,TODAY(),"y") -> 119
F7: =E7+10 -> 10 | G7: =F7+10 -> 20 | H7: =G7+10 -> 30 | I7: =H7+10 -> 40 | J7: =I7+10 -> 50 | K7: =J7+10 -> 60 | L7: =DATEDIF(B7,TODAY(),"y") -> 119
F8: =E8+10 -> 10 | G8: =F8+10 -> 20 | H8: =G8+10 -> 30 | I8: =H8+10 -> 40 | J8: =I8+10 -> 50 | K8: =J8+10 -> 60 | L8: =DATEDIF(B8,TODAY(),"y") -> 119
F9: =E9+10 -> 10 | G9: =F9+10 -> 20 | H9: =G9+10 -> 30 | I9: =H9+10 -> 40 | J9: =I9+10 -> 50 | K9: =J9+10 -> 60 | L9: =DATEDIF(B9,TODAY(),"y") -> 119
F10: =E10+10 -> 10 | G10: =F10+10 -> 20 | H10: =G10+10 -> 30 | I10: =H10+10 -> 40 | J10: =I10+10 -> 50 | K10: =J10+10 -> 60 | L10: =DATEDIF(B10,TODAY(),"y") -> 119
F11: =E11+10 -> 10 | G11: =F11+10 -> 20 | H11: =G11+10 -> 30 | I11: =H11+10 -> 40 | J11: =I11+10 -> 50 | K11: =J11+10 -> 60 | L11: =DATEDIF(B11,TODAY(),"y") -> 119
F12: =E12+10 -> 10 | G12: =F12+10 -> 20 | H12: =G12+10 -> 30 | I12: =H12+10 -> 40 | J12: =I12+10 -> 50 | K12: =J12+10 -> 60 | L12: =DATEDIF(B12,TODAY(),"y") -> 119
F13: =E13+10 -> 10 | G13: =F13+10 -> 20 | H13: =G13+10 -> 30 | I13: =H13+10 -> 40 | J13: =I13+10 -> 50 | K13: =J13+10 -> 60 | L13: =DATEDIF(B13,TODAY(),"y") -> 119
F14: =E14+10 -> 10 | G14: =F14+10 -> 20 | H14: =G14+10 -> 30 | I14: =H14+10 -> 40 | J14: =I14+10 -> 50 | K14: =J14+10 -> 60 | L14: =DATEDIF(B14,TODAY(),"y") -> 119
F15: =E15+10 -> 10 | G15: =F15+10 -> 20 | H15: =G15+10 -> 30 | I15: =H15+10 -> 40 | J15: =I15+10 -> 50 | K15: =J15+10 -> 60 | L15: =DATEDIF(B15,TODAY(),"y") -> 119
... F50: =E50+10 -> 10 | G50: =F50+10 -> 20 | H50: =G50+10 -> 30 | I50: =H50+10 -> 40 | J50: =I50+10 -> 50 | K50: =J50+10 -> 60 | L50: =DATEDIF(B50,TODAY(),"y") -> 119
F51: =E51+10 -> 10 | G51: =F51+10 -> 20 | H51: =G51+10 -> 30 | I51: =H51+10 -> 40 | J51: =I51+10 -> 50 | K51: =J51+10 -> 60
F52: =E52+10 -> 10 | G52: =F52+10 -> 20 | H52: =G52+10 -> 30 | I52: =H52+10 -> 40 | J52: =I52+10 -> 50 | K52: =J52+10 -> 60 | L52: =DATEDIF(B52,TODAY(),"y") -> 119
F53: =E53+10 -> 10 | G53: =F53+10 -> 20 | H53: =G53+10 -> 30 | I53: =H53+10 -> 40 | J53: =I53+10 -> 50 | K53: =J53+10 -> 60 | L53: =DATEDIF(B53,TODAY(),"y") -> 119
F54: =E54+10 -> 10 | G54: =F54+10 -> 20 | H54: =G54+10 -> 30 | I54: =H54+10 -> 40 | J54: =I54+10 -> 50 | K54: =J54+10 -> 60 | L54: =DATEDIF(B54,TODAY(),"y") -> 119
F55: =E55+10 -> 10 | G55: =F55+10 -> 20 | H55: =G55+10 -> 30 | I55: =H55+10 -> 40 | J55: =I55+10 -> 50 | K55: =J55+10 -> 60 | L55: =DATEDIF(B55,TODAY(),"y") -> 119
F56: =E56+10 -> 10 | G56: =F56+10 -> 20 | H56: =G56+10 -> 30 | I56: =H56+10 -> 40 | J56: =I56+10 -> 50 | K56: =J56+10 -> 60 | L56: =DATEDIF(B56,TODAY(),"y") -> 119
F57: =E57+10 -> 10 | G57: =F57+10 -> 20 | H57: =G57+10 -> 30 | I57: =H57+10 -> 40 | J57: =I57+10 -> 50 | K57: =J57+10 -> 60 | L57: =DATEDIF(B57,TODAY(),"y") -> 119
F58: =E58+10 -> 10 | G58: =F58+10 -> 20 | H58: =G58+10 -> 30 | I58: =H58+10 -> 40 | J58: =I58+10 -> 50 | K58: =J58+10 -> 60 | L58: =DATEDIF(B58,TODAY(),"y") -> 119
F59: =E59+10 -> 10 | G59: =F59+10 -> 20 | H59: =G59+10 -> 30 | I59: =H59+10 -> 40 | J59: =I59+10 -> 50 | K59: =J59+10 -> 60 | L59: =DATEDIF(B59,TODAY(),"y") -> 119
F60: =E60+10 -> 10 | G60: =F60+10 -> 20 | H60: =G60+10 -> 30 | I60: =H60+10 -> 40 | J60: =I60+10 -> 50 | K60: =J60+10 -> 60 | L60: =DATEDIF(B60,TODAY(),"y") -> 119
F61: =E61+10 -> 10 | G61: =F61+10 -> 20 | H61: =G61+10 -> 30 | I61: =H61+10 -> 40 | J61: =I61+10 -> 50 | K61: =J61+10 -> 60 | L61: =DATEDIF(B61,TODAY(),"y") -> 119
F62: =E62+10 -> 10 | G62: =F62+10 -> 20 | H62: =G62+10 -> 30 | I62: =H62+10 -> 40 | J62: =I62+10 -> 50 | K62: =J62+10 -> 60 | L62: =DATEDIF(B62,TODAY(),"y") -> 119
F63: =E63+10 -> 10 | G63: =F63+10 -> 20 | H63: =G63+10 -> 30 | I63: =H63+10 -> 40 | J63: =I63+10 -> 50 | K63: =J63+10 -> 60 | L63: =DATEDIF(B63,TODAY(),"y") -> 119
... F106: =E106+10 -> 10 | G106: =F106+10 -> 20 | H106: =G106+10 -> 30 | I106: =H106+10 -> 40 | J106: =I106+10 -> 50 | K106: =J106+10 -> 60 | L106: =DATEDIF(B106,TODAY(),"y") -> 119

Sheet Sterbetage
A1: Sterbetage
A2: Sterbedatum | B2: Vorname | C2: Name | D2: geb. am | E2: Geborene | F2: Verwandt- schaftsverhältnis

Sheet Feiertage
A1: Liste der beweglichen und unbeweglichen Feiertage im Kalenderjahr
A2: Datum | B2: Bezeichnung | C2: Farbe | D2: Bemerkungen
A3: 43831 | B3: Neujahr | E3: Unter dem Datum ist bei allen Feiertagen das Jahresdatum in der Form "04.12.2010"
A4: 43931 | B4: Karfreitag | E4: für jedes Jahr einzutragen!
A5: 43933 | B5: Ostersonntag | E5: Diese Liste ist bei den beweglichen Feiertagen jährlich zu korrigieren!
A6: 43934 | B6: Ostermontag | E6: Soll Neujahr im Kalenderjahr zweimal erscheinen, sind beide Daten (z.B. 01.01.2011 und
A7: 43952 | B7: Tag der Arbeit | E7: 01.01.2012 einzutragen)!
A8: 43972 | B8: Christi Himmelfahrt
A9: 43982 | B9: Pfingstsonntag
A10: 43983 | B10: Pfingstmontag
A11: 43993 | B11: Fronleichnam
A12: 44107 | B12: Tag der Dt. Einheit
A13: 44136 | B13: Allerheiligen
A14: 44190 | B14: Weihnachten
A15: 44191 | B15: Weihnachten
A16: 44197 | B16: Neujahr

Sheet Merktage
A1: Liste der allgemeinen und individuellen Merktage im Kalenderjahr
A2: Datum | B2: Bezeichnung | C2: Farbe | D2: Bemerkungen
A3: 43836 | B3: Hl. Drei Könige | E3: Unter dem Datum ist bei allen Merktagen das Jahresdatum in der Form "04.12.2010"
A4: 43885 | B4: Rosenmontag | E4: für jedes Jahr einzutragen!
A5: 43886 | B5: Fastnacht
A6: 43887 | B6: Aschermittwoch
A7: 44058 | B7: Maria Himmelfahrt
A8: 44135 | B8: Reformationstag
A9: 44153 | B9: Buß- und Bettag
A10: 44196 | B10: Silvester

Sheet Tageskalender
A1: Tages kalender | B1: Datum: | D1: =TODAY() -> 43591 | F1: Erläuterungen | G1: (dieser Bereich wird nicht gedruckt!)
A3: Uhrzeit | B3: Termin | D3: Aufgaben | F3: Druckbereich: Spalten A - D, bis Zeile 32.
A4: 7:00 | F4: Dieser Tageskalender wird im DIN A 4-Format ausgedruckt!
A5: 7:30
A6: 8:00
A7: 8:30
A8: 9:00
A9: 9:30
A10: 10:00
A11: 10:30 | D11: Besorgungen
A12: 11:00
A13: 11:30
A14: 12:00
A15: 12:30
A16: 13:00
A17: 13:30
A18: 14:00
A19: 14:30 | D19: Anrufe
A20: 15:00
A21: 15:30
A22: 16:00
A23: 16:30
A24: 17:00
A25: 17:30
A26: 18:00
A27: 18:30
A28: 0.79166667
A29: 0.8125
A30: 0.83333333
A31: 0.85416667
A32: 0.875
A33: 0.89583333
A34: 0.91666667
A35: 0.9375
A36: 0.95833333
A37: 0.97916667
A38: 1

Sheet Tagesplan
A1: Tagesplan | J1: 1 | K1: Erläuterungen | P1: Dieser Tagesplan wird im DIN A5-Format ausgedruckt!
A2: (Erstellen nur bei Bedarf, sonst Wochenübersicht!) | J2: =INDEX(O6:O12,O5) -> Mittwoch | K2: (Bereich wird nicht gedruckt!)
D3: Woche | G3: 1 | H3: Januar | J3: 2020
A5: ¹ | C5: Termine | D5: OK | F5: * | G5: ( | H5: Kontakte | I5: OK | J5: Bemerkungen | K5: Zeichenerklärungen | O5: 3
A6: 06 | N6: Der jeweilige Monat und das Jahr sind manuell einzutragen, das | O6: Montag
L7: Private Termine | N7: Tagesdatum, die Kalenderwoche und der Wochentag können durch | O7: Dienstag
A8: 07 | C8: Meditation | N8: betätigen der Scrollfelder eingestellt werden. | O8: Mittwoch
C9: Stille Minute | L9: dstl. Termine mit | O9: Donnerstag
A10: 08 | L10: anderen | O10: Freitag
L11: dstl. Termine selbst | O11: Samstag
A12: 09 | O12: Sonntag
K13: Prioritäten:
A14: 10 | K14: A
K15: höchste, nicht delegierbar
A16: 11 | K16: B
K17: mittlere, delegierbar
A18: 12 | K18: C
K19: niedrige, delegierbar
A20: 13
A22: 14 | F22: Prio- | G22: Zeit | H22: Aufgaben | K22: OK | N22: Aufgabenplanung mit Prioriätensetzung und Zeitbedarfsplanung.
F23: rität | G23: bed. | K23: þ | L23: erledigt
A24: 15 | K24: Zeitbedarf
K25: in (halben) Stunden
A26: 16
A28: 17
A30: 18
A32: 19
A34: 20
A36: 21 | G36: Statistik | J36: bei Bedarf | L36: Eigene statistische Auswertungen bei Bedarf.
A38: 22
A40: 23 | G40: Privat | L40: Raum für private Kurzaufzeichnungen und/oder Verweise.
A42: 00 | F42: Tagesziel / Motto
F43: Alle Dinge sind schwer, bevor sie leicht werden. | L43: Das Tagesziel / Motto kann beliebig festgelegt werden.

Sheet Wochenplan
A1: KW | B1: Zu erledigen | C1: erledigt
A2: 1 | C2: ü
A3: Montag
A6: Dienstag
A9: Mittwoch
A12: Donnerstag
A15: Freitag
A18: Samstag
A20: Sonntag

Sheet Monatsvorlage
I1: Monatsübersicht | K1: =NOW() -> 43591.675 | N1: Abkürzungen, Symbole, Icons,
F2: Motto, Sprichwort, Sinnspruch | N2: Erledigungsvermerke findest du
A3: Aktivitäten-Checkliste/ | K3: Jahr | L3: =A!B1 -> 2020 | N3: in der Tabelle "A".
A4: Aufgaben-Kontrolle | K4: Monat | L4: xyz
A6: Mo | B6: Di | C6: Mi | D6: Do | E6: Fr | F6: Sa | G6: So | H6: KW | I6: Wochenplanung / Bemerkungen | N6: Wenn eine Aktivität/Aufgabe mit
N7: der Priorität "A" versehen ist,
N8: wird die Zelle in der Spalte
N9: "delegiert an" rot eingefärbt!
N11: Das Motto im hellgrünen Bereich
N12: ist für jeden Monat neu auszu=
A13: Zu erledigen / Monatsplanung | N13: wählen (kopieren aus "Merksätze").
A14: Tag | B14: Prio- rität | C14: Erl. Verm. | D14: Aktivität/Aufgabe kurze Beschreibung der Maßnahme | J14: delegiert an | K14: beteiligte Mitarbeiter | L14: Fertig bis | M14: Prioritäten:
N15: A | O15: höchste, nicht delegierbar
N16: B | O16: mittlere, delegierbar
N17: C | O17: niedrige, delegierbar
M19: Tag:
N20: Beginn der Aktivität/Aufgabe
M22: Fertig bis:
N23: Geplantes oder voraussichtliches
N24: Datum der Fertigstellung eintragen!
M26: Zusammenstellung / Monat:
M27: U | O27: Urlaubstage
M28: FT | O28: Freie Tage
M29: K | O29: Krankheitstage
M30: S | O30: Sonderurlaubstage
A31: Notizen, weitergehende Beschreibungen, Erläuterungen, Vermerke:
A61: kann beliebig nach unten erweitert werden!

Sheet KW Vorlage
A1: Jahr | B1: =A!B1 -> 2020 | C1: Woche | D1: 52 | G1: =NOW() -> 43591.675 | I1: 1
H2: Startseite | I2: Januar
A3: Monat | B3: =INDEX($I$2:$I$18,$I$1) -> Januar | C3: =INDEX($I$2:$I$18,$I$1) -> Januar | D3: =INDEX($I$2:$I$18,$I$1) -> Januar | E3: =INDEX($I$2:$I$18,$I$1) -> Januar | F3: =INDEX($I$2:$I$18,$I$1) -> Januar | G3: =INDEX($I$2:$I$18,$I$1) -> Januar | H3: =INDEX($I$2:$I$18,$I$1) -> Januar | I3: Februar
A4: Tag | B4: =IF(A!B7="",2,A!B7) -> 43829 | C4: =B4+1 -> 43830 | D4: =C4+1 -> 43831 | E4: =D4+1 -> 43832 | F4: =E4+1 -> 43833 | G4: =F4+1 -> 43834 | H4: =G4+1 -> 43835 | I4: März
A5: Datum | B5: =IF(A!$B$7="","",B4) -> 43829 | C5: =IF(A!$B$7="","",C4) -> 43830 | D5: =IF(A!$B$7="","",D4) -> 43831 | E5: =IF(A!$B$7="","",E4) -> 43832 | F5: =IF(A!$B$7="","",F4) -> 43833 | G5: =IF(A!$B$7="","",G4) -> 43834 | H5: =IF(A!$B$7="","",H4) -> 43835 | I5: April
B6: 43465 | C6: 43466 | D6: 43467 | E6: 43468 | F6: 43469 | G6: 43470 | H6: 43471 | I6: Mai
A7: Feiertag | B7: =VLOOKUP(B6,Feiertage!$A$3:$B$30,2,FALSE) -> #N/A | C7: =VLOOKUP(C6,Feiertage!$A$3:$B$30,2,FALSE) -> #N/A | D7: =VLOOKUP(D6,Feiertage!$A$3:$B$30,2,FALSE) -> #N/A | E7: =VLOOKUP(E6,Feiertage!$A$3:$B$30,2,FALSE) -> #N/A | F7: =VLOOKUP(F6,Feiertage!$A$3:$B$30,2,FALSE) -> #N/A | G7: =VLOOKUP(G6,Feiertage!$A$3:$B$30,2,FALSE) -> #N/A | H7: =VLOOKUP(H6,Feiertage!$A$3:$B$30,2,FALSE) -> #N/A | I7: Juni
A8: Merktag | B8: =VLOOKUP(B6,Merktage!$A$3:$B$50,2,FALSE) -> #N/A | C8: =VLOOKUP(C6,Merktage!$A$3:$B$50,2,FALSE) -> #N/A | D8: =VLOOKUP(D6,Merktage!$A$3:$B$50,2,FALSE) -> #N/A | E8: =VLOOKUP(E6,Merktage!$A$3:$B$50,2,FALSE) -> #N/A | F8: =VLOOKUP(F6,Merktage!$A$3:$B$50,2,FALSE) -> #N/A | G8: =VLOOKUP(G6,Merktage!$A$3:$B$50,2,FALSE) -> #N/A | H8: =VLOOKUP(H6,Merktage!$A$3:$B$50,2,FALSE) -> #N/A | I8: Juli
A9: Vermerke | I9: August
A10: (gelten für den | I10: September
A11: ganzen Tag) | I11: Oktober
A12: Ganztagereignis | I12: November
A13: Geburtstage | B13: =VLOOKUP(B6,Geburtstagsliste!$A$3:$D$82,4,FALSE) -> #N/A | C13: =VLOOKUP(C6,Geburtstagsliste!$A$3:$D$82,4,FALSE) -> #N/A | D13: =VLOOKUP(D6,Geburtstagsliste!$A$3:$D$82,4,FALSE) -> #N/A | E13: =VLOOKUP(E6,Geburtstagsliste!$A$3:$D$82,4,FALSE) -> #N/A | F13: =VLOOKUP(F6,Geburtstagsliste!$A$3:$D$82,4,FALSE) -> #N/A | G13: =VLOOKUP(G6,Geburtstagsliste!$A$3:$D$82,4,FALSE) -> #N/A | H13: =VLOOKUP(H6,Geburtstagsliste!$A$3:$D$82,4,FALSE) -> #N/A | I13: Dezember
A14: Geburtstage | B14: =VLOOKUP(B6,Geburtstagsliste!$B$3:$D$82,3,FALSE) -> #N/A | C14: =VLOOKUP(C6,Geburtstagsliste!$B$3:$D$82,3,FALSE) -> #N/A | D14: =VLOOKUP(D6,Geburtstagsliste!$B$3:$D$82,3,FALSE) -> #N/A | E14: =VLOOKUP(E6,Geburtstagsliste!$B$3:$D$82,3,FALSE) -> #N/A | F14: =VLOOKUP(F6,Geburtstagsliste!$B$3:$D$82,3,FALSE) -> #N/A | G14: =VLOOKUP(G6,Geburtstagsliste!$B$3:$D$82,3,FALSE) -> #N/A | H14: =VLOOKUP(H6,Geburtstagsliste!$B$3:$D$82,3,FALSE) -> #N/A
A15: Geburtstage | B15: =VLOOKUP(B6,Geburtstagsliste!$C$3:$D$82,2,FALSE) -> #N/A | C15: =VLOOKUP(C6,Geburtstagsliste!$C$3:$D$82,2,FALSE) -> #N/A | D15: =VLOOKUP(D6,Geburtstagsliste!$C$3:$D$82,2,FALSE) -> #N/A | E15: =VLOOKUP(E6,Geburtstagsliste!$C$3:$D$82,2,FALSE) -> #N/A | F15: =VLOOKUP(F6,Geburtstagsliste!$C$3:$D$82,2,FALSE) -> #N/A | G15: =VLOOKUP(G6,Geburtstagsliste!$C$3:$D$82,2,FALSE) -> #N/A | H15: =VLOOKUP(H6,Geburtstagsliste!$C$3:$D$82,2,FALSE) -> #N/A
A16: Termine | B16: Bei größerem Platzbedarf kann folgendermaßen vorgegangen werden: Tageskalender/Tagesplan (als eigene Tabelle) und/oder Kommentar in der entsprechenden Zelle einfügen.
A17: 0.25
A18: 0.27083333
A19: 0.29166667
A20: 0.3125
A21: 0.33333333
A22: 0.35416667
A23: 0.375
A24: 0.39583333
A25: 0.41666667
A26: 0.4375
A27: 0.45833333
A28: 0.47916667
... A53: 1
