Workbook

Sheet Info
A1: Beschäftigungsplanung
A2: Planung der Beschäftigung für einen bestimmten Zeitraum oder das gesamte Forstwirtschaftsjahr.
A3: Spezielle Anwendung für den Forstpraktiker.
A6: Excel-Anwendung von
A7: WERNER LUCK
A9: INHALT
A11: Info | B11: Dieses Blatt
A13: A | B13: Angaben allgemeiner Art, Anweisung zum Gebrauch der Arbeitsmappe
A14: Beschl.Plan_kurz | B14: Beschäftigungplan für einen bestimmten Zeitraum
A15: Beschl.Plan_lang | B15: Beschäftigungsplan für das Forstwirtschaftsjahr
A16: Faktorermittlung | B16: Ermittlung des Zuschlagsfaktors
A17: Code A/V | B17: Code für das Arbeitsverfahren
A21: Excel-Anwendung für das Forstrevier und den Forstpraktiker
A22: Entwickelt von Werner Luck
A23: Hauptstraße 2
A24: 54413 Beuren
A25: Tel.: 06586/986025
A26: E-Mail: wernerluck@web.de

Sheet A
A1: Angaben, die Sie im weißen Bereich machen,
A2: werden in die folgenden Blätter
A3: übernommen.
A5: Forstamt | C5: NN | E5: Nr.: | F5: xx
A7: Technische Produktion
A9: taG | C9: NN | E9: Nr.: | F9: xx
A11: HHJ/WJ | C11: 2019
C13: Wie arbeitet man mit dieser Datei?
A14: Planungszeitraum | C14: Die Formel in Zelle 'O 4' mit dem Zeitraum (von - bis) ergänzen.
A15: Anzahl Arbeitskräfte | C15: Zahl der Mitarbeiter der taG. Bei Teilzeitbeschäftigung den Anteil an einer Vollzeitbeschäftigung eingeben.
A16: Arbeitstage | C16: Die Formel ist um die in der beplanten Periode liegenden Feiertage zu ergänzen (Minus Tage am Ende der Klammer). Die Feiertage (da zum Teil variabel) sind in der
C17: Faktorermittlung nicht berücksichtigt!
A18: Arbeit/Produktbezeichnung | C18: Beschreibung der vorgesehen Arbeit oder Maßnahme.
A19: Produkt-Nr. | C19: Die Produktnummer (falls vorhanden) Ihress Betriebes
A20: AV | C20: Eingabe des Codes für das Arbeitsverfahren (siehe Produktkatalog), oder Ihre Beschreibung
A21: MB-Nr.: | C21: Angabe der der forstamtsinternen Maßnahmeblock-Nr., oder Ihre Beschreibung
A22: Einheit | C22: Für die Arbeit/Maßnahme zutreffende Leistungseinheit (z.B. fm, lfdm, Stck, Klumpen, pp).
A23: Volumen (Menge/Einheit) | C23: Planmenge bezogen auf die Leistungseinheit.
A24: Leistung/Einheit/Std. | C24: Die angenommene (unterstellte) Leistung je Einheit.
A25: Zeitbedarf | C25: Errechnet sich automatisch aus den Angaben in den Spalten "Menge" und "Leistg./Einheit".
A26: Faktor | C26: Ist der für die betreffende taG ermittelte Zuschlagsfaktor aus dem Vergleich Ist_Astd. zu Nicht_Ast. in einem beschriebenen Zeitraum (meist 1 Kalenderjahr).
A27: Planzeit | C27: Errechnet sich aus der Multiplikation der Spalten "Zeitbedarf" und "Planzeit".
A28: Mehr/Fehl | C28: Differenz zwischen möglicher Arbeitszeit (ohne Feiertage!) und voraussichtlicher Arbeitszeit (Arbeitsvolumen und Arbeitskapazität). Ein Mehr erfordert evtl. die Zusteuerung von
C29: Arbeitskräften, ein Fehl die Zusteuerung von Arbeit (Maßnahmen/Volumen).
A31: Besch.Plan kurz | C31: Beschäftigungsplan für einen bestimmten Zeitraum
A32: Besch.Plan lang | C32: Beschäftigungsplan für das gesamte Forstwirtschaftsjahr
A33: Faktorermittlung | C33: Ermittlung des Zuschlagsfaktors zur Grundplanungszeit

Sheet Besch.Plan_kurz
A1: Forstamt | B1: =A!C5 -> NN | G1: Nr.: | H1: =A!F5 -> xx | N1: WJ | O1: =A!C11 -> 2019
A2: Technische Produktion | H2: =A!F7 -> 0
A3: taG | B3: =A!C9 -> NN | G3: Nr.: | H3: =A!F9 -> xx | O3: =TODAY() -> 43640
A4: BeschäftigungsPLANkurz
G5: Anzahl Arbeitskräfte | J5: 5 | K5: Planungszeitraum | M5: Arbeitstage | O5: =NETWORKDAYS("8.3.19","30.05.19")-1 -> 59
G6: Zuschlagsfaktor | J6: =Faktorermittlung!B20 -> 1.4686877 | M6: Stichtag | O6: =TODAY() -> 43640
A7: Arbeit | B7: Produkt | E7: MB- | F7: Arbeits- | G7: Ar- | H7: Volumen | J7: Ø | K7: Zeitbedarf | M7: Planzeit | O7: Beschäftg.
A8: Produktbezeichnung | E8: Nr. | F8: verfahren | G8: beits- | J8: Leistg. | M8: Zu- | O8: Beleg-
F9: A/V | G9: form | H9: Menge | I9: Ein- | J9: je | K9: Einh. | L9: Pos. | M9: schl. | O9: schaft
F10: (Beschrbg.) | I10: heit | J10: Std. | K10: Std. | L10: Std. | M10: Faktor | N10: Std. | O10: Tage
A11: 1 | B11: 2 | C11: 3 | D11: 4 | E11: 5 | F11: 6 | G11: 7 | H11: 8 | I11: 9 | J11: 10 | K11: 11 | L11: 12 | M11: 13 | N11: 14 | O11: 15
K12: =IF(J12>0,1/J12,"") | L12: =IF(J12>0,H12*K12,"") | M12: =IF(ISBLANK(A12),"",$J$6) | N12: =IF(H12>0,L12*M12,"") | O12: =IF(H12="","",IF(G12="TA",N12/7.7/$J$5,IF(G12="EA",N12/7.7,IF(G12="ZA",N12/7.7/2,""))))
K13: =IF(J13>0,1/J13,"") | L13: =IF(J13>0,H13*K13,"") | M13: =IF(ISBLANK(A13),"",$J$6) | N13: =IF(H13>0,L13*M13,"") | O13: =IF(H13="","",IF(G13="TA",N13/7.7/$J$5,IF(G13="EA",N13/7.7,IF(G13="ZA",N13/7.7/2,""))))
K14: =IF(J14>0,1/J14,"") | L14: =IF(J14>0,H14*K14,"") | M14: =IF(ISBLANK(A14),"",$J$6) | N14: =IF(H14>0,L14*M14,"") | O14: =IF(H14="","",IF(G14="TA",N14/7.7/$J$5,IF(G14="EA",N14/7.7,IF(G14="ZA",N14/7.7/2,""))))
K15: =IF(J15>0,1/J15,"") | L15: =IF(J15>0,H15*K15,"") | M15: =IF(ISBLANK(A15),"",$J$6) | N15: =IF(H15>0,L15*M15,"") | O15: =IF(H15="","",IF(G15="TA",N15/7.7/$J$5,IF(G15="EA",N15/7.7,IF(G15="ZA",N15/7.7/2,""))))
K16: =IF(J16>0,1/J16,"") | L16: =IF(J16>0,H16*K16,"") | M16: =IF(ISBLANK(A16),"",$J$6) | N16: =IF(H16>0,L16*M16,"") | O16: =IF(H16="","",IF(G16="TA",N16/7.7/$J$5,IF(G16="EA",N16/7.7,IF(G16="ZA",N16/7.7/2,""))))
K17: =IF(J17>0,1/J17,"") | L17: =IF(J17>0,H17*K17,"") | M17: =IF(ISBLANK(A17),"",$J$6) | N17: =IF(H17>0,L17*M17,"") | O17: =IF(H17="","",IF(G17="TA",N17/7.7/$J$5,IF(G17="EA",N17/7.7,IF(G17="ZA",N17/7.7/2,""))))
K18: =IF(J18>0,1/J18,"") | L18: =IF(J18>0,H18*K18,"") | M18: =IF(ISBLANK(A18),"",$J$6) | N18: =IF(H18>0,L18*M18,"") | O18: =IF(H18="","",IF(G18="TA",N18/7.7/$J$5,IF(G18="EA",N18/7.7,IF(G18="ZA",N18/7.7/2,""))))
K19: =IF(J19>0,1/J19,"") | L19: =IF(J19>0,H19*K19,"") | M19: =IF(ISBLANK(A19),"",$J$6) | N19: =IF(H19>0,L19*M19,"") | O19: =IF(H19="","",IF(G19="TA",N19/7.7/$J$5,IF(G19="EA",N19/7.7,IF(G19="ZA",N19/7.7/2,""))))
K20: =IF(J20>0,1/J20,"") | L20: =IF(J20>0,H20*K20,"") | M20: =IF(ISBLANK(A20),"",$J$6) | N20: =IF(H20>0,L20*M20,"") | O20: =IF(H20="","",IF(G20="TA",N20/7.7/$J$5,IF(G20="EA",N20/7.7,IF(G20="ZA",N20/7.7/2,""))))
K21: =IF(J21>0,1/J21,"") | L21: =IF(J21>0,H21*K21,"") | M21: =IF(ISBLANK(A21),"",$J$6) | N21: =IF(H21>0,L21*M21,"") | O21: =IF(H21="","",IF(G21="TA",N21/7.7/$J$5,IF(G21="EA",N21/7.7,IF(G21="ZA",N21/7.7/2,""))))
K22: =IF(J22>0,1/J22,"") | L22: =IF(J22>0,H22*K22,"") | M22: =IF(ISBLANK(A22),"",$J$6) | N22: =IF(H22>0,L22*M22,"") | O22: =IF(H22="","",IF(G22="TA",N22/7.7/$J$5,IF(G22="EA",N22/7.7,IF(G22="ZA",N22/7.7/2,""))))
K23: =IF(J23>0,1/J23,"") | L23: =IF(J23>0,H23*K23,"") | M23: =IF(ISBLANK(A23),"",$J$6) | N23: =IF(H23>0,L23*M23,"") | O23: =IF(H23="","",IF(G23="TA",N23/7.7/$J$5,IF(G23="EA",N23/7.7,IF(G23="ZA",N23/7.7/2,""))))
... K55: =IF(J55>0,1/J55,"") | L55: =IF(J55>0,H55*K55,"") | M55: =IF(ISBLANK(A55),"",$J$6) | N55: =IF(H55>0,L55*M55,"") | O55: =IF(H55="","",IF(G55="TA",N55/7.7/$J$5,IF(G55="EA",N55/7.7,IF(G55="ZA",N55/7.7/2,""))))
A56: SUMME | B56: Gesamteinschlag | H56: =SUM(H12:H13) -> 0 | L56: =SUM(L12:L55) -> 0 | M56: =L56*J6 -> 0 | N56: =SUM(N12:N55) -> 0 | O56: =SUM(O12:O55) -> 0
L57: Kontrolle | N57: Fehl | O57: =IF(O5>O56,O56-O5,0) -> -59
N58: Mehr | O58: =IF(O56>O5,O56-O5,"")
A59: Holzernte Hauptarbeiten
A60: Holzernte Hauptarbeiten | B60: davon | E60: mm | H60: =SUMIF($F$12:$F$55,"1",$H$12:$H$55) -> 0 | I60: Aufarbeiten und Rücken
E61: Harvester | H61: =SUMIF($F$12:$F$55,"2",$H$12:$H$55) -> 0 | I61: Aufarbeiten und Rücken
E62: mm | H62: =SUMIF($F$12:$F$55,"11",$H$12:$H$55) -> 0 | I62: nur Aufarbeitung
E63: Harvester | H63: =SUMIF($F$12:$F$55,"12",$H$12:$H$55) -> 0 | I63: nur Aufarbeitung
E64: mm | H64: =SUMIF($F$12:$F$55,"21",$H$12:$H$55) -> 0 | I64: nur Rücken
E65: Harvester | H65: =SUMIF($F$12:$F$55,"22",$H$12:$H$55) -> 0 | I65: nur Rücken
E66: ohne | H66: =SUMIF($F$12:$F$55,"49",$H$12:$H$55) -> 0 | I66: (Selbstwerber, Käufereinschlag)
A67: Holzernte Nebenarbeiten
A68: Holzernte Nebenarbeiten | B68: davon | H68: =SUMIF($F$12:$F$55,"50",$H$12:$H$55) -> 0 | I68: Weiterbearbeitung
H69: =SUMIF($F$12:$F$55,"51",$H$12:$H$55) -> 0 | I69: Entrindung
H70: =SUMIF($F$12:$F$55,"52",$H$12:$H$55) -> 0 | I70: Holzschutz
H71: =SUMIF($F$12:$F$55,"53",$H$12:$H$55) -> 0 | I71: Splittersuche
H72: =SUMIF($F$12:$F$55,"55",$H$12:$H$55) -> 0 | I72: nur Fällen
H73: =SUMIF($F$12:$F$55,"60",$H$12:$H$55) -> 0 | I73: Lagerplätze
H74: =SUMIF($F$12:$F$55,"70",$H$12:$H$55) -> 0 | I74: Holztransport
H75: =SUMIF($F$12:$F$55,"80",$H$12:$H$55) -> 0 | I75: Auszeichnen
H76: =SUMIF($F$12:$F$55,"85",$H$12:$H$55) -> 0 | I76: Holzaufnahme
H77: =SUMIF($F$12:$F$55,"90",$H$12:$H$55) -> 0 | I77: Geräte und Material
H78: =SUMIF($F$12:$F$55,"95",$H$12:$H$55) -> 0 | I78: Sonstiges (z. b. Kronen einschneiden, Wege räumen u.a. im Zuge der Aufarbeitung)
A79: Veranstaltungen, Wettbewerbe, Kampagnen
A80: Wettbewerbe und Spiele | H80: =SUMIF($F$12:$F$55,"310",$H$12:$H$55) -> 0 | I80: Waldjugendspiele
A82: Betriebsführungen, Veranstaltungen und | H82: =SUMIF($F$12:$F$55,"401",$H$12:$H$55) -> 0 | I82: PR-Veranstaltungen
A83: Kampagnen | H83: =SUMIF($F$12:$F$55,"402",$H$12:$H$55) -> 0 | I83: Treffpunkt Wald u.a. Kampagnen
A84: Sonstige Arbeiten
A85: Sonstige Arbeiten | B85: Qualifizierung/Zugangslinien | H85: =SUMIF($F$12:$F$55,"535",$H$12:$H$55) -> 0 | I85: Zugangslinien manuell
H86: =SUMIF($F$12:$F$55,"536",$H$12:$H$55) -> 0 | I86: Zuganglinien maschinell
B87: Flächenschutz | H87: =SUMIF($F$12:$F$55,"550",$H$12:$H$55) -> 0 | I87: Zaunneubau
H88: =SUMIF($F$12:$F$55,"551",$H$12:$H$55) -> 0 | I88: Zaunabbau
H89: =SUMIF($F$12:$F$55,"552",$H$12:$H$55) -> 0 | I89: Zaunkontrolle (-reparatur)
B90: Förderung der Etablierung | H90: =SUMIF($F$12:$F$55,"560",$H$12:$H$55) -> 0 | I90: Fällen von Schattern
H91: =SUMIF($F$12:$F$55,"562",$H$12:$H$55) -> 0 | I91: Freilegen des Mineralbodens
H92: =SUMIF($F$12:$F$55,"563",$H$12:$H$55) -> 0 | I92: Einarbeitung von Samen
H93: =SUMIF($F$12:$F$55,"565",$H$12:$H$55) -> 0 | I93: Schlagpflege
H94: =SUMIF($F$12:$F$55,"566",$H$12:$H$55) -> 0 | I94: Regulieren der Vegetationskonkurrenz
B95: Künstliche Begründung | H95: =SUMIF($F$12:$F$55,"570",$H$12:$H$55) -> 0 | I95: Stückpflanzung
H96: =SUMIF($F$12:$F$55,"571",$H$12:$H$55) -> 0 | I96: Klumpenpflanzung
H97: =SUMIF($F$12:$F$55,"573",$H$12:$H$55) -> 0 | I97: Saat
B98: Qualifizierung | H98: =SUMIF($F$12:$F$55,"580",$H$12:$H$55) -> 0 | I98: Knicken / Ringeln
H99: =SUMIF($F$12:$F$55,"581",$H$12:$H$55) -> 0 | I99: Ausästen / Entfernen von Schlinggewächsen
B100: Dimensionierung/Wertästung | H100: =SUMIF($F$12:$F$55,"585",$H$12:$H$55) -> 0 | I100: Wertästung
B101: Dimensionierung | H101: =SUMIF($F$12:$F$55,"587",$H$12:$H$55) -> 0 | I101: Fällen von Bedrängern
B102: Reifung | H102: =SUMIF($F$12:$F$55,"590",$H$12:$H$55) -> 0 | I102: Fällen nachdrängender Bäume
B103: Einzelschutz | H103: =SUMIF($F$12:$F$55,"594",$H$12:$H$55) -> 0 | I103: Verbissschutz
H104: =SUMIF($F$12:$F$55,"596",$H$12:$H$55) -> 0 | I104: Fegeschutz
H105: =SUMIF($F$12:$F$55,"597",$H$12:$H$55) -> 0 | I105: Schälschutz

Sheet Besch.Plan_lang
A1: Forstamt | B1: =A!C5 -> NN | G1: Nr.: | H1: =A!F5 -> xx | N1: WJ | O1: =A!C11 -> 2019
A2: Technische Produktion | H2: =A!F7 -> 0
A3: taG | B3: =A!C9 -> NN | G3: Nr.: | H3: =A!F9 -> xx | O3: =TODAY() -> 43640
A4: Beschäftigungsplan | Q4: Dieser Beschäftigungsplan umfasst das gesamte Forstwirtschaftsjahr!
G5: Anzahl Arbeitskräfte | J5: 3 | K5: Planungszeitraum | M5: Arbeitstage | O5: =NETWORKDAYS("01.10.19","30.09.20")-10 -> 252
G6: Zuschlagsfaktor | J6: =Faktorermittlung!B20 -> 1.4686877 | M6: gesamtes FWJ
A7: Arbeit | B7: Produkt | E7: MB- | F7: Arbeits- | G7: Ar- | H7: Volumen | J7: Ø | K7: Zeitbedarf | M7: Planzeit | O7: Beschäftg.
A8: Produktbezeichnung | E8: Nr. | F8: verfahren | G8: beits- | J8: Leistg. | M8: Zu- | O8: Beleg-
F9: A/V | G9: form | H9: Menge | I9: Ein- | J9: je | K9: Einh. | L9: Pos. | M9: schl. | O9: schaft
F10: (Beschrbg.) | I10: heit | J10: Std. | K10: Std. | L10: Std. | M10: Faktor | N10: Std. | O10: Tage
A11: 1 | B11: 2 | C11: 3 | D11: 4 | E11: 5 | F11: 6 | G11: 7 | H11: 8 | I11: 9 | J11: 10 | K11: 11 | L11: 12 | M11: 13 | N11: 14 | O11: 15
K12: =IF(J12>0,1/J12,"") | L12: =IF(J12>0,H12*K12,"") | M12: =IF(ISBLANK(A12),"",$J$6) | N12: =IF(H12>0,L12*M12,"") | O12: =IF(H12="","",IF(G12="TA",N12/7.7/$J$5,IF(G12="EA",N12/7.7,IF(G12="ZA",N12/7.7/2,""))))
K13: =IF(J13>0,1/J13,"") | L13: =IF(J13>0,H13*K13,"") | M13: =IF(ISBLANK(A13),"",$J$6) | N13: =IF(H13>0,L13*M13,"") | O13: =IF(H13="","",IF(G13="TA",N13/7.7/$J$5,IF(G13="EA",N13/7.7,IF(G13="ZA",N13/7.7/2,""))))
K14: =IF(J14>0,1/J14,"") | L14: =IF(J14>0,H14*K14,"") | M14: =IF(ISBLANK(A14),"",$J$6) | N14: =IF(H14>0,L14*M14,"") | O14: =IF(H14="","",IF(G14="TA",N14/7.7/$J$5,IF(G14="EA",N14/7.7,IF(G14="ZA",N14/7.7/2,""))))
K15: =IF(J15>0,1/J15,"") | L15: =IF(J15>0,H15*K15,"") | M15: =IF(ISBLANK(A15),"",$J$6) | N15: =IF(H15>0,L15*M15,"") | O15: =IF(H15="","",IF(G15="TA",N15/7.7/$J$5,IF(G15="EA",N15/7.7,IF(G15="ZA",N15/7.7/2,""))))
K16: =IF(J16>0,1/J16,"") | L16: =IF(J16>0,H16*K16,"") | M16: =IF(ISBLANK(A16),"",$J$6) | N16: =IF(H16>0,L16*M16,"") | O16: =IF(H16="","",IF(G16="TA",N16/7.7/$J$5,IF(G16="EA",N16/7.7,IF(G16="ZA",N16/7.7/2,""))))
K17: =IF(J17>0,1/J17,"") | L17: =IF(J17>0,H17*K17,"") | M17: =IF(ISBLANK(A17),"",$J$6) | N17: =IF(H17>0,L17*M17,"") | O17: =IF(H17="","",IF(G17="TA",N17/7.7/$J$5,IF(G17="EA",N17/7.7,IF(G17="ZA",N17/7.7/2,""))))
K18: =IF(J18>0,1/J18,"") | L18: =IF(J18>0,H18*K18,"") | M18: =IF(ISBLANK(A18),"",$J$6) | N18: =IF(H18>0,L18*M18,"") | O18: =IF(H18="","",IF(G18="TA",N18/7.7/$J$5,IF(G18="EA",N18/7.7,IF(G18="ZA",N18/7.7/2,""))))
K19: =IF(J19>0,1/J19,"") | L19: =IF(J19>0,H19*K19,"") | M19: =IF(ISBLANK(A19),"",$J$6) | N19: =IF(H19>0,L19*M19,"") | O19: =IF(H19="","",IF(G19="TA",N19/7.7/$J$5,IF(G19="EA",N19/7.7,IF(G19="ZA",N19/7.7/2,""))))
K20: =IF(J20>0,1/J20,"") | L20: =IF(J20>0,H20*K20,"") | M20: =IF(ISBLANK(A20),"",$J$6) | N20: =IF(H20>0,L20*M20,"") | O20: =IF(H20="","",IF(G20="TA",N20/7.7/$J$5,IF(G20="EA",N20/7.7,IF(G20="ZA",N20/7.7/2,""))))
K21: =IF(J21>0,1/J21,"") | L21: =IF(J21>0,H21*K21,"") | M21: =IF(ISBLANK(A21),"",$J$6) | N21: =IF(H21>0,L21*M21,"") | O21: =IF(H21="","",IF(G21="TA",N21/7.7/$J$5,IF(G21="EA",N21/7.7,IF(G21="ZA",N21/7.7/2,""))))
K22: =IF(J22>0,1/J22,"") | L22: =IF(J22>0,H22*K22,"") | M22: =IF(ISBLANK(A22),"",$J$6) | N22: =IF(H22>0,L22*M22,"") | O22: =IF(H22="","",IF(G22="TA",N22/7.7/$J$5,IF(G22="EA",N22/7.7,IF(G22="ZA",N22/7.7/2,""))))
K23: =IF(J23>0,1/J23,"") | L23: =IF(J23>0,H23*K23,"") | M23: =IF(ISBLANK(A23),"",$J$6) | N23: =IF(H23>0,L23*M23,"") | O23: =IF(H23="","",IF(G23="TA",N23/7.7/$J$5,IF(G23="EA",N23/7.7,IF(G23="ZA",N23/7.7/2,""))))
... K55: =IF(J55>0,1/J55,"") | L55: =IF(J55>0,H55*K55,"") | M55: =IF(ISBLANK(A55),"",$J$6) | N55: =IF(H55>0,L55*M55,"") | O55: =IF(H55="","",IF(G55="TA",N55/7.7/$J$5,IF(G55="EA",N55/7.7,IF(G55="ZA",N55/7.7/2,""))))
A56: SUMME | B56: Gesamteinschlag | H56: =SUM(H12:H13) -> 0 | L56: =SUM(L12:L55) -> 0 | M56: =L56*J6 -> 0 | N56: =SUM(N12:N55) -> 0 | O56: =SUM(O12:O55) -> 0
L57: Kontrolle | N57: Fehl | O57: =IF(O5>O56,O56-O5,0) -> -252
N58: Mehr | O58: =IF(O56>O5,O56-O5,"")
A59: Holzernte Hauptarbeiten
A60: Holzernte Hauptarbeiten | B60: davon | E60: mm | H60: =SUMIF($F$12:$F$55,"1",$H$12:$H$55) -> 0 | I60: Aufarbeiten und Rücken
E61: Harvester | H61: =SUMIF($F$12:$F$55,"2",$H$12:$H$55) -> 0 | I61: Aufarbeiten und Rücken
E62: mm | H62: =SUMIF($F$12:$F$55,"11",$H$12:$H$55) -> 0 | I62: nur Aufarbeitung
E63: Harvester | H63: =SUMIF($F$12:$F$55,"12",$H$12:$H$55) -> 0 | I63: nur Aufarbeitung
E64: mm | H64: =SUMIF($F$12:$F$55,"21",$H$12:$H$55) -> 0 | I64: nur Rücken
E65: Harvester | H65: =SUMIF($F$12:$F$55,"22",$H$12:$H$55) -> 0 | I65: nur Rücken
E66: ohne | H66: =SUMIF($F$12:$F$55,"49",$H$12:$H$55) -> 0 | I66: (Selbstwerber, Käufereinschlag)
A67: Holzernte Nebenarbeiten
A68: Holzernte Nebenarbeiten | B68: davon | H68: =SUMIF($F$12:$F$55,"50",$H$12:$H$55) -> 0 | I68: Weiterbearbeitung
H69: =SUMIF($F$12:$F$55,"51",$H$12:$H$55) -> 0 | I69: Entrindung
H70: =SUMIF($F$12:$F$55,"52",$H$12:$H$55) -> 0 | I70: Holzschutz
H71: =SUMIF($F$12:$F$55,"53",$H$12:$H$55) -> 0 | I71: Splittersuche
H72: =SUMIF($F$12:$F$55,"55",$H$12:$H$55) -> 0 | I72: nur Fällen
H73: =SUMIF($F$12:$F$55,"60",$H$12:$H$55) -> 0 | I73: Lagerplätze
H74: =SUMIF($F$12:$F$55,"70",$H$12:$H$55) -> 0 | I74: Holztransport
H75: =SUMIF($F$12:$F$55,"80",$H$12:$H$55) -> 0 | I75: Auszeichnen
H76: =SUMIF($F$12:$F$55,"85",$H$12:$H$55) -> 0 | I76: Holzaufnahme
H77: =SUMIF($F$12:$F$55,"90",$H$12:$H$55) -> 0 | I77: Geräte und Material
H78: =SUMIF($F$12:$F$55,"95",$H$12:$H$55) -> 0 | I78: Sonstiges (z. b. Kronen einschneiden, Wege räumen u.a. im Zuge der Aufarbeitung)
A79: Veranstaltungen, Wettbewerbe, Kampagnen
A80: Wettbewerbe und Spiele | H80: =SUMIF($F$12:$F$55,"310",$H$12:$H$55) -> 0 | I80: Waldjugendspiele
A82: Veranstaltungen, Kampagnen | H82: =SUMIF($F$12:$F$55,"401",$H$12:$H$55) -> 0 | I82: PR-Veranstaltungen
H83: =SUMIF($F$12:$F$55,"402",$H$12:$H$55) -> 0 | I83: Treffpunkt Wald u.a. Kampagnen
A84: Sonstige Arbeiten
A85: Sonstige Arbeiten | B85: Qualifizierung/Zugangslinien | H85: =SUMIF($F$12:$F$55,"535",$H$12:$H$55) -> 0 | I85: Zugangslinien manuell
H86: =SUMIF($F$12:$F$55,"536",$H$12:$H$55) -> 0 | I86: Zuganglinien maschinell
B87: Flächenschutz | H87: =SUMIF($F$12:$F$55,"550",$H$12:$H$55) -> 0 | I87: Zaunneubau
H88: =SUMIF($F$12:$F$55,"551",$H$12:$H$55) -> 0 | I88: Zaunabbau
H89: =SUMIF($F$12:$F$55,"552",$H$12:$H$55) -> 0 | I89: Zaunkontrolle (-reparatur)
B90: Förderung der Etablierung | H90: =SUMIF($F$12:$F$55,"560",$H$12:$H$55) -> 0 | I90: Fällen von Schattern
H91: =SUMIF($F$12:$F$55,"562",$H$12:$H$55) -> 0 | I91: Freilegen des Mineralbodens
H92: =SUMIF($F$12:$F$55,"563",$H$12:$H$55) -> 0 | I92: Einarbeitung von Samen
H93: =SUMIF($F$12:$F$55,"565",$H$12:$H$55) -> 0 | I93: Schlagpflege
H94: =SUMIF($F$12:$F$55,"566",$H$12:$H$55) -> 0 | I94: Regulieren der Vegetationskonkurrenz
B95: Künstliche Begründung | H95: =SUMIF($F$12:$F$55,"570",$H$12:$H$55) -> 0 | I95: Stückpflanzung
H96: =SUMIF($F$12:$F$55,"571",$H$12:$H$55) -> 0 | I96: Klumpenpflanzung
H97: =SUMIF($F$12:$F$55,"573",$H$12:$H$55) -> 0 | I97: Saat
B98: Qualifizierung | H98: =SUMIF($F$12:$F$55,"580",$H$12:$H$55) -> 0 | I98: Knicken / Ringeln
H99: =SUMIF($F$12:$F$55,"581",$H$12:$H$55) -> 0 | I99: Ausästen / Entfernen von Schlinggewächsen
B100: Dimensionierung/Wertästung | H100: =SUMIF($F$12:$F$55,"585",$H$12:$H$55) -> 0 | I100: Wertästung
B101: Dimensionierung | H101: =SUMIF($F$12:$F$55,"587",$H$12:$H$55) -> 0 | I101: Fällen von Bedrängern
B102: Reifung | H102: =SUMIF($F$12:$F$55,"590",$H$12:$H$55) -> 0 | I102: Fällen nachdrängender Bäume
B103: Einzelschutz | H103: =SUMIF($F$12:$F$55,"594",$H$12:$H$55) -> 0 | I103: Verbissschutz
H104: =SUMIF($F$12:$F$55,"596",$H$12:$H$55) -> 0 | I104: Fegeschutz
H105: =SUMIF($F$12:$F$55,"597",$H$12:$H$55) -> 0 | I105: Schälschutz

Sheet Faktorermittlung
A1: Ermittlung des Zuschlagsfaktors für die Beschäftigungsplanung
A2: FWJ 2004
A5: Monat | B5: AStd. | C5: Nicht-
C6: AStd.
A7: Oktober | B7: 523 | C7: 144.5 | D7: Nicht-AStd.:
A8: November | D8: Urlaubs-, Krankheits-, Schlechtwetter-, Lohnfortzahlungs-
A9: Dezember | D9: (ohne Feiertage!), Winter- und Fehlstunden
A10: Januar | B10: 473 | C10: 304.5
A11: Februar | B11: 608.5 | C11: 109.5 | D11: Faktorermittlung:
A12: März | B12: 402 | C12: 356 | D12: NichtAStd. + AStd. : AStd.
A13: April | B13: 510 | C13: 289
A14: Mai | B14: 372.5 | C14: 395
A15: Juni | B15: 474.5 | C15: 283.5
A16: Juli | B16: 640 | C16: 109.5
A17: August | B17: 351 | C17: 302.5
A18: September | B18: 659.5 | C18: 56
A19: Summe: | B19: =SUM(B7:B18) -> 5014 | C19: =SUM(C7:C18) -> 2350 | D19: =SUM(B19:C19) -> 7364 | E19: Gesamtstunden
A20: Faktor: | B20: =(B19+C19)/B19 -> 1.4686877

Sheet Code AV
A1: Code A/V
A2: Arbeitsverfahren | B2: Arbeit | C2: Code
A3: Holzernte mm | B3: Aufarbeiten und Rücken | C3: 1 | D3: Sie können eigenen Code entwickeln und einfügen!
A4: Holzernte HV | B4: Aufarbeiten und Rücken | C4: 2 | D4: Die Formeln der Zusammenstellung müssen dann mit Ihrem Code ergänzt werden.
A5: Holzernte mm | B5: Aufarbeiten | C5: 11
A6: Holzernte HV | B6: Aufarbeiten | C6: 12
A7: Holzernte mm | B7: nur Rücken | C7: 21
A8: Holzernte HV | B8: nur Rücken | C8: 22
A9: Holzernte | B9: Selbstwerber, Käufereinschlag | C9: 49
A11: Holzernte Nebenarbeiten | B11: Weiterbearbeitung | C11: 50
A12: Holzernte Nebenarbeiten | B12: Entrindung | C12: 51
A13: Holzernte Nebenarbeiten | B13: Holzschutz | C13: 52
A14: Holzernte Nebenarbeiten | B14: Splittersuche | C14: 53
A15: Holzernte Nebenarbeiten | B15: nur Fällen | C15: 55
A16: Holzernte Nebenarbeiten | B16: Lagerplätze | C16: 60
A17: Holzernte Nebenarbeiten | B17: Holztransport | C17: 70
... A47: Sonstige Arbeiten | B47: Schälschutz | C47: 597
